From mboxrd@z Thu Jan  1 00:00:00 1970
Return-Path: <test-report-bounces@dpdk.org>
Received: from mails.dpdk.org (mails.dpdk.org [217.70.189.124])
	by inbox.dpdk.org (Postfix) with ESMTP id E722B43F09
	for <public@inbox.dpdk.org>; Thu, 25 Apr 2024 20:10:13 +0200 (CEST)
Received: from mails.dpdk.org (localhost [127.0.0.1])
	by mails.dpdk.org (Postfix) with ESMTP id DB7C640A67;
	Thu, 25 Apr 2024 20:10:13 +0200 (CEST)
Received: from mail-pl1-f227.google.com (mail-pl1-f227.google.com
 [209.85.214.227])
 by mails.dpdk.org (Postfix) with ESMTP id D44E940282
 for <test-report@dpdk.org>; Thu, 25 Apr 2024 20:10:06 +0200 (CEST)
Received: by mail-pl1-f227.google.com with SMTP id
 d9443c01a7336-1e4c4fb6af3so10111545ad.0
 for <test-report@dpdk.org>; Thu, 25 Apr 2024 11:10:06 -0700 (PDT)
DKIM-Signature: v=1; a=rsa-sha256; c=relaxed/relaxed;
 d=iol.unh.edu; s=unh-iol; t=1714068606; x=1714673406; darn=dpdk.org;
 h=references:in-reply-to:cc:to:from:subject:message-id:date:from:to
 :cc:subject:date:message-id:reply-to;
 bh=toRu5GVW4ZAiMLsXMOXcEQeSrQ+xWLPG+CPcFXBIDxw=;
 b=XHlLCHbyf5ceO6YnnjoNqzX+pHNSmKkuNmvPdjr/xu5g8odO618IW9XcWUqdN58zS3
 SZiDe72ZxQ7dGt+Yjy5g6P8zgDPNsglAZS+w8Ypw+ryEvDUg8dLPpcNYvAyyom/vER1A
 JdQw5SbflEy6uSKGnaCv+EQJVME9VLm15/Dhc=
X-Google-DKIM-Signature: v=1; a=rsa-sha256; c=relaxed/relaxed;
 d=1e100.net; s=20230601; t=1714068606; x=1714673406;
 h=references:in-reply-to:cc:to:from:subject:message-id:date
 :x-gm-message-state:from:to:cc:subject:date:message-id:reply-to;
 bh=toRu5GVW4ZAiMLsXMOXcEQeSrQ+xWLPG+CPcFXBIDxw=;
 b=qjW8R4FXKpN4ZS0Z4olweVUnz0keGWTvvqWtqti+6vGrYx5RCvyzpOiHM1Ljbdm1JI
 26iQ+lp3QJfAIioyc6FmbERtJGAOq6zx4zAUMopBTLsTtpREV4fBy0cgNUi3n7eaIcBh
 9oALcJFWedzSlz32TrIIZkQkUsqFHEKzEVLL/P9Tv7QHiNO9HVd8gR1W/AWlB1Yb8PQu
 wjHufnPtPayscaBohb1SKzfe6Esw1VINfFj6HF+vW6x14Ff0r8rj3AMsMr64IwfZ4o/1
 cYYm1MOeVc6zeq8LzDy4JcJRfYDnAxA1cQKMqauWHjyJ5d4zAX8uBQA2vAGlYCKlZhmi
 nHDw==
X-Gm-Message-State: AOJu0Ywypnt3DuvS7A+rS3+ULkqAakp2l1r3QDOXBJlWkqTwwTnOQB/P
 8JdlMEGokHScim9fx5F9Qe3vI+MbKKkAoVvqFdWBTj2cWPC/Awhz0x6rDvfia6WWiTCCTlP4niR
 vbmZ4ACvJUnN2VtB9Pd11mQOabKV9ajQdn+L923VO
X-Google-Smtp-Source: AGHT+IFkUUo9uiNKQLTpSJNXS2f7c3zOccJ8UHCXtBp3kQJSqHc9eydTZv5nsO/5tNlSv2RF1kQKKFeowWXM
X-Received: by 2002:a17:902:ec8f:b0:1e0:e8b5:3225 with SMTP id
 x15-20020a170902ec8f00b001e0e8b53225mr734160plg.12.1714068606044; 
 Thu, 25 Apr 2024 11:10:06 -0700 (PDT)
Received: from postal.iol.unh.edu (postal.iol.unh.edu. [132.177.123.84])
 by smtp-relay.gmail.com with ESMTPS id
 q20-20020a170902bd9400b001e85371d3a6sm496204pls.123.2024.04.25.11.10.05
 (version=TLS1_2 cipher=ECDHE-ECDSA-AES128-GCM-SHA256 bits=128/128);
 Thu, 25 Apr 2024 11:10:06 -0700 (PDT)
X-Relaying-Domain: iol.unh.edu
Date: Thu, 25 Apr 2024 11:10:06 -0700 (PDT)
Message-ID: <662a9c7e.170a0220.eb12c.8eb0SMTPIN_ADDED_MISSING@mx.google.com>
Received: from [172.21.0.8] (unknown [172.18.0.240])
 by postal.iol.unh.edu (Postfix) with ESMTP id 6FCDE6052514;
 Thu, 25 Apr 2024 14:10:05 -0400 (EDT)
Subject: |SUCCESS| pw139680 [PATCH] [v1,1/1] docs: af_xdp device plugin repo 
From: dpdklab@iol.unh.edu
To: Test Report <test-report@dpdk.org>
Cc: dpdk-test-reports@iol.unh.edu
In-Reply-To: <20240425150902.1364384-1-mtahhan@redhat.com>
References: <20240425150902.1364384-1-mtahhan@redhat.com>
Content-Type: text/plain
X-BeenThere: test-report@dpdk.org
X-Mailman-Version: 2.1.29
Precedence: list
List-Id: automatic DPDK test reports <test-report.dpdk.org>
List-Unsubscribe: <https://mails.dpdk.org/options/test-report>,
 <mailto:test-report-request@dpdk.org?subject=unsubscribe>
List-Archive: <http://mails.dpdk.org/archives/test-report/>
List-Post: <mailto:test-report@dpdk.org>
List-Help: <mailto:test-report-request@dpdk.org?subject=help>
List-Subscribe: <https://mails.dpdk.org/listinfo/test-report>,
 <mailto:test-report-request@dpdk.org?subject=subscribe>
Errors-To: test-report-bounces@dpdk.org

Test-Label: iol-compile-amd64-testing
Test-Status: SUCCESS
http://dpdk.org/patch/139680

_Testing PASS_

Submitter: Maryam Tahhan <mtahhan@redhat.com>
Date: Thursday, April 25 2024 15:08:59 
DPDK git baseline: Repo:dpdk
  Branch: master
  CommitID:7e06c0de1952d3109a5b0c4779d7e7d8059c9d78

139680 --> testing pass

Test environment and result as below:

+---------------------+--------------------+----------------------+-------------------+
|     Environment     | dpdk_meson_compile | dpdk_mingw64_compile | dpdk_msvc_compile |
+=====================+====================+======================+===================+
| FreeBSD 13.3        | PASS               | SKIPPED              | SKIPPED           |
+---------------------+--------------------+----------------------+-------------------+
| Windows Server 2019 | PASS               | PASS                 | SKIPPED           |
+---------------------+--------------------+----------------------+-------------------+
| Windows Server 2022 | SKIPPED            | SKIPPED              | PASS              |
+---------------------+--------------------+----------------------+-------------------+


FreeBSD 13.3
	Kernel: 13.3-RELEASE-p1
	Compiler: clang 17.0.6

Windows Server 2019
	Kernel: 10.0.17763
	Compiler: clang 14.0 and gcc 8.1.0 (MinGW)

Windows Server 2022
	Kernel: 10.0.20348.2031
	Compiler: clang 15.0.7, gcc 8.1.0 (MinGW), and MSVC VS 17.9

To view detailed results, visit:
https://lab.dpdk.org/results/dashboard/patchsets/29856/

UNH-IOL DPDK Community Lab

To manage your email subscriptions, visit: 
https://lab.dpdk.org/results/dashboard/preferences/subscriptions/