From mboxrd@z Thu Jan  1 00:00:00 1970
Return-Path: <test-report-bounces@dpdk.org>
Received: from mails.dpdk.org (mails.dpdk.org [217.70.189.124])
	by inbox.dpdk.org (Postfix) with ESMTP id E96D143F09
	for <public@inbox.dpdk.org>; Thu, 25 Apr 2024 20:53:13 +0200 (CEST)
Received: from mails.dpdk.org (localhost [127.0.0.1])
	by mails.dpdk.org (Postfix) with ESMTP id E5F6A43943;
	Thu, 25 Apr 2024 20:53:13 +0200 (CEST)
Received: from mail-vk1-f228.google.com (mail-vk1-f228.google.com
 [209.85.221.228])
 by mails.dpdk.org (Postfix) with ESMTP id 3396C40A67
 for <test-report@dpdk.org>; Thu, 25 Apr 2024 20:53:13 +0200 (CEST)
Received: by mail-vk1-f228.google.com with SMTP id
 71dfb90a1353d-4dac88c79f2so438659e0c.1
 for <test-report@dpdk.org>; Thu, 25 Apr 2024 11:53:13 -0700 (PDT)
DKIM-Signature: v=1; a=rsa-sha256; c=relaxed/relaxed;
 d=iol.unh.edu; s=unh-iol; t=1714071192; x=1714675992; darn=dpdk.org;
 h=references:in-reply-to:cc:to:from:subject:message-id:date:from:to
 :cc:subject:date:message-id:reply-to;
 bh=NUCE4iy5v1J7nk27lVbRHbSsky8/69t2V81owdiFL6s=;
 b=aYxgq95i5kfRH9AcqZOC8M+huzJMrLjUtD0ZEt9hROMmjF7RV3/SClb/vOhIniY+ZP
 UNpcbBIhB7uLyFNLBHvDP5901ZxjFKOk4oTNYymAjHz09gF00bT1WkNLSLm20nZOJbgH
 rl3xTRoBnj8rUyAWZFSQbgoMaQQ3J718svxHQ=
X-Google-DKIM-Signature: v=1; a=rsa-sha256; c=relaxed/relaxed;
 d=1e100.net; s=20230601; t=1714071192; x=1714675992;
 h=references:in-reply-to:cc:to:from:subject:message-id:date
 :x-gm-message-state:from:to:cc:subject:date:message-id:reply-to;
 bh=NUCE4iy5v1J7nk27lVbRHbSsky8/69t2V81owdiFL6s=;
 b=iYN/MMGilYG7ZXDa947FtcFe02x+G9L9jkq6dt4Qq4/+UW9O7L/8IepaBDVeqtpawm
 cN0fKWjjdEaT7Dw2x+73fm4XwpnS7yJ7A4gFWVAnseeoNMrOB+2KKksIms+XpIiEVbGb
 lK0YycBsn/0NPjgRsjgpG6TYETZ1f53ahD+TtOXT0JzUof6KH0rzRy22GPKgERucmgTh
 rJBleTBu+r8m7fza6J7D11YGtouEc5maosBEpaNJhgXuyZnIzSkb7OFRN6k8s9Lacqf8
 thwnYh/R94Zt+XNlCfLdAwNW47hszNYECzXU6EzUZ/8DVGEnCN9T+lAzq54mOS6i5IJu
 KlKQ==
X-Gm-Message-State: AOJu0YyrJKS+Ixu7BI9yvKwDmyQTV5YJ/3VxMyZ9JtZEagRYiRtyEPw0
 PjWFmcykhp9Ey3kFNvHH3K/zsEFdIz2Do/BR/OQKISieDsnBblhgkk6rbK6cwcnJyrRIvp3teOt
 tIrgxSIO8/s9sop9zdJH5Fd3lvZo2+hicwBIE6tgOK17AxjP6Q1mxKEOy
X-Google-Smtp-Source: AGHT+IGiIyqNA4nbmuu3PWnqHZcnJVV/r9hBU77eXxngnOwHn4EBPoOHR+WVLnk0coOdL393xR0KQxdTzLfj
X-Received: by 2002:a67:fc06:0:b0:47b:d8d4:100e with SMTP id
 o6-20020a67fc06000000b0047bd8d4100emr470921vsq.19.1714071192328; 
 Thu, 25 Apr 2024 11:53:12 -0700 (PDT)
Received: from postal.iol.unh.edu (postal.iol.unh.edu.
 [2606:4100:3880:1234::84]) by smtp-relay.gmail.com with ESMTPS id
 a13-20020ab03c8d000000b007eb42755a53sm865298uax.1.2024.04.25.11.53.12
 (version=TLS1_2 cipher=ECDHE-ECDSA-AES128-GCM-SHA256 bits=128/128);
 Thu, 25 Apr 2024 11:53:12 -0700 (PDT)
X-Relaying-Domain: iol.unh.edu
Date: Thu, 25 Apr 2024 11:53:12 -0700 (PDT)
Message-ID: <662aa698.b00a0220.c2ea5.8132SMTPIN_ADDED_MISSING@mx.google.com>
Received: from [172.21.0.6] (unknown [172.18.0.240])
 by postal.iol.unh.edu (Postfix) with ESMTP id 016156052514;
 Thu, 25 Apr 2024 14:53:12 -0400 (EDT)
Subject: |SUCCESS| pw139681 [PATCH] ethdev: document that stats reset APIs ar
From: dpdklab@iol.unh.edu
To: Test Report <test-report@dpdk.org>
Cc: dpdk-test-reports@iol.unh.edu
In-Reply-To: <20240425165308.1078454-1-ferruh.yigit@amd.com>
References: <20240425165308.1078454-1-ferruh.yigit@amd.com>
Content-Type: text/plain
X-BeenThere: test-report@dpdk.org
X-Mailman-Version: 2.1.29
Precedence: list
List-Id: automatic DPDK test reports <test-report.dpdk.org>
List-Unsubscribe: <https://mails.dpdk.org/options/test-report>,
 <mailto:test-report-request@dpdk.org?subject=unsubscribe>
List-Archive: <http://mails.dpdk.org/archives/test-report/>
List-Post: <mailto:test-report@dpdk.org>
List-Help: <mailto:test-report-request@dpdk.org?subject=help>
List-Subscribe: <https://mails.dpdk.org/listinfo/test-report>,
 <mailto:test-report-request@dpdk.org?subject=subscribe>
Errors-To: test-report-bounces@dpdk.org

Test-Label: iol-compile-arm64-testing
Test-Status: SUCCESS
http://dpdk.org/patch/139681

_Testing PASS_

Submitter: Ferruh Yigit <ferruh.yigit@amd.com>
Date: Thursday, April 25 2024 16:53:08 
DPDK git baseline: Repo:dpdk
  Branch: master
  CommitID:8841786ab4aa72d205f97528af8708a13a851f4f

139681 --> testing pass

Test environment and result as below:

+----------------------------------------+--------------------+
|              Environment               | dpdk_meson_compile |
+========================================+====================+
| Ubuntu 20.04 ARM SVE                   | PASS               |
+----------------------------------------+--------------------+
| Debian 12 with MUSDK                   | PASS               |
+----------------------------------------+--------------------+
| Ubuntu 20.04 aarch32 GCC Cross Compile | PASS               |
+----------------------------------------+--------------------+
| Ubuntu 20.04 ARM Clang Cross Compile   | PASS               |
+----------------------------------------+--------------------+
| Fedora 37 (ARM)                        | PASS               |
+----------------------------------------+--------------------+
| Fedora 39 (ARM)                        | PASS               |
+----------------------------------------+--------------------+
| Debian 12 (arm)                        | PASS               |
+----------------------------------------+--------------------+
| Ubuntu 20.04 ARM GCC Cross Compile     | PASS               |
+----------------------------------------+--------------------+
| Fedora 38 (ARM)                        | PASS               |
+----------------------------------------+--------------------+


Ubuntu 20.04 ARM SVE
	Kernel: 5.4.0-167-generic
	Compiler: gcc (Ubuntu 10.5.0-1ubuntu1~20.04) 10.5.0

Debian 12 with MUSDK
	Kernel: Container Host Kernel
	Compiler: gcc 12.2.0

Ubuntu 20.04 aarch32 GCC Cross Compile
	Kernel: 5.4.0-167-generic
	Compiler: gcc 9.4.0

Ubuntu 20.04 ARM Clang Cross Compile
	Kernel: 5.4.0-72-generic
	Compiler: clang 10.0.0-4ubuntu1

Fedora 37 (ARM)
	Kernel: Depends on container host
	Compiler: gcc 12.3.1

Fedora 39 (ARM)
	Kernel: Depends on container host
	Compiler: gcc 13.2.1

Debian 12 (arm)
	Kernel: Container Host Kernel
	Compiler: gcc 12.2.0

Ubuntu 20.04 ARM GCC Cross Compile
	Kernel: 5.4.0-167-generic
	Compiler: aarch64-linux-gnu-gcc (Ubuntu 9.4.0-1ubuntu1~20.04.2) 9.4.0

Fedora 38 (ARM)
	Kernel: Depends on container host
	Compiler: gcc 13.2.1

To view detailed results, visit:
https://lab.dpdk.org/results/dashboard/patchsets/29857/

UNH-IOL DPDK Community Lab

To manage your email subscriptions, visit: 
https://lab.dpdk.org/results/dashboard/preferences/subscriptions/