From mboxrd@z Thu Jan  1 00:00:00 1970
Return-Path: <test-report-bounces@dpdk.org>
Received: from mails.dpdk.org (mails.dpdk.org [217.70.189.124])
	by inbox.dpdk.org (Postfix) with ESMTP id B0D5743F09
	for <public@inbox.dpdk.org>; Thu, 25 Apr 2024 20:59:12 +0200 (CEST)
Received: from mails.dpdk.org (localhost [127.0.0.1])
	by mails.dpdk.org (Postfix) with ESMTP id AC6DD43943;
	Thu, 25 Apr 2024 20:59:12 +0200 (CEST)
Received: from mail-yw1-f228.google.com (mail-yw1-f228.google.com
 [209.85.128.228])
 by mails.dpdk.org (Postfix) with ESMTP id F0A5740A67
 for <test-report@dpdk.org>; Thu, 25 Apr 2024 20:59:10 +0200 (CEST)
Received: by mail-yw1-f228.google.com with SMTP id
 00721157ae682-618944792c3so15176807b3.1
 for <test-report@dpdk.org>; Thu, 25 Apr 2024 11:59:10 -0700 (PDT)
DKIM-Signature: v=1; a=rsa-sha256; c=relaxed/relaxed;
 d=iol.unh.edu; s=unh-iol; t=1714071550; x=1714676350; darn=dpdk.org;
 h=references:in-reply-to:cc:to:from:subject:message-id:date:from:to
 :cc:subject:date:message-id:reply-to;
 bh=6h4HUCcvrEbmrh0PyVPkTCvvoloWk6GuyQ5ed9/FHTs=;
 b=WhIo7OsMpdeAEXog1Ef4m4ha1KdjDQSmoHBw/laZBrPP4HN4fFmCcSTMgdIyIufYuR
 0VcoD1xK7B/39QOB9fquXkRwIQkEy/dEcsPEYjvvpk8CTnf+yJIcRw+z/yIiUCqXecyO
 32sO7ImF0WavYS2noKRw6nq8ndJ3u6dkbaJQA=
X-Google-DKIM-Signature: v=1; a=rsa-sha256; c=relaxed/relaxed;
 d=1e100.net; s=20230601; t=1714071550; x=1714676350;
 h=references:in-reply-to:cc:to:from:subject:message-id:date
 :x-gm-message-state:from:to:cc:subject:date:message-id:reply-to;
 bh=6h4HUCcvrEbmrh0PyVPkTCvvoloWk6GuyQ5ed9/FHTs=;
 b=pS93VD1WdMT0y+BrKUEYYmKJUhWH6iypH9LOetDwCJZCKOIUh1PmQxalbovRjlmDRS
 J92ngcCeD5isBdrYm5xZTXoapDY/y/rXmhX/Sa9hnv0k46RVYT225Pka66KTsQASI4C4
 MuLjLx0kQTyjolz8UlecO9zwCubPtT6nYjzgAAT6kFzjLkPzH1Q00OxEMsVavIROmAJf
 U98bspIqoFrCrG/mAxWblu0qbaVHcF7xyA0s2C7dC+wDFZybi2Ko1KugraxAB2oFMPCE
 eVpTQw/6mVDc7lurUuV30GdC5czcYuRYWmGiYNHGU4lSTEw4ombGi4f4IhF3Fd2O148W
 2ziA==
X-Gm-Message-State: AOJu0YyrrnjkFheOkdN5RgysfU1tW578jWuvuXyEKbaNhLyQbLUvjAZW
 hBVfU146IJ/VprJWJgnZY0nvdppOiDcloQmZVlDtv4w1G8YqKNl0ddFs1iOD5wGOz8pi6yjlMaN
 ZJh7dhLeJmmi5012AUqWYQRGq5djOKTA/0CiR5WQP
X-Google-Smtp-Source: AGHT+IHf1I1ktemSuhEXMcGToBKoqwphQ/LO+Xhb9G3Rb1BtKz3f7PZZEza5Lv12LxogIXnbVSbartnQfJP9
X-Received: by 2002:a05:690c:610d:b0:61b:3346:83ce with SMTP id
 hi13-20020a05690c610d00b0061b334683cemr392593ywb.15.1714071550339; 
 Thu, 25 Apr 2024 11:59:10 -0700 (PDT)
Received: from postal.iol.unh.edu (postal.iol.unh.edu. [132.177.123.84])
 by smtp-relay.gmail.com with ESMTPS id
 p2-20020a815b02000000b0061ad5ab6b32sm1247716ywb.16.2024.04.25.11.59.10
 (version=TLS1_2 cipher=ECDHE-ECDSA-AES128-GCM-SHA256 bits=128/128);
 Thu, 25 Apr 2024 11:59:10 -0700 (PDT)
X-Relaying-Domain: iol.unh.edu
Date: Thu, 25 Apr 2024 11:59:10 -0700 (PDT)
Message-ID: <662aa7fe.810a0220.2e918.2e53SMTPIN_ADDED_MISSING@mx.google.com>
Received: from [172.21.0.6] (unknown [172.18.0.240])
 by postal.iol.unh.edu (Postfix) with ESMTP id E79546052514;
 Thu, 25 Apr 2024 14:59:09 -0400 (EDT)
Subject: |SUCCESS| pw139680 [PATCH] [v1,1/1] docs: af_xdp device plugin repo 
From: dpdklab@iol.unh.edu
To: Test Report <test-report@dpdk.org>
Cc: dpdk-test-reports@iol.unh.edu
In-Reply-To: <20240425150902.1364384-1-mtahhan@redhat.com>
References: <20240425150902.1364384-1-mtahhan@redhat.com>
Content-Type: text/plain
X-BeenThere: test-report@dpdk.org
X-Mailman-Version: 2.1.29
Precedence: list
List-Id: automatic DPDK test reports <test-report.dpdk.org>
List-Unsubscribe: <https://mails.dpdk.org/options/test-report>,
 <mailto:test-report-request@dpdk.org?subject=unsubscribe>
List-Archive: <http://mails.dpdk.org/archives/test-report/>
List-Post: <mailto:test-report@dpdk.org>
List-Help: <mailto:test-report-request@dpdk.org?subject=help>
List-Subscribe: <https://mails.dpdk.org/listinfo/test-report>,
 <mailto:test-report-request@dpdk.org?subject=subscribe>
Errors-To: test-report-bounces@dpdk.org

Test-Label: iol-abi-testing
Test-Status: SUCCESS
http://dpdk.org/patch/139680

_Testing PASS_

Submitter: Maryam Tahhan <mtahhan@redhat.com>
Date: Thursday, April 25 2024 15:08:59 
DPDK git baseline: Repo:dpdk
  Branch: master
  CommitID:7e06c0de1952d3109a5b0c4779d7e7d8059c9d78

139680 --> testing pass

Test environment and result as below:

+-----------------+----------+
|   Environment   | abi_test |
+=================+==========+
| CentOS Stream 8 | PASS     |
+-----------------+----------+
| Fedora 38       | PASS     |
+-----------------+----------+
| Ubuntu 22.04    | PASS     |
+-----------------+----------+
| Debian Bullseye | PASS     |
+-----------------+----------+
| CentOS Stream 9 | PASS     |
+-----------------+----------+
| Fedora 37       | PASS     |
+-----------------+----------+
| Debian 12       | PASS     |
+-----------------+----------+
| RHEL8           | PASS     |
+-----------------+----------+
| Fedora 39       | PASS     |
+-----------------+----------+


CentOS Stream 8
	Kernel: 5.4.0-167-generic
	Compiler: gcc 8.5.0 20210514

Fedora 38
	Kernel: Depends on container host
	Compiler: clang 16.0.6

Ubuntu 22.04
	Kernel: 5.4.0-167-generic
	Compiler: gcc 11.4.0

Debian Bullseye
	Kernel: 5.4.0-167-generic
	Compiler: gcc 10.2.1-6

CentOS Stream 9
	Kernel: 5.4.0-167-generic
	Compiler: gcc 11.4.1 20230605

Fedora 37
	Kernel: Depends on container host system
	Compiler: gcc 12.3.1

Debian 12
	Kernel: Container Host Kernel
	Compiler: gcc 10.2.1

RHEL8
	Kernel: 5.4.0-167-generic
	Compiler: gcc 8.5.0 20210514 (Red Hat 8.5.0-20)

Fedora 39
	Kernel: Depends on container host
	Compiler: gcc 13.2.1

To view detailed results, visit:
https://lab.dpdk.org/results/dashboard/patchsets/29856/

UNH-IOL DPDK Community Lab

To manage your email subscriptions, visit: 
https://lab.dpdk.org/results/dashboard/preferences/subscriptions/