From mboxrd@z Thu Jan  1 00:00:00 1970
Return-Path: <test-report-bounces@dpdk.org>
Received: from mails.dpdk.org (mails.dpdk.org [217.70.189.124])
	by inbox.dpdk.org (Postfix) with ESMTP id D7A3043F09
	for <public@inbox.dpdk.org>; Thu, 25 Apr 2024 21:08:35 +0200 (CEST)
Received: from mails.dpdk.org (localhost [127.0.0.1])
	by mails.dpdk.org (Postfix) with ESMTP id D41DF43943;
	Thu, 25 Apr 2024 21:08:35 +0200 (CEST)
Received: from mail-qk1-f226.google.com (mail-qk1-f226.google.com
 [209.85.222.226])
 by mails.dpdk.org (Postfix) with ESMTP id 43A7240A67
 for <test-report@dpdk.org>; Thu, 25 Apr 2024 21:08:35 +0200 (CEST)
Received: by mail-qk1-f226.google.com with SMTP id
 af79cd13be357-78f056f0a53so82419585a.1
 for <test-report@dpdk.org>; Thu, 25 Apr 2024 12:08:35 -0700 (PDT)
DKIM-Signature: v=1; a=rsa-sha256; c=relaxed/relaxed;
 d=iol.unh.edu; s=unh-iol; t=1714072114; x=1714676914; darn=dpdk.org;
 h=references:in-reply-to:cc:to:from:subject:message-id:date:from:to
 :cc:subject:date:message-id:reply-to;
 bh=nvYbxSzI9EaWOu9xka/R02FAB0VOI7eKCzaitbq2MYo=;
 b=F9Io4uUA+1c5w7sJk6k6QbcReXSLTa9QBLliiDbb9Oo6oGeTfjNxYDQ4obUMHQX4PD
 kmK8/66BkqKatFtepKBlVTPfAeMiKLrheh6KVezue7WlBqsVQRLo5jKNwWTsqRaWtEaI
 M4CMZBdz3i9r53gtjxjOKJVLDIB864W6L+1Tw=
X-Google-DKIM-Signature: v=1; a=rsa-sha256; c=relaxed/relaxed;
 d=1e100.net; s=20230601; t=1714072114; x=1714676914;
 h=references:in-reply-to:cc:to:from:subject:message-id:date
 :x-gm-message-state:from:to:cc:subject:date:message-id:reply-to;
 bh=nvYbxSzI9EaWOu9xka/R02FAB0VOI7eKCzaitbq2MYo=;
 b=nrrPBs8+SbMYi3VINY8VcwZ2ejn83L8u1L9bZ+BJvun0ZXJY08XkUWW3LczI5GaiTN
 m0iXGgBg3zwQL1h383PIJ3xgt/XxPLBwVLrv1HDUzZP7jIpbh4S8Qzy1Qv3O1QdDmHUp
 mwR5xrM/uTiER9TiRjNgd/LSnLQEIjd53OzoC5NM9JmgD6m+RaF0QnhDQaAnwu8VZP3Y
 e2XsDeaunIEQyt1MzwsPL/RWdSz/Ysd3UTR/0y11Dq9FQIL+7CMQUIHhuoqO0WWkH8Fd
 j7zGS/Esre1fVfB3lESsgDAMKJPpotHRWsFK01+6MPswgdyFXMf2IK71QTXDsgarXvFE
 pQcQ==
X-Gm-Message-State: AOJu0Yy3DKQa7StHxaBNNFvLtd67kir1ye5LmJzK9pHfE5esbJlPMYGx
 UNKFqhjQsuKFYLwYmlTPDJS9AWs4ShDUqSaNk2DPkIScKnv7z8YbPSutVkBfDttbE1xfFMJecMn
 w0CewwAbxZQqIYQiR7+q70gDZb9cb9AcyYeH0TeO9
X-Google-Smtp-Source: AGHT+IH1Gs2j/4WAfp67F+iaAEuma9P3IV6pos55PLRmuxFirIfEfPLWO+hcVJ25xmYOHwbbOlsQjHFtkiVT
X-Received: by 2002:ad4:5bab:0:b0:69f:db85:ee9a with SMTP id
 11-20020ad45bab000000b0069fdb85ee9amr661750qvq.59.1714072114275; 
 Thu, 25 Apr 2024 12:08:34 -0700 (PDT)
Received: from postal.iol.unh.edu (postal.iol.unh.edu. [132.177.123.84])
 by smtp-relay.gmail.com with ESMTPS id
 fv15-20020a056214240f00b0069b182bb9e5sm1350569qvb.39.2024.04.25.12.08.34
 (version=TLS1_2 cipher=ECDHE-ECDSA-AES128-GCM-SHA256 bits=128/128);
 Thu, 25 Apr 2024 12:08:34 -0700 (PDT)
X-Relaying-Domain: iol.unh.edu
Date: Thu, 25 Apr 2024 12:08:34 -0700 (PDT)
Message-ID: <662aaa32.050a0220.39408.a008SMTPIN_ADDED_MISSING@mx.google.com>
Received: from [172.21.0.6] (unknown [172.18.0.240])
 by postal.iol.unh.edu (Postfix) with ESMTP id F248B6052514;
 Thu, 25 Apr 2024 15:08:33 -0400 (EDT)
Subject: |SUCCESS| pw139681 [PATCH] ethdev: document that stats reset APIs ar
From: dpdklab@iol.unh.edu
To: Test Report <test-report@dpdk.org>
Cc: dpdk-test-reports@iol.unh.edu
In-Reply-To: <20240425165308.1078454-1-ferruh.yigit@amd.com>
References: <20240425165308.1078454-1-ferruh.yigit@amd.com>
Content-Type: text/plain
X-BeenThere: test-report@dpdk.org
X-Mailman-Version: 2.1.29
Precedence: list
List-Id: automatic DPDK test reports <test-report.dpdk.org>
List-Unsubscribe: <https://mails.dpdk.org/options/test-report>,
 <mailto:test-report-request@dpdk.org?subject=unsubscribe>
List-Archive: <http://mails.dpdk.org/archives/test-report/>
List-Post: <mailto:test-report@dpdk.org>
List-Help: <mailto:test-report-request@dpdk.org?subject=help>
List-Subscribe: <https://mails.dpdk.org/listinfo/test-report>,
 <mailto:test-report-request@dpdk.org?subject=subscribe>
Errors-To: test-report-bounces@dpdk.org

Test-Label: iol-unit-arm64-testing
Test-Status: SUCCESS
http://dpdk.org/patch/139681

_Testing PASS_

Submitter: Ferruh Yigit <ferruh.yigit@amd.com>
Date: Thursday, April 25 2024 16:53:08 
DPDK git baseline: Repo:dpdk
  Branch: master
  CommitID:8841786ab4aa72d205f97528af8708a13a851f4f

139681 --> testing pass

Test environment and result as below:

+-----------------------------+----------------+--------------+---------------------------+------------------------------+
|         Environment         | dpdk_unit_test | lpm_autotest | cryptodev_sw_zuc_autotest | cryptodev_sw_snow3g_autotest |
+=============================+================+==============+===========================+==============================+
| CentOS Stream 9 (ARM)       | PASS           | SKIPPED      | SKIPPED                   | SKIPPED                      |
+-----------------------------+----------------+--------------+---------------------------+------------------------------+
| Debian 11 (Buster) (ARM)    | PASS           | SKIPPED      | SKIPPED                   | SKIPPED                      |
+-----------------------------+----------------+--------------+---------------------------+------------------------------+
| 32-bit Ubuntu 20.04.4 (ARM) | PASS           | SKIPPED      | SKIPPED                   | SKIPPED                      |
+-----------------------------+----------------+--------------+---------------------------+------------------------------+
| Debian 12 (arm)             | PASS           | SKIPPED      | PASS                      | PASS                         |
+-----------------------------+----------------+--------------+---------------------------+------------------------------+
| Fedora 37 (ARM)             | PASS           | SKIPPED      | SKIPPED                   | SKIPPED                      |
+-----------------------------+----------------+--------------+---------------------------+------------------------------+
| Fedora 39 (ARM)             | PASS           | SKIPPED      | SKIPPED                   | SKIPPED                      |
+-----------------------------+----------------+--------------+---------------------------+------------------------------+
| Ubuntu 20.04 ARM SVE        | SKIPPED        | PASS         | SKIPPED                   | SKIPPED                      |
+-----------------------------+----------------+--------------+---------------------------+------------------------------+


CentOS Stream 9 (ARM)
	Kernel: Container Host Kernel
	Compiler: gcc 11.4.1

Debian 11 (Buster) (ARM)
	Kernel: Container Host Kernel
	Compiler: gcc 10.2.1

32-bit Ubuntu 20.04.4 (ARM)
	Kernel: 5.4.0-155-generic aarch64
	Compiler: gcc 9.4

Debian 12 (arm)
	Kernel: Container Host Kernel
	Compiler: gcc 12.2.0

Fedora 37 (ARM)
	Kernel: Depends on container host
	Compiler: gcc 12.3.1

Fedora 39 (ARM)
	Kernel: Depends on container host
	Compiler: gcc 13.2.1

Ubuntu 20.04 ARM SVE
	Kernel: 5.4.0-167-generic
	Compiler: gcc (Ubuntu 10.5.0-1ubuntu1~20.04) 10.5.0

To view detailed results, visit:
https://lab.dpdk.org/results/dashboard/patchsets/29857/

UNH-IOL DPDK Community Lab

To manage your email subscriptions, visit: 
https://lab.dpdk.org/results/dashboard/preferences/subscriptions/