From mboxrd@z Thu Jan  1 00:00:00 1970
Return-Path: <test-report-bounces@dpdk.org>
Received: from mails.dpdk.org (mails.dpdk.org [217.70.189.124])
	by inbox.dpdk.org (Postfix) with ESMTP id 2129C43F09
	for <public@inbox.dpdk.org>; Thu, 25 Apr 2024 21:13:58 +0200 (CEST)
Received: from mails.dpdk.org (localhost [127.0.0.1])
	by mails.dpdk.org (Postfix) with ESMTP id 1D92643943;
	Thu, 25 Apr 2024 21:13:58 +0200 (CEST)
Received: from mail-io1-f99.google.com (mail-io1-f99.google.com
 [209.85.166.99]) by mails.dpdk.org (Postfix) with ESMTP id DCC7E43943
 for <test-report@dpdk.org>; Thu, 25 Apr 2024 21:13:55 +0200 (CEST)
Received: by mail-io1-f99.google.com with SMTP id
 ca18e2360f4ac-7d5e93b40feso56879939f.2
 for <test-report@dpdk.org>; Thu, 25 Apr 2024 12:13:55 -0700 (PDT)
DKIM-Signature: v=1; a=rsa-sha256; c=relaxed/relaxed;
 d=iol.unh.edu; s=unh-iol; t=1714072435; x=1714677235; darn=dpdk.org;
 h=references:in-reply-to:cc:to:from:subject:message-id:date:from:to
 :cc:subject:date:message-id:reply-to;
 bh=kaQCg1IedWPEZiRFEwCQlWQIV9Mo2tVSZL+VIMKf8sw=;
 b=N4voiMOm2GGN54SYp4vJj9PjKbElFztGCFO7RI83uuoMNzsE+Chj4vsJYxXmEGk8Xw
 1TAo3ZxRCfnZ3QXEUmCkE0AJIlJ00cGUK4Q1zQPI2RilWmBZzCigLTxXX+puoPj3xdfu
 1PVk4cd2r5HF4MiABLElZY01RifDBL5UCs8D0=
X-Google-DKIM-Signature: v=1; a=rsa-sha256; c=relaxed/relaxed;
 d=1e100.net; s=20230601; t=1714072435; x=1714677235;
 h=references:in-reply-to:cc:to:from:subject:message-id:date
 :x-gm-message-state:from:to:cc:subject:date:message-id:reply-to;
 bh=kaQCg1IedWPEZiRFEwCQlWQIV9Mo2tVSZL+VIMKf8sw=;
 b=EYyLJ8dBFWwbH4P78XW3ZCxm8KdpSE4G6lfsO0NZBUipZfxjXD9z8109ydm+PiYXjK
 ncVYbIaXVXGqvJ8xMITteeQfYuAase8T9hKyE4WSUcVpUlBM7gEeLOBpW3aucdbDc+g0
 wv5baJ83COOh6YMuhaWAStM0S8lvm9hgR4H43sVKfZjOJ1GtfiFAYtpHggqVDYyqr97s
 TnU+qTvZ0GIouuyKvkoiKVVXvMBNs+Lx2cR37p2AUC23rP5/3rqDINqr6MIcLfyajhaV
 krueoFCpleIYFEf6C9Pkx4Cl0dVS79hcgrNgB7XaGxsxJe+OZlSRzMDqLxkWlJCfZu50
 nQqw==
X-Gm-Message-State: AOJu0YzXoV9kwQWDnZ7UXPztDB4/mz57bWH06xOIA2YMh7LklCFozTs8
 yK9Em+SmoZYhHfu8QbDyJ2BjLUNL6JhCJOC/nH6NHpMbSlvFi8vHixYn7VFHJuS0BjcDicsjhuL
 VRZ2mL33NDo6U+FOUv/6D9p7NBfWLQg6W952dn+qUFp80oNsWPQCSE7UR
X-Google-Smtp-Source: AGHT+IGzvjVymtLTQgeIiq6VvnUdSeNa5RZECpe+icggpzcMdnSM0pPklY5+7TN5+7xsxttSkX1H0VNa1/2H
X-Received: by 2002:a6b:e808:0:b0:7de:944b:4ab1 with SMTP id
 f8-20020a6be808000000b007de944b4ab1mr729028ioh.17.1714072435286; 
 Thu, 25 Apr 2024 12:13:55 -0700 (PDT)
Received: from postal.iol.unh.edu (postal.iol.unh.edu.
 [2606:4100:3880:1234::84]) by smtp-relay.gmail.com with ESMTPS id
 hd10-20020a0566384e8a00b0048490b996bdsm1186461jab.44.2024.04.25.12.13.55
 (version=TLS1_2 cipher=ECDHE-ECDSA-AES128-GCM-SHA256 bits=128/128);
 Thu, 25 Apr 2024 12:13:55 -0700 (PDT)
X-Relaying-Domain: iol.unh.edu
Date: Thu, 25 Apr 2024 12:13:55 -0700 (PDT)
Message-ID: <662aab73.050a0220.9fad.e321SMTPIN_ADDED_MISSING@mx.google.com>
Received: from [172.21.0.7] (unknown [172.18.0.240])
 by postal.iol.unh.edu (Postfix) with ESMTP id E11626052514;
 Thu, 25 Apr 2024 15:13:54 -0400 (EDT)
Subject: |SUCCESS| pw139679 [PATCH] bpf/xdp: disable on 32bit x86
From: dpdklab@iol.unh.edu
To: Test Report <test-report@dpdk.org>
Cc: dpdk-test-reports@iol.unh.edu
In-Reply-To: <20240425150558.3603483-1-luca.boccassi@gmail.com>
References: <20240425150558.3603483-1-luca.boccassi@gmail.com>
Content-Type: text/plain
X-BeenThere: test-report@dpdk.org
X-Mailman-Version: 2.1.29
Precedence: list
List-Id: automatic DPDK test reports <test-report.dpdk.org>
List-Unsubscribe: <https://mails.dpdk.org/options/test-report>,
 <mailto:test-report-request@dpdk.org?subject=unsubscribe>
List-Archive: <http://mails.dpdk.org/archives/test-report/>
List-Post: <mailto:test-report@dpdk.org>
List-Help: <mailto:test-report-request@dpdk.org?subject=help>
List-Subscribe: <https://mails.dpdk.org/listinfo/test-report>,
 <mailto:test-report-request@dpdk.org?subject=subscribe>
Errors-To: test-report-bounces@dpdk.org

Test-Label: iol-compile-amd64-testing
Test-Status: SUCCESS
http://dpdk.org/patch/139679

_Testing PASS_

Submitter: Luca Boccassi <luca.boccassi@gmail.com>
Date: Thursday, April 25 2024 15:05:58 
DPDK git baseline: Repo:dpdk
  Branch: master
  CommitID:8841786ab4aa72d205f97528af8708a13a851f4f

139679 --> testing pass

Test environment and result as below:

+---------------------+--------------------+----------------------+-------------------+
|     Environment     | dpdk_meson_compile | dpdk_mingw64_compile | dpdk_msvc_compile |
+=====================+====================+======================+===================+
| FreeBSD 13.3        | PASS               | SKIPPED              | SKIPPED           |
+---------------------+--------------------+----------------------+-------------------+
| Windows Server 2022 | PASS               | PASS                 | PASS              |
+---------------------+--------------------+----------------------+-------------------+
| Windows Server 2019 | PASS               | PASS                 | SKIPPED           |
+---------------------+--------------------+----------------------+-------------------+


FreeBSD 13.3
	Kernel: 13.3-RELEASE-p1
	Compiler: clang 17.0.6

Windows Server 2022
	Kernel: 10.0.20348.2031
	Compiler: clang 15.0.7, gcc 8.1.0 (MinGW), and MSVC VS 17.9

Windows Server 2019
	Kernel: 10.0.17763
	Compiler: clang 14.0 and gcc 8.1.0 (MinGW)

To view detailed results, visit:
https://lab.dpdk.org/results/dashboard/patchsets/29855/

UNH-IOL DPDK Community Lab

To manage your email subscriptions, visit: 
https://lab.dpdk.org/results/dashboard/preferences/subscriptions/