From mboxrd@z Thu Jan  1 00:00:00 1970
Return-Path: <test-report-bounces@dpdk.org>
Received: from mails.dpdk.org (mails.dpdk.org [217.70.189.124])
	by inbox.dpdk.org (Postfix) with ESMTP id 72D1F43F09
	for <public@inbox.dpdk.org>; Thu, 25 Apr 2024 21:33:15 +0200 (CEST)
Received: from mails.dpdk.org (localhost [127.0.0.1])
	by mails.dpdk.org (Postfix) with ESMTP id 6EDA543943;
	Thu, 25 Apr 2024 21:33:15 +0200 (CEST)
Received: from mail-io1-f100.google.com (mail-io1-f100.google.com
 [209.85.166.100])
 by mails.dpdk.org (Postfix) with ESMTP id 88FF140A67
 for <test-report@dpdk.org>; Thu, 25 Apr 2024 21:33:13 +0200 (CEST)
Received: by mail-io1-f100.google.com with SMTP id
 ca18e2360f4ac-7de97ef6c8eso63230939f.1
 for <test-report@dpdk.org>; Thu, 25 Apr 2024 12:33:13 -0700 (PDT)
DKIM-Signature: v=1; a=rsa-sha256; c=relaxed/relaxed;
 d=iol.unh.edu; s=unh-iol; t=1714073593; x=1714678393; darn=dpdk.org;
 h=references:in-reply-to:cc:to:from:subject:message-id:date:from:to
 :cc:subject:date:message-id:reply-to;
 bh=r9i6QDGPGfSerXoA47mBj+uIjYLFqfNl8S2ZfyPl3Tw=;
 b=Bl4MOLsGWt+YjTSuusMNdRKi+C43U9ilQ2dxW9hi7tAW2ZPuEnkSRtVOTCLlxVLjum
 BZh2qJq0jqcl4synpe6yq57C/34vSN5vSAXVSsBRptdkkVKm795VtXV3BROjxIL1L2/1
 axzQd00Kx/K6VGD9o6ZBMTmyBGd30reN1TZ6k=
X-Google-DKIM-Signature: v=1; a=rsa-sha256; c=relaxed/relaxed;
 d=1e100.net; s=20230601; t=1714073593; x=1714678393;
 h=references:in-reply-to:cc:to:from:subject:message-id:date
 :x-gm-message-state:from:to:cc:subject:date:message-id:reply-to;
 bh=r9i6QDGPGfSerXoA47mBj+uIjYLFqfNl8S2ZfyPl3Tw=;
 b=bHujOWa//prPafFEb719UgZyw3LiIz20h4VJm/Lpow5Ykp5QyTUBle2/t26mnk61Uk
 31osXudkFRW5bJuVrD8fQcuL5NXsnqV/DxxpWgnDpFjGBgGkySpIsx5bZ8JEwBBkVbdS
 A00JSh8RY9WhDfhs57Nx6Xgf1rjBSk6/+DNcc4XpT5LxQm963NAHHkRwiECvL5RBTrl7
 H77f9VWOvDwdvPAlh6r+WRjcJO/T9yR1mR8Kc05hculpgqrAnJEwsSof1jyzjw9BOIQ+
 IcR9UdQhm99cxfmyvUgjtUZwwd63aJXL6PqhA5DSRalKP5FjyiWvp8Ig62SLNJTbdpaH
 kQ0A==
X-Gm-Message-State: AOJu0Yw+CdYFXce7tY45YH19r9wMvzRceBKS3OWqRv3HNbwxYtPlKjEj
 wqSGQEy/Ir65oKUvNCrrMoDhRVNgJ2Lde9olvzvOzCisF80ovURW4+MG96FzsTwthpy2PluRM2i
 EQSAOp+/8yOOZWiikZqV4XQ/Rb+i4zt9x/2TmDTBQ
X-Google-Smtp-Source: AGHT+IFEyAe2mU14I4mgHPSpclMcRVFCKqZH30jfRcdh4betk2crX03dKXtoSAIYvukOAcGzyzmxrs/WN72g
X-Received: by 2002:a6b:6810:0:b0:7da:ac95:736 with SMTP id
 d16-20020a6b6810000000b007daac950736mr874608ioc.13.1714073592098; 
 Thu, 25 Apr 2024 12:33:12 -0700 (PDT)
Received: from postal.iol.unh.edu (postal.iol.unh.edu. [132.177.123.84])
 by smtp-relay.gmail.com with ESMTPS id
 v12-20020a056638250c00b00484b9a5a84dsm1100750jat.66.2024.04.25.12.33.12
 (version=TLS1_2 cipher=ECDHE-ECDSA-AES128-GCM-SHA256 bits=128/128);
 Thu, 25 Apr 2024 12:33:12 -0700 (PDT)
X-Relaying-Domain: iol.unh.edu
Date: Thu, 25 Apr 2024 12:33:12 -0700 (PDT)
Message-ID: <662aaff8.050a0220.1cf90.aad0SMTPIN_ADDED_MISSING@mx.google.com>
Received: from [172.21.0.6] (unknown [172.18.0.240])
 by postal.iol.unh.edu (Postfix) with ESMTP id BB44B6052514;
 Thu, 25 Apr 2024 15:33:11 -0400 (EDT)
Subject: |SUCCESS| pw139681 [PATCH] ethdev: document that stats reset APIs ar
From: dpdklab@iol.unh.edu
To: Test Report <test-report@dpdk.org>
Cc: dpdk-test-reports@iol.unh.edu
In-Reply-To: <20240425165308.1078454-1-ferruh.yigit@amd.com>
References: <20240425165308.1078454-1-ferruh.yigit@amd.com>
Content-Type: text/plain
X-BeenThere: test-report@dpdk.org
X-Mailman-Version: 2.1.29
Precedence: list
List-Id: automatic DPDK test reports <test-report.dpdk.org>
List-Unsubscribe: <https://mails.dpdk.org/options/test-report>,
 <mailto:test-report-request@dpdk.org?subject=unsubscribe>
List-Archive: <http://mails.dpdk.org/archives/test-report/>
List-Post: <mailto:test-report@dpdk.org>
List-Help: <mailto:test-report-request@dpdk.org?subject=help>
List-Subscribe: <https://mails.dpdk.org/listinfo/test-report>,
 <mailto:test-report-request@dpdk.org?subject=subscribe>
Errors-To: test-report-bounces@dpdk.org

Test-Label: iol-compile-arm64-testing
Test-Status: SUCCESS
http://dpdk.org/patch/139681

_Testing PASS_

Submitter: Ferruh Yigit <ferruh.yigit@amd.com>
Date: Thursday, April 25 2024 16:53:08 
DPDK git baseline: Repo:dpdk
  Branch: master
  CommitID:8841786ab4aa72d205f97528af8708a13a851f4f

139681 --> testing pass

Test environment and result as below:

+----------------------------------------+--------------------+
|              Environment               | dpdk_meson_compile |
+========================================+====================+
| Ubuntu 20.04 ARM SVE                   | PASS               |
+----------------------------------------+--------------------+
| Debian 12 with MUSDK                   | PASS               |
+----------------------------------------+--------------------+
| Ubuntu 20.04 aarch32 GCC Cross Compile | PASS               |
+----------------------------------------+--------------------+
| Ubuntu 20.04 ARM Clang Cross Compile   | PASS               |
+----------------------------------------+--------------------+
| Fedora 37 (ARM)                        | PASS               |
+----------------------------------------+--------------------+
| Fedora 39 (ARM)                        | PASS               |
+----------------------------------------+--------------------+
| Debian 12 (arm)                        | PASS               |
+----------------------------------------+--------------------+
| Ubuntu 20.04 ARM GCC Cross Compile     | PASS               |
+----------------------------------------+--------------------+
| Fedora 38 (ARM)                        | PASS               |
+----------------------------------------+--------------------+
| Fedora 39 (ARM Clang)                  | PASS               |
+----------------------------------------+--------------------+
| Debian 11 (Buster) (ARM)               | PASS               |
+----------------------------------------+--------------------+
| CentOS Stream 9 (ARM)                  | PASS               |
+----------------------------------------+--------------------+
| Ubuntu 20.04 (ARM)                     | PASS               |
+----------------------------------------+--------------------+


Ubuntu 20.04 ARM SVE
	Kernel: 5.4.0-167-generic
	Compiler: gcc (Ubuntu 10.5.0-1ubuntu1~20.04) 10.5.0

Debian 12 with MUSDK
	Kernel: Container Host Kernel
	Compiler: gcc 12.2.0

Ubuntu 20.04 aarch32 GCC Cross Compile
	Kernel: 5.4.0-167-generic
	Compiler: gcc 9.4.0

Ubuntu 20.04 ARM Clang Cross Compile
	Kernel: 5.4.0-72-generic
	Compiler: clang 10.0.0-4ubuntu1

Fedora 37 (ARM)
	Kernel: Depends on container host
	Compiler: gcc 12.3.1

Fedora 39 (ARM)
	Kernel: Depends on container host
	Compiler: gcc 13.2.1

Debian 12 (arm)
	Kernel: Container Host Kernel
	Compiler: gcc 12.2.0

Ubuntu 20.04 ARM GCC Cross Compile
	Kernel: 5.4.0-167-generic
	Compiler: aarch64-linux-gnu-gcc (Ubuntu 9.4.0-1ubuntu1~20.04.2) 9.4.0

Fedora 38 (ARM)
	Kernel: Depends on container host
	Compiler: gcc 13.2.1

Fedora 39 (ARM Clang)
	Kernel: Depends on container host
	Compiler: clang 17.0.6

Debian 11 (Buster) (ARM)
	Kernel: Container Host Kernel
	Compiler: gcc 10.2.1

CentOS Stream 9 (ARM)
	Kernel: Container Host Kernel
	Compiler: gcc 11.4.1

Ubuntu 20.04 (ARM)
	Kernel: Container Host Kernel
	Compiler: gcc 9.4.0

To view detailed results, visit:
https://lab.dpdk.org/results/dashboard/patchsets/29857/

UNH-IOL DPDK Community Lab

To manage your email subscriptions, visit: 
https://lab.dpdk.org/results/dashboard/preferences/subscriptions/