From mboxrd@z Thu Jan  1 00:00:00 1970
Return-Path: <test-report-bounces@dpdk.org>
Received: from mails.dpdk.org (mails.dpdk.org [217.70.189.124])
	by inbox.dpdk.org (Postfix) with ESMTP id 38FB343F0F
	for <public@inbox.dpdk.org>; Fri, 26 Apr 2024 04:13:28 +0200 (CEST)
Received: from mails.dpdk.org (localhost [127.0.0.1])
	by mails.dpdk.org (Postfix) with ESMTP id 2F77643A8D;
	Fri, 26 Apr 2024 04:13:28 +0200 (CEST)
Received: from mail-pj1-f98.google.com (mail-pj1-f98.google.com
 [209.85.216.98]) by mails.dpdk.org (Postfix) with ESMTP id 4CAB043A5C
 for <test-report@dpdk.org>; Fri, 26 Apr 2024 04:13:21 +0200 (CEST)
Received: by mail-pj1-f98.google.com with SMTP id
 98e67ed59e1d1-2a53e810f10so1249954a91.0
 for <test-report@dpdk.org>; Thu, 25 Apr 2024 19:13:21 -0700 (PDT)
DKIM-Signature: v=1; a=rsa-sha256; c=relaxed/relaxed;
 d=iol.unh.edu; s=unh-iol; t=1714097600; x=1714702400; darn=dpdk.org;
 h=references:in-reply-to:cc:to:from:subject:message-id:date:from:to
 :cc:subject:date:message-id:reply-to;
 bh=PZlgYbKnnatrLB6GASmENU3FOm4hisv85Cyef9QfAIo=;
 b=H2Ncul4XMPYu5oSv2p0dFiEnM2VFgSQe8pq1m0RYWqRWdkyYyNtahetKYTzzDKZpsF
 ZzwQltA0Y0ZpCs47WHLNloxI5sZQTupjEorrqenR2IAQyYcB0avIT/cVIIhJoZP2v8xc
 pt3bNqK05XPt0fIZVrilkOM08tLYBpwwHSeL4=
X-Google-DKIM-Signature: v=1; a=rsa-sha256; c=relaxed/relaxed;
 d=1e100.net; s=20230601; t=1714097600; x=1714702400;
 h=references:in-reply-to:cc:to:from:subject:message-id:date
 :x-gm-message-state:from:to:cc:subject:date:message-id:reply-to;
 bh=PZlgYbKnnatrLB6GASmENU3FOm4hisv85Cyef9QfAIo=;
 b=IfFjklvUh42+KRMQAVW58N1J9US7PDhEVkbmo7XEmm7/ZzyKnCdtwWS3uVz4frVLns
 +djWM9L9N6AJCVkoWQIf8Z5xfykC9eubSibn1HGGybQLl/ecrqpZaId9xQxVae7S2w9c
 f7Fjl9hFNs0RPwXnCHf5MzB2HYcRDfiNsr/b0FthIK6N8Y6oUvjVvfuJQnCmW1yj48Ii
 N+tFYDd9aDi+UfRRXnQ9+Fh1VsvxHGyFFa59VKHg7sOp8MbQ+saS+/GkZBeBgV+aZODI
 JGZv55vgYkinBKN94+hpKbaCz3ehbXPiQOS0hv7NiiniU4D9SaCp3Ctx7+aba3G+my7m
 sc+Q==
X-Gm-Message-State: AOJu0YwekOMWHd7UqmmFc86Ln4wt/N2DUBB4fL6oMXuZcASFr4rmqwgC
 kMJzPwsHAZWdrw/2ge3rRSMPBcMJWCUXIffO4oepCLNPuieGqWeNdZMAjbiDSg7n5sMFtvqiv93
 W4jwMdSLPdfM4tRFOck7yIHIRn4SNlKqlwsfxfOP/JrJvO0fh6z3gPUzC
X-Google-Smtp-Source: AGHT+IEX0IeQMnwqhjxsiEjlUKNOlhBCczNBIaoyk63Y7Qz6jGBqkqyX47xT/tWrzQrcnu4ZP6eHqYmJSC2N
X-Received: by 2002:a17:90a:4a08:b0:2ae:f53b:113a with SMTP id
 e8-20020a17090a4a0800b002aef53b113amr1396378pjh.35.1714097600528; 
 Thu, 25 Apr 2024 19:13:20 -0700 (PDT)
Received: from postal.iol.unh.edu (postal.iol.unh.edu.
 [2606:4100:3880:1234::84]) by smtp-relay.gmail.com with ESMTPS id
 l2-20020a17090aaa8200b002a4e9216065sm1347588pjq.12.2024.04.25.19.13.20
 (version=TLS1_2 cipher=ECDHE-ECDSA-AES128-GCM-SHA256 bits=128/128);
 Thu, 25 Apr 2024 19:13:20 -0700 (PDT)
X-Relaying-Domain: iol.unh.edu
Date: Thu, 25 Apr 2024 19:13:20 -0700 (PDT)
Message-ID: <662b0dc0.170a0220.1abb3.7be7SMTPIN_ADDED_MISSING@mx.google.com>
Received: from [172.21.0.7] (unknown [172.18.0.240])
 by postal.iol.unh.edu (Postfix) with ESMTP id A81816052514;
 Thu, 25 Apr 2024 22:13:19 -0400 (EDT)
Subject: |SUCCESS| pw139687 [PATCH] net/af_xdp: fix umem map size for zero co
From: dpdklab@iol.unh.edu
To: Test Report <test-report@dpdk.org>
Cc: dpdk-test-reports@iol.unh.edu
In-Reply-To: <20240426005128.148730-1-frank.du@intel.com>
References: <20240426005128.148730-1-frank.du@intel.com>
Content-Type: text/plain
X-BeenThere: test-report@dpdk.org
X-Mailman-Version: 2.1.29
Precedence: list
List-Id: automatic DPDK test reports <test-report.dpdk.org>
List-Unsubscribe: <https://mails.dpdk.org/options/test-report>,
 <mailto:test-report-request@dpdk.org?subject=unsubscribe>
List-Archive: <http://mails.dpdk.org/archives/test-report/>
List-Post: <mailto:test-report@dpdk.org>
List-Help: <mailto:test-report-request@dpdk.org?subject=help>
List-Subscribe: <https://mails.dpdk.org/listinfo/test-report>,
 <mailto:test-report-request@dpdk.org?subject=subscribe>
Errors-To: test-report-bounces@dpdk.org

Test-Label: iol-unit-arm64-testing
Test-Status: SUCCESS
http://dpdk.org/patch/139687

_Testing PASS_

Submitter: Frank Du <frank.du@intel.com>
Date: Friday, April 26 2024 00:51:28 
DPDK git baseline: Repo:dpdk
  Branch: master
  CommitID:8841786ab4aa72d205f97528af8708a13a851f4f

139687 --> testing pass

Test environment and result as below:

+-----------------------+----------------+---------------------------+------------------------------+
|      Environment      | dpdk_unit_test | cryptodev_sw_zuc_autotest | cryptodev_sw_snow3g_autotest |
+=======================+================+===========================+==============================+
| Debian 12 (arm)       | PASS           | PASS                      | PASS                         |
+-----------------------+----------------+---------------------------+------------------------------+
| Fedora 37 (ARM)       | PASS           | SKIPPED                   | SKIPPED                      |
+-----------------------+----------------+---------------------------+------------------------------+
| CentOS Stream 9 (ARM) | PASS           | SKIPPED                   | SKIPPED                      |
+-----------------------+----------------+---------------------------+------------------------------+
| Fedora 38 (ARM)       | PASS           | SKIPPED                   | SKIPPED                      |
+-----------------------+----------------+---------------------------+------------------------------+
| Fedora 39 (ARM)       | PASS           | SKIPPED                   | SKIPPED                      |
+-----------------------+----------------+---------------------------+------------------------------+


Debian 12 (arm)
	Kernel: Container Host Kernel
	Compiler: gcc 12.2.0

Fedora 37 (ARM)
	Kernel: Depends on container host
	Compiler: gcc 12.3.1

CentOS Stream 9 (ARM)
	Kernel: Container Host Kernel
	Compiler: gcc 11.4.1

Fedora 38 (ARM)
	Kernel: Depends on container host
	Compiler: gcc 13.2.1

Fedora 39 (ARM)
	Kernel: Depends on container host
	Compiler: gcc 13.2.1

To view detailed results, visit:
https://lab.dpdk.org/results/dashboard/patchsets/29860/

UNH-IOL DPDK Community Lab

To manage your email subscriptions, visit: 
https://lab.dpdk.org/results/dashboard/preferences/subscriptions/