From mboxrd@z Thu Jan  1 00:00:00 1970
Return-Path: <test-report-bounces@dpdk.org>
Received: from mails.dpdk.org (mails.dpdk.org [217.70.189.124])
	by inbox.dpdk.org (Postfix) with ESMTP id E674943F0F
	for <public@inbox.dpdk.org>; Fri, 26 Apr 2024 04:16:13 +0200 (CEST)
Received: from mails.dpdk.org (localhost [127.0.0.1])
	by mails.dpdk.org (Postfix) with ESMTP id DC80443A8D;
	Fri, 26 Apr 2024 04:16:13 +0200 (CEST)
Received: from mail-qt1-f227.google.com (mail-qt1-f227.google.com
 [209.85.160.227])
 by mails.dpdk.org (Postfix) with ESMTP id 7981343A5C
 for <test-report@dpdk.org>; Fri, 26 Apr 2024 04:16:06 +0200 (CEST)
Received: by mail-qt1-f227.google.com with SMTP id
 d75a77b69052e-434b7ab085fso21898821cf.1
 for <test-report@dpdk.org>; Thu, 25 Apr 2024 19:16:06 -0700 (PDT)
DKIM-Signature: v=1; a=rsa-sha256; c=relaxed/relaxed;
 d=iol.unh.edu; s=unh-iol; t=1714097766; x=1714702566; darn=dpdk.org;
 h=references:in-reply-to:cc:to:from:subject:message-id:date:from:to
 :cc:subject:date:message-id:reply-to;
 bh=bifNQ1QrK4+D3Yp/MdO7nexWzPOnL9OA9q6AFhCvJNs=;
 b=exii9bCRL+KQt2B7PM6FU8K8tRs5I/rVHHuj3KAQp5O0Wgxemq+HzAtyAD+Ri8fC7J
 XLyKGMC/zz3WF7/WyW27YYCE0Pq3fBInjP67DracYXPtUmiQ0lkKVqLgTrSIqpYIUjR3
 T94aNgR6L83PUzy+H0T1/G/v5y7COrXK0PKpU=
X-Google-DKIM-Signature: v=1; a=rsa-sha256; c=relaxed/relaxed;
 d=1e100.net; s=20230601; t=1714097766; x=1714702566;
 h=references:in-reply-to:cc:to:from:subject:message-id:date
 :x-gm-message-state:from:to:cc:subject:date:message-id:reply-to;
 bh=bifNQ1QrK4+D3Yp/MdO7nexWzPOnL9OA9q6AFhCvJNs=;
 b=k9veLhwi3WM/Zy6KbvsIMdc7vmmf3UU7e0MZH5oIGOoci2PU1GsJzdPksqjlHZn3It
 T7RhfBIrYgolKEqpF/xFscAIOfl/kZNkQ4LhXaXI2CneEm/wpZN8pLKvt+Tj8MDfr+U0
 taXyBQ2EX7a8SNqaxS7sAJ1MgPfN5qPznAplXEs4bv8v/TZoJnb8fxgQctEfE2BnQLt7
 LigynBzJ8b0IShefQ1iVHsG6iVZnLy3egkyojpoCy5vBKRQBhGsQsgqe/8dAoItMM5eZ
 R9+c84gnvpzGMP01bOPJxxBVK9p4ScJg4O6mEZb8KgHmSnBABSVaOhRxiJFCSGKfvlkO
 UTHg==
X-Gm-Message-State: AOJu0YxQIM42CFEySFGXPcMnhqnotwrzz3H4b9yOUCmIaoVTAa+RsWMZ
 lEGNVkc92gp1W+nyGCoOT0JBpmHSXQAZxyRzVXhFAEdGXDT223/OWOq/fVbVYK0h0h25DyIee1M
 3g9mAXDooO49cdHsWNt2VcIQyVLM8SVsBSUKRm2rXcO4trimyCYL0vBwc
X-Google-Smtp-Source: AGHT+IHydLYxBoj7OgQYIQMUa6S/nqxllEnAUdWi6f9i2l7SnJtEy55TUwZqpo5ttx7jhBFw93IGyBekTr3m
X-Received: by 2002:a05:622a:1986:b0:43a:7089:8779 with SMTP id
 u6-20020a05622a198600b0043a70898779mr1468734qtc.3.1714097765883; 
 Thu, 25 Apr 2024 19:16:05 -0700 (PDT)
Received: from postal.iol.unh.edu (postal.iol.unh.edu.
 [2606:4100:3880:1234::84]) by smtp-relay.gmail.com with ESMTPS id
 g10-20020ac87d0a000000b0043a23e1cb1esm320530qtb.7.2024.04.25.19.16.05
 (version=TLS1_2 cipher=ECDHE-ECDSA-AES128-GCM-SHA256 bits=128/128);
 Thu, 25 Apr 2024 19:16:05 -0700 (PDT)
X-Relaying-Domain: iol.unh.edu
Date: Thu, 25 Apr 2024 19:16:05 -0700 (PDT)
Message-ID: <662b0e65.c80a0220.4f65d.ff77SMTPIN_ADDED_MISSING@mx.google.com>
Received: from [172.21.0.7] (unknown [172.18.0.240])
 by postal.iol.unh.edu (Postfix) with ESMTP id 9265D6052514;
 Thu, 25 Apr 2024 22:16:05 -0400 (EDT)
Subject: |SUCCESS| pw139687 [PATCH] net/af_xdp: fix umem map size for zero co
From: dpdklab@iol.unh.edu
To: Test Report <test-report@dpdk.org>
Cc: dpdk-test-reports@iol.unh.edu
In-Reply-To: <20240426005128.148730-1-frank.du@intel.com>
References: <20240426005128.148730-1-frank.du@intel.com>
Content-Type: text/plain
X-BeenThere: test-report@dpdk.org
X-Mailman-Version: 2.1.29
Precedence: list
List-Id: automatic DPDK test reports <test-report.dpdk.org>
List-Unsubscribe: <https://mails.dpdk.org/options/test-report>,
 <mailto:test-report-request@dpdk.org?subject=unsubscribe>
List-Archive: <http://mails.dpdk.org/archives/test-report/>
List-Post: <mailto:test-report@dpdk.org>
List-Help: <mailto:test-report-request@dpdk.org?subject=help>
List-Subscribe: <https://mails.dpdk.org/listinfo/test-report>,
 <mailto:test-report-request@dpdk.org?subject=subscribe>
Errors-To: test-report-bounces@dpdk.org

Test-Label: iol-unit-amd64-testing
Test-Status: SUCCESS
http://dpdk.org/patch/139687

_Testing PASS_

Submitter: Frank Du <frank.du@intel.com>
Date: Friday, April 26 2024 00:51:28 
DPDK git baseline: Repo:dpdk
  Branch: master
  CommitID:8841786ab4aa72d205f97528af8708a13a851f4f

139687 --> testing pass

Test environment and result as below:

+---------------------+----------------+
|     Environment     | dpdk_unit_test |
+=====================+================+
| Windows Server 2019 | PASS           |
+---------------------+----------------+
| CentOS Stream 9     | PASS           |
+---------------------+----------------+
| Debian Bullseye     | PASS           |
+---------------------+----------------+
| CentOS Stream 8     | PASS           |
+---------------------+----------------+
| Debian 12           | PASS           |
+---------------------+----------------+
| Fedora 37           | PASS           |
+---------------------+----------------+


Windows Server 2019
	Kernel: 10.0.17763
	Compiler: clang 14.0 and gcc 8.1.0 (MinGW)

CentOS Stream 9
	Kernel: 5.4.0-167-generic
	Compiler: gcc 11.4.1 20230605

Debian Bullseye
	Kernel: 5.4.0-167-generic
	Compiler: gcc 10.2.1-6

CentOS Stream 8
	Kernel: 5.4.0-167-generic
	Compiler: gcc 8.5.0 20210514

Debian 12
	Kernel: Container Host Kernel
	Compiler: gcc 10.2.1

Fedora 37
	Kernel: Depends on container host system
	Compiler: gcc 12.3.1

To view detailed results, visit:
https://lab.dpdk.org/results/dashboard/patchsets/29860/

UNH-IOL DPDK Community Lab

To manage your email subscriptions, visit: 
https://lab.dpdk.org/results/dashboard/preferences/subscriptions/