From mboxrd@z Thu Jan  1 00:00:00 1970
Return-Path: <test-report-bounces@dpdk.org>
Received: from mails.dpdk.org (mails.dpdk.org [217.70.189.124])
	by inbox.dpdk.org (Postfix) with ESMTP id 5209043F0F
	for <public@inbox.dpdk.org>; Fri, 26 Apr 2024 04:24:44 +0200 (CEST)
Received: from mails.dpdk.org (localhost [127.0.0.1])
	by mails.dpdk.org (Postfix) with ESMTP id 4DE0443A8D;
	Fri, 26 Apr 2024 04:24:44 +0200 (CEST)
Received: from mail-yw1-f226.google.com (mail-yw1-f226.google.com
 [209.85.128.226])
 by mails.dpdk.org (Postfix) with ESMTP id 1584143A5C
 for <test-report@dpdk.org>; Fri, 26 Apr 2024 04:24:43 +0200 (CEST)
Received: by mail-yw1-f226.google.com with SMTP id
 00721157ae682-61587aa956eso18664887b3.1
 for <test-report@dpdk.org>; Thu, 25 Apr 2024 19:24:43 -0700 (PDT)
DKIM-Signature: v=1; a=rsa-sha256; c=relaxed/relaxed;
 d=iol.unh.edu; s=unh-iol; t=1714098282; x=1714703082; darn=dpdk.org;
 h=references:in-reply-to:cc:to:from:subject:message-id:date:from:to
 :cc:subject:date:message-id:reply-to;
 bh=6U+FQgqdOBfPeImwrbRlGoGhOGqcyyxPJ8RrUQ+xz54=;
 b=Q2Mw5U6NhkRCwQxcID6KZrsQlxUS7WUwxkLqEQ+LM90zt/nOWVs6AfA0Z9PGwvACzt
 Jk62J+JxJAZITe2iRrlxnWl3o6g+2HOg5s4U0Hrxd92Dc+jld/pJpHqOq3un5jZeaI3R
 mKZMhXMCNF4xwLERxDwTplupNIf6v94CcmhIc=
X-Google-DKIM-Signature: v=1; a=rsa-sha256; c=relaxed/relaxed;
 d=1e100.net; s=20230601; t=1714098282; x=1714703082;
 h=references:in-reply-to:cc:to:from:subject:message-id:date
 :x-gm-message-state:from:to:cc:subject:date:message-id:reply-to;
 bh=6U+FQgqdOBfPeImwrbRlGoGhOGqcyyxPJ8RrUQ+xz54=;
 b=jcU+LajKRMcf8XpJjZvw07tAyUm2MpEDg3gq/ibnqJ/YHfD5KFx1YJgVRgwabfP/EM
 Gnibud5xvg9QskUjgZ2rfY73qvPCVmzAiXJ1O1OTzYs8xYwfN5qBVaTz22n/cQesPw2q
 6rriSE6tGlzDoBZ4bzgXaOiXthjUnWiCfN5bEk7OWuFN6nYlB8BpH92/L7Q9X9QtJN9k
 yLmKlmLq1CwtnAH+K6oRWZoYtPkYMBZwBjyt6/bcJAsfJfqpnBc33cPY+q0/PcUhBjw2
 9q97wxDUjUAMMGlOQjLNFgOJfDyvE/lgrth4BFNipsUCJK/NrlenRvE558XQiDsUFFFW
 VG3A==
X-Gm-Message-State: AOJu0Ywitf9Dj4tOz0iTyNKbMLAwXzWErrw0q36Cura46mSmlS+Gdb88
 UeHebiIEzriaKeIkY1fSSxmHyOnzos3MpPXEz8KQ1Nq52L//4ceE3iZnhkjqd5XEMj9hPFcDJmL
 Yoow2ChDTa3XXu8gZ2dA18IB9dD55w6dJwl5ZHbb0b6N1tQyrRvH3KKad
X-Google-Smtp-Source: AGHT+IECWr1C7tUZrCIyaxMLCsUS35z870aRcBCVldA8ijpBnc1+3TyqJwE84ucgKTxlmowWviI7Enz8zKoF
X-Received: by 2002:a05:690c:888:b0:61b:33fc:ad0e with SMTP id
 cd8-20020a05690c088800b0061b33fcad0emr1491208ywb.17.1714098282469; 
 Thu, 25 Apr 2024 19:24:42 -0700 (PDT)
Received: from postal.iol.unh.edu (postal.iol.unh.edu.
 [2606:4100:3880:1234::84]) by smtp-relay.gmail.com with ESMTPS id
 g126-20020a815284000000b0061aaf90393csm1301927ywb.8.2024.04.25.19.24.42
 (version=TLS1_2 cipher=ECDHE-ECDSA-AES128-GCM-SHA256 bits=128/128);
 Thu, 25 Apr 2024 19:24:42 -0700 (PDT)
X-Relaying-Domain: iol.unh.edu
Date: Thu, 25 Apr 2024 19:24:42 -0700 (PDT)
Message-ID: <662b106a.810a0220.8b5ea.7924SMTPIN_ADDED_MISSING@mx.google.com>
Received: from [172.21.0.6] (unknown [172.18.0.240])
 by postal.iol.unh.edu (Postfix) with ESMTP id 21DE36052514;
 Thu, 25 Apr 2024 22:24:42 -0400 (EDT)
Subject: |SUCCESS| pw139687 [PATCH] net/af_xdp: fix umem map size for zero co
From: dpdklab@iol.unh.edu
To: Test Report <test-report@dpdk.org>
Cc: dpdk-test-reports@iol.unh.edu
In-Reply-To: <20240426005128.148730-1-frank.du@intel.com>
References: <20240426005128.148730-1-frank.du@intel.com>
Content-Type: text/plain
X-BeenThere: test-report@dpdk.org
X-Mailman-Version: 2.1.29
Precedence: list
List-Id: automatic DPDK test reports <test-report.dpdk.org>
List-Unsubscribe: <https://mails.dpdk.org/options/test-report>,
 <mailto:test-report-request@dpdk.org?subject=unsubscribe>
List-Archive: <http://mails.dpdk.org/archives/test-report/>
List-Post: <mailto:test-report@dpdk.org>
List-Help: <mailto:test-report-request@dpdk.org?subject=help>
List-Subscribe: <https://mails.dpdk.org/listinfo/test-report>,
 <mailto:test-report-request@dpdk.org?subject=subscribe>
Errors-To: test-report-bounces@dpdk.org

Test-Label: iol-unit-amd64-testing
Test-Status: SUCCESS
http://dpdk.org/patch/139687

_Testing PASS_

Submitter: Frank Du <frank.du@intel.com>
Date: Friday, April 26 2024 00:51:28 
DPDK git baseline: Repo:dpdk
  Branch: master
  CommitID:8841786ab4aa72d205f97528af8708a13a851f4f

139687 --> testing pass

Test environment and result as below:

+---------------------+----------------+
|     Environment     | dpdk_unit_test |
+=====================+================+
| Windows Server 2019 | PASS           |
+---------------------+----------------+
| CentOS Stream 9     | PASS           |
+---------------------+----------------+
| Debian Bullseye     | PASS           |
+---------------------+----------------+
| CentOS Stream 8     | PASS           |
+---------------------+----------------+
| Debian 12           | PASS           |
+---------------------+----------------+
| Fedora 37           | PASS           |
+---------------------+----------------+
| Fedora 38           | PASS           |
+---------------------+----------------+
| Fedora 39           | PASS           |
+---------------------+----------------+


Windows Server 2019
	Kernel: 10.0.17763
	Compiler: clang 14.0 and gcc 8.1.0 (MinGW)

CentOS Stream 9
	Kernel: 5.4.0-167-generic
	Compiler: gcc 11.4.1 20230605

Debian Bullseye
	Kernel: 5.4.0-167-generic
	Compiler: gcc 10.2.1-6

CentOS Stream 8
	Kernel: 5.4.0-167-generic
	Compiler: gcc 8.5.0 20210514

Debian 12
	Kernel: Container Host Kernel
	Compiler: gcc 10.2.1

Fedora 37
	Kernel: Depends on container host system
	Compiler: gcc 12.3.1

Fedora 38
	Kernel: Depends on container host
	Compiler: gcc 13.2.1

Fedora 39
	Kernel: Depends on container host
	Compiler: gcc 13.2.1

To view detailed results, visit:
https://lab.dpdk.org/results/dashboard/patchsets/29860/

UNH-IOL DPDK Community Lab

To manage your email subscriptions, visit: 
https://lab.dpdk.org/results/dashboard/preferences/subscriptions/