From mboxrd@z Thu Jan  1 00:00:00 1970
Return-Path: <test-report-bounces@dpdk.org>
Received: from mails.dpdk.org (mails.dpdk.org [217.70.189.124])
	by inbox.dpdk.org (Postfix) with ESMTP id 0546A43F0F
	for <public@inbox.dpdk.org>; Fri, 26 Apr 2024 04:56:49 +0200 (CEST)
Received: from mails.dpdk.org (localhost [127.0.0.1])
	by mails.dpdk.org (Postfix) with ESMTP id 01163402B8;
	Fri, 26 Apr 2024 04:56:49 +0200 (CEST)
Received: from mail-yw1-f226.google.com (mail-yw1-f226.google.com
 [209.85.128.226])
 by mails.dpdk.org (Postfix) with ESMTP id D4E064026B
 for <test-report@dpdk.org>; Fri, 26 Apr 2024 04:56:47 +0200 (CEST)
Received: by mail-yw1-f226.google.com with SMTP id
 00721157ae682-618769020bcso18623717b3.3
 for <test-report@dpdk.org>; Thu, 25 Apr 2024 19:56:47 -0700 (PDT)
DKIM-Signature: v=1; a=rsa-sha256; c=relaxed/relaxed;
 d=iol.unh.edu; s=unh-iol; t=1714100207; x=1714705007; darn=dpdk.org;
 h=references:in-reply-to:cc:to:from:subject:message-id:date:from:to
 :cc:subject:date:message-id:reply-to;
 bh=VYeRtLsN8Xem28kl/RvdGeZJto1xAU4kDlJkPoNh3/E=;
 b=PjoBu/8/Psshdl/YX8voc+UHmrZu4pi4H/Uh8bXhrkU3yPLhG41VmNsTYVfqFePAVc
 9Gg1HFNpFq33xzMly3RIr/iwFLtyeCTjguIcfW8ltYOrteIt989zmckI/JYexzM+Si9O
 KcG5VOdzbxiC0SMaGQHJCkF8BTKmszjw0sUEs=
X-Google-DKIM-Signature: v=1; a=rsa-sha256; c=relaxed/relaxed;
 d=1e100.net; s=20230601; t=1714100207; x=1714705007;
 h=references:in-reply-to:cc:to:from:subject:message-id:date
 :x-gm-message-state:from:to:cc:subject:date:message-id:reply-to;
 bh=VYeRtLsN8Xem28kl/RvdGeZJto1xAU4kDlJkPoNh3/E=;
 b=D1nKWbjVG3tFsuWOJeMUXMBsCcbHEs6EhQsjh7F7hl6hhSMmUgO+KbqroIEP4zAOEZ
 g74ZdcEq5Zoa6302hZpDxTYewWmJo0qThQIySt5Y2rwsTQfs8jovwNxqQl5ww1AX0wYy
 Z9isRHJmi1PsgGSAWa5xSyC8xsi6ZOGOTLMNNT9l4joknMuK8cAUiBhDkHJVA40ZBet9
 i0+X9KVk5fJMG+od5Bg/oKI1jEH6YD20OldrfOrWzjW3xCRWykxYmmtl7SQSzcBQx5R0
 W8A6kguVgwjPKWZNs3kNEiameCHjT4l1vLhr1b4IRYB6HESrb8Rnp3rxtA1lXTcv5iKy
 +6SQ==
X-Gm-Message-State: AOJu0YzzBvOfUSaBc+KlFcoLlN9NcHbrTQUukgLtSfiUUFfYKkOlRpbn
 RHyhh2z75bozLGxShg5EUWrdUZWgDJXHxxJBy2HwVV8HKZgINhljnQheSNHAH0fwzFE3yv3SQTb
 kUwYSdzDx7/b8oWV4pdb63xiEH8Mv0+Oz7NsuBh1FqqbrmCDsTkpoajQ5
X-Google-Smtp-Source: AGHT+IGbU34Vhzh5zJxLvQDSc/dGWoAudjIWRptpUdqJnhRhUsVE3N2IAgsPceBTN5ZldkBUahf+0hi+fH14
X-Received: by 2002:a05:690c:3603:b0:614:7146:ea93 with SMTP id
 ft3-20020a05690c360300b006147146ea93mr1401408ywb.25.1714100207222; 
 Thu, 25 Apr 2024 19:56:47 -0700 (PDT)
Received: from postal.iol.unh.edu (postal.iol.unh.edu.
 [2606:4100:3880:1234::84]) by smtp-relay.gmail.com with ESMTPS id
 d194-20020a814fcb000000b006154a3df41asm1303287ywb.39.2024.04.25.19.56.47
 (version=TLS1_2 cipher=ECDHE-ECDSA-AES128-GCM-SHA256 bits=128/128);
 Thu, 25 Apr 2024 19:56:47 -0700 (PDT)
X-Relaying-Domain: iol.unh.edu
Date: Thu, 25 Apr 2024 19:56:47 -0700 (PDT)
Message-ID: <662b17ef.810a0220.e41e8.6c88SMTPIN_ADDED_MISSING@mx.google.com>
Received: from [172.21.0.7] (unknown [172.18.0.240])
 by postal.iol.unh.edu (Postfix) with ESMTP id D853D6052514;
 Thu, 25 Apr 2024 22:56:46 -0400 (EDT)
Subject: |SUCCESS| pw139687 [PATCH] net/af_xdp: fix umem map size for zero co
From: dpdklab@iol.unh.edu
To: Test Report <test-report@dpdk.org>
Cc: dpdk-test-reports@iol.unh.edu
In-Reply-To: <20240426005128.148730-1-frank.du@intel.com>
References: <20240426005128.148730-1-frank.du@intel.com>
Content-Type: text/plain
X-BeenThere: test-report@dpdk.org
X-Mailman-Version: 2.1.29
Precedence: list
List-Id: automatic DPDK test reports <test-report.dpdk.org>
List-Unsubscribe: <https://mails.dpdk.org/options/test-report>,
 <mailto:test-report-request@dpdk.org?subject=unsubscribe>
List-Archive: <http://mails.dpdk.org/archives/test-report/>
List-Post: <mailto:test-report@dpdk.org>
List-Help: <mailto:test-report-request@dpdk.org?subject=help>
List-Subscribe: <https://mails.dpdk.org/listinfo/test-report>,
 <mailto:test-report-request@dpdk.org?subject=subscribe>
Errors-To: test-report-bounces@dpdk.org

Test-Label: iol-unit-amd64-testing
Test-Status: SUCCESS
http://dpdk.org/patch/139687

_Testing PASS_

Submitter: Frank Du <frank.du@intel.com>
Date: Friday, April 26 2024 00:51:28 
DPDK git baseline: Repo:dpdk
  Branch: master
  CommitID:8841786ab4aa72d205f97528af8708a13a851f4f

139687 --> testing pass

Test environment and result as below:

+---------------------+----------------+
|     Environment     | dpdk_unit_test |
+=====================+================+
| Windows Server 2019 | PASS           |
+---------------------+----------------+
| CentOS Stream 9     | PASS           |
+---------------------+----------------+
| Debian Bullseye     | PASS           |
+---------------------+----------------+
| CentOS Stream 8     | PASS           |
+---------------------+----------------+
| Debian 12           | PASS           |
+---------------------+----------------+
| Fedora 37           | PASS           |
+---------------------+----------------+
| Fedora 38           | PASS           |
+---------------------+----------------+
| Fedora 39           | PASS           |
+---------------------+----------------+
| openSUSE Leap 15    | PASS           |
+---------------------+----------------+
| RHEL8               | PASS           |
+---------------------+----------------+
| Windows Server 2022 | PASS           |
+---------------------+----------------+
| Ubuntu 22.04        | PASS           |
+---------------------+----------------+
| Ubuntu 20.04        | PASS           |
+---------------------+----------------+


Windows Server 2019
	Kernel: 10.0.17763
	Compiler: clang 14.0 and gcc 8.1.0 (MinGW)

CentOS Stream 9
	Kernel: 5.4.0-167-generic
	Compiler: gcc 11.4.1 20230605

Debian Bullseye
	Kernel: 5.4.0-167-generic
	Compiler: gcc 10.2.1-6

CentOS Stream 8
	Kernel: 5.4.0-167-generic
	Compiler: gcc 8.5.0 20210514

Debian 12
	Kernel: Container Host Kernel
	Compiler: gcc 10.2.1

Fedora 37
	Kernel: Depends on container host system
	Compiler: gcc 12.3.1

Fedora 38
	Kernel: Depends on container host
	Compiler: gcc 13.2.1

Fedora 39
	Kernel: Depends on container host
	Compiler: gcc 13.2.1

openSUSE Leap 15
	Kernel: 5.4.0-167-generic
	Compiler: gcc 7.5.0

RHEL8
	Kernel: 5.4.0-167-generic
	Compiler: gcc 8.5.0 20210514 (Red Hat 8.5.0-20)

Windows Server 2022
	Kernel: 10.0.20348.2031
	Compiler: clang 15.0.7, gcc 8.1.0 (MinGW), and MSVC VS 17.9

Ubuntu 22.04
	Kernel: 5.4.0-167-generic
	Compiler: gcc 11.4.0

Ubuntu 20.04
	Kernel: 5.4.0-167-generic
	Compiler: gcc 9.4.0-1ubuntu1~20.04.1

To view detailed results, visit:
https://lab.dpdk.org/results/dashboard/patchsets/29860/

UNH-IOL DPDK Community Lab

To manage your email subscriptions, visit: 
https://lab.dpdk.org/results/dashboard/preferences/subscriptions/