From mboxrd@z Thu Jan  1 00:00:00 1970
Return-Path: <test-report-bounces@dpdk.org>
Received: from mails.dpdk.org (mails.dpdk.org [217.70.189.124])
	by inbox.dpdk.org (Postfix) with ESMTP id D70E143F0F
	for <public@inbox.dpdk.org>; Fri, 26 Apr 2024 05:00:05 +0200 (CEST)
Received: from mails.dpdk.org (localhost [127.0.0.1])
	by mails.dpdk.org (Postfix) with ESMTP id D35BD402B8;
	Fri, 26 Apr 2024 05:00:05 +0200 (CEST)
Received: from mail-yb1-f226.google.com (mail-yb1-f226.google.com
 [209.85.219.226])
 by mails.dpdk.org (Postfix) with ESMTP id 762E84026B
 for <test-report@dpdk.org>; Fri, 26 Apr 2024 05:00:05 +0200 (CEST)
Received: by mail-yb1-f226.google.com with SMTP id
 3f1490d57ef6-de56d4bb72bso2000777276.2
 for <test-report@dpdk.org>; Thu, 25 Apr 2024 20:00:05 -0700 (PDT)
DKIM-Signature: v=1; a=rsa-sha256; c=relaxed/relaxed;
 d=iol.unh.edu; s=unh-iol; t=1714100405; x=1714705205; darn=dpdk.org;
 h=references:in-reply-to:cc:to:from:subject:message-id:date:from:to
 :cc:subject:date:message-id:reply-to;
 bh=AuBVyjaoRPxd5rCFwDrM9l1q0CE9dLCjELXcmRZlU1M=;
 b=D61yEE09u6NUp2QZ6CiqmXyqkN7MiVXUP+gkkn68a42cCD7jCvWRI4lKndC4cucaOS
 q9A6MjDI+w8nCNsx/N7KvOeH+oRjWBwx5sObWkFCJGMBQID/wmhAYONWnlKK5bj70oRc
 +5eP/ZEP8QB1qFnHYQbbtv9ZoOVFN+8iS+NyU=
X-Google-DKIM-Signature: v=1; a=rsa-sha256; c=relaxed/relaxed;
 d=1e100.net; s=20230601; t=1714100405; x=1714705205;
 h=references:in-reply-to:cc:to:from:subject:message-id:date
 :x-gm-message-state:from:to:cc:subject:date:message-id:reply-to;
 bh=AuBVyjaoRPxd5rCFwDrM9l1q0CE9dLCjELXcmRZlU1M=;
 b=tusmAo+u+mDuoiqRMGQDguQ+2zi4zt+XFqd29NzeOdI34xufYX4BUUJpFfMmh5dOos
 xa1Agm9VJ+d3lHVk8Je6/vsymoF1k4MUh2t4eziENBvARLhbJRmULTakBylrQdM1i3t0
 0d10RcwhixnKfepS9EhMJSH/wAOjmorxSpODezjZEEXaDiTpl96r5sWLD293N1wOnpJk
 2q/Lz0xb/NuBKStK88E9wdxMlHEFUbDtTiHbTEMnSOHmnr6ahAmy/qj7vdsAz8irwiqq
 qGJ7kPNkC3NAPBF2XjahMJKgs7ptlpahKR/5jyEhkb/g0u5l/TjY97cVgiuXKuvCKQ4T
 RONg==
X-Gm-Message-State: AOJu0YwqKR7IQ0Ae3syPro7Zc9dsHFPiZRyLIIvG02yZ/tEXO8VCqBoT
 IEZdIlwQsLeYZ4TLkFVpFvthb3BQW37tDBw+MfIDytNOERFyVSLMKkAlDU1DGRJ2hCEi5VpHu7K
 ly5vSEZG2fKYn8G/qusxPE5T3Y2ptgxdGlTtxaHPH
X-Google-Smtp-Source: AGHT+IHUBsK+rQ4jo5EoqGTukCJsVlSyFcsKP++QHl1JXjzNK+/XT953Olx+FeWBvZnjeyCwTpxqwlOwZDb7
X-Received: by 2002:a25:dc88:0:b0:dca:e4fd:b6d5 with SMTP id
 y130-20020a25dc88000000b00dcae4fdb6d5mr1637573ybe.27.1714100404882; 
 Thu, 25 Apr 2024 20:00:04 -0700 (PDT)
Received: from postal.iol.unh.edu (postal.iol.unh.edu. [132.177.123.84])
 by smtp-relay.gmail.com with ESMTPS id
 bv16-20020a056902099000b00de0e21af741sm797431ybb.28.2024.04.25.20.00.04
 (version=TLS1_2 cipher=ECDHE-ECDSA-AES128-GCM-SHA256 bits=128/128);
 Thu, 25 Apr 2024 20:00:04 -0700 (PDT)
X-Relaying-Domain: iol.unh.edu
Date: Thu, 25 Apr 2024 20:00:04 -0700 (PDT)
Message-ID: <662b18b4.050a0220.4b84c.79fbSMTPIN_ADDED_MISSING@mx.google.com>
Received: from [172.21.0.7] (unknown [172.18.0.240])
 by postal.iol.unh.edu (Postfix) with ESMTP id 807F26052514;
 Thu, 25 Apr 2024 23:00:04 -0400 (EDT)
Subject: |SUCCESS| pw139683-139686 [PATCH] [RFC,4/4] eal/malloc: remove type 
From: dpdklab@iol.unh.edu
To: Test Report <test-report@dpdk.org>
Cc: dpdk-test-reports@iol.unh.edu
In-Reply-To: <20240425182738.4771-5-stephen@networkplumber.org>
References: <20240425182738.4771-5-stephen@networkplumber.org>
Content-Type: text/plain
X-BeenThere: test-report@dpdk.org
X-Mailman-Version: 2.1.29
Precedence: list
List-Id: automatic DPDK test reports <test-report.dpdk.org>
List-Unsubscribe: <https://mails.dpdk.org/options/test-report>,
 <mailto:test-report-request@dpdk.org?subject=unsubscribe>
List-Archive: <http://mails.dpdk.org/archives/test-report/>
List-Post: <mailto:test-report@dpdk.org>
List-Help: <mailto:test-report-request@dpdk.org?subject=help>
List-Subscribe: <https://mails.dpdk.org/listinfo/test-report>,
 <mailto:test-report-request@dpdk.org?subject=subscribe>
Errors-To: test-report-bounces@dpdk.org

Test-Label: iol-abi-testing
Test-Status: SUCCESS
http://dpdk.org/patch/139686

_Testing PASS_

Submitter: Stephen Hemminger <stephen@networkplumber.org>
Date: Thursday, April 25 2024 18:24:01 
DPDK git baseline: Repo:dpdk
  Branch: master
  CommitID:7e06c0de1952d3109a5b0c4779d7e7d8059c9d78

139683-139686 --> testing pass

Test environment and result as below:

+------------------+----------+
|   Environment    | abi_test |
+==================+==========+
| Debian Bullseye  | PASS     |
+------------------+----------+
| Fedora 38        | PASS     |
+------------------+----------+
| CentOS Stream 8  | PASS     |
+------------------+----------+
| CentOS Stream 9  | PASS     |
+------------------+----------+
| Fedora 39        | PASS     |
+------------------+----------+
| openSUSE Leap 15 | PASS     |
+------------------+----------+
| Debian 12        | PASS     |
+------------------+----------+
| Fedora 37        | PASS     |
+------------------+----------+
| Ubuntu 22.04     | PASS     |
+------------------+----------+


Debian Bullseye
	Kernel: 5.4.0-167-generic
	Compiler: gcc 10.2.1-6

Fedora 38
	Kernel: Depends on container host
	Compiler: clang 16.0.6

CentOS Stream 8
	Kernel: 5.4.0-167-generic
	Compiler: gcc 8.5.0 20210514

CentOS Stream 9
	Kernel: 5.4.0-167-generic
	Compiler: gcc 11.4.1 20230605

Fedora 39
	Kernel: Depends on container host
	Compiler: clang 17.0.6

openSUSE Leap 15
	Kernel: 5.4.0-167-generic
	Compiler: gcc 7.5.0

Debian 12
	Kernel: Container Host Kernel
	Compiler: gcc 10.2.1

Fedora 37
	Kernel: Depends on container host system
	Compiler: gcc 12.3.1

Ubuntu 22.04
	Kernel: 5.4.0-167-generic
	Compiler: gcc 11.4.0

To view detailed results, visit:
https://lab.dpdk.org/results/dashboard/patchsets/29859/

UNH-IOL DPDK Community Lab

To manage your email subscriptions, visit: 
https://lab.dpdk.org/results/dashboard/preferences/subscriptions/