From mboxrd@z Thu Jan  1 00:00:00 1970
Return-Path: <test-report-bounces@dpdk.org>
Received: from mails.dpdk.org (mails.dpdk.org [217.70.189.124])
	by inbox.dpdk.org (Postfix) with ESMTP id 1A9FF43F0F
	for <public@inbox.dpdk.org>; Fri, 26 Apr 2024 05:04:29 +0200 (CEST)
Received: from mails.dpdk.org (localhost [127.0.0.1])
	by mails.dpdk.org (Postfix) with ESMTP id 1614D402B8;
	Fri, 26 Apr 2024 05:04:29 +0200 (CEST)
Received: from mail-vk1-f225.google.com (mail-vk1-f225.google.com
 [209.85.221.225])
 by mails.dpdk.org (Postfix) with ESMTP id 9CAAC4026B
 for <test-report@dpdk.org>; Fri, 26 Apr 2024 05:04:24 +0200 (CEST)
Received: by mail-vk1-f225.google.com with SMTP id
 71dfb90a1353d-4daab3cf090so841823e0c.0
 for <test-report@dpdk.org>; Thu, 25 Apr 2024 20:04:24 -0700 (PDT)
DKIM-Signature: v=1; a=rsa-sha256; c=relaxed/relaxed;
 d=iol.unh.edu; s=unh-iol; t=1714100664; x=1714705464; darn=dpdk.org;
 h=references:in-reply-to:cc:to:from:subject:message-id:date:from:to
 :cc:subject:date:message-id:reply-to;
 bh=+RIN8f0K8bSR9D8ZsbfzH1ahvsToWYgu+rG4fGT48+k=;
 b=S51ti672M40XOu/Ev0qi6by96DS4IaVH8OoHyQeyWhCan9qOzJ+c8pVo84aJTyIq75
 psCVtTSWc9c0OVsrLRUX25bJyAi5rMK4fAdYqHy0GepJUGhxO0uvzQ9qcEi0kYWACReK
 W62K8gsNhysb+HCTLhv9SJGHmVunqKLqsmdo8=
X-Google-DKIM-Signature: v=1; a=rsa-sha256; c=relaxed/relaxed;
 d=1e100.net; s=20230601; t=1714100664; x=1714705464;
 h=references:in-reply-to:cc:to:from:subject:message-id:date
 :x-gm-message-state:from:to:cc:subject:date:message-id:reply-to;
 bh=+RIN8f0K8bSR9D8ZsbfzH1ahvsToWYgu+rG4fGT48+k=;
 b=Yc/88loIxHgVznozKT58g25vewkd2HEwpcaA/9wP8SjgaHsTB3s9A3eA4e1oqK69n7
 Fod1sR3cKXdRi5Ujilm7ka6pTZ8Ih2tRcQcIlehZdr5x22nYvBPEZ1vMY5dU3Qwj6rV4
 YOZHcJ9w1Mmeui1V7Lq7pybjxrHAuPeA32hsi/B+cA75V6pDRwZMdMPon96pQnR873FC
 PPHNOgM24d0XvtoSbt7QP3+d2sfgNiMNL/yoNvT32WYGCZCdW5H4s62jObWSxXgXZ+Z+
 OpWiDFVS9HC1h2UzQBzcTFXkCUwepn3oMNgkSKOBTkuyYarn/SHORmuy5RkC1s9j83Mn
 BoSA==
X-Gm-Message-State: AOJu0Yw5HUE7IApA/LcTdyH1xjJByxf6r5Jo+yZU8Y830gXC/E4D+6DM
 NzhEWvNBl4CBcXo4XM9T+nj8vmKMQBI7qrShUljcelshMD8etkXVBTSFNcVL8PEsGt+onFSDqWM
 HtgkGLaDZAFgOgH1hiKU9gHK5Xch9RAGHcBG/kteb
X-Google-Smtp-Source: AGHT+IE3sjiZRzJ4Eo8slkxfdEPySbKxby9VyL1LIQDiNvdOsyW89Yy5tjB6hCLrKdp3mdynzDk+QjkRUn5A
X-Received: by 2002:a05:6122:a18:b0:4da:a788:cad5 with SMTP id
 24-20020a0561220a1800b004daa788cad5mr2123681vkn.5.1714100662505; 
 Thu, 25 Apr 2024 20:04:22 -0700 (PDT)
Received: from postal.iol.unh.edu (postal.iol.unh.edu. [132.177.123.84])
 by smtp-relay.gmail.com with ESMTPS id
 ay32-20020a056122182000b004da963ef76csm980399vkb.7.2024.04.25.20.04.22
 (version=TLS1_2 cipher=ECDHE-ECDSA-AES128-GCM-SHA256 bits=128/128);
 Thu, 25 Apr 2024 20:04:22 -0700 (PDT)
X-Relaying-Domain: iol.unh.edu
Date: Thu, 25 Apr 2024 20:04:22 -0700 (PDT)
Message-ID: <662b19b6.050a0220.c2308.f278SMTPIN_ADDED_MISSING@mx.google.com>
Received: from [172.21.0.6] (unknown [172.18.0.240])
 by postal.iol.unh.edu (Postfix) with ESMTP id 2AD2B6052514;
 Thu, 25 Apr 2024 23:04:22 -0400 (EDT)
Subject: |SUCCESS| pw139683-139686 [PATCH] [RFC,4/4] eal/malloc: remove type 
From: dpdklab@iol.unh.edu
To: Test Report <test-report@dpdk.org>
Cc: dpdk-test-reports@iol.unh.edu
In-Reply-To: <20240425182738.4771-5-stephen@networkplumber.org>
References: <20240425182738.4771-5-stephen@networkplumber.org>
Content-Type: text/plain
X-BeenThere: test-report@dpdk.org
X-Mailman-Version: 2.1.29
Precedence: list
List-Id: automatic DPDK test reports <test-report.dpdk.org>
List-Unsubscribe: <https://mails.dpdk.org/options/test-report>,
 <mailto:test-report-request@dpdk.org?subject=unsubscribe>
List-Archive: <http://mails.dpdk.org/archives/test-report/>
List-Post: <mailto:test-report@dpdk.org>
List-Help: <mailto:test-report-request@dpdk.org?subject=help>
List-Subscribe: <https://mails.dpdk.org/listinfo/test-report>,
 <mailto:test-report-request@dpdk.org?subject=subscribe>
Errors-To: test-report-bounces@dpdk.org

Test-Label: iol-abi-testing
Test-Status: SUCCESS
http://dpdk.org/patch/139686

_Testing PASS_

Submitter: Stephen Hemminger <stephen@networkplumber.org>
Date: Thursday, April 25 2024 18:24:01 
DPDK git baseline: Repo:dpdk
  Branch: master
  CommitID:7e06c0de1952d3109a5b0c4779d7e7d8059c9d78

139683-139686 --> testing pass

Test environment and result as below:

+------------------+----------+
|   Environment    | abi_test |
+==================+==========+
| Debian Bullseye  | PASS     |
+------------------+----------+
| Fedora 38        | PASS     |
+------------------+----------+
| CentOS Stream 8  | PASS     |
+------------------+----------+
| CentOS Stream 9  | PASS     |
+------------------+----------+
| Fedora 39        | PASS     |
+------------------+----------+
| openSUSE Leap 15 | PASS     |
+------------------+----------+
| Debian 12        | PASS     |
+------------------+----------+
| Fedora 37        | PASS     |
+------------------+----------+
| Ubuntu 22.04     | PASS     |
+------------------+----------+
| RHEL8            | PASS     |
+------------------+----------+


Debian Bullseye
	Kernel: 5.4.0-167-generic
	Compiler: gcc 10.2.1-6

Fedora 38
	Kernel: Depends on container host
	Compiler: clang 16.0.6

CentOS Stream 8
	Kernel: 5.4.0-167-generic
	Compiler: gcc 8.5.0 20210514

CentOS Stream 9
	Kernel: 5.4.0-167-generic
	Compiler: gcc 11.4.1 20230605

Fedora 39
	Kernel: Depends on container host
	Compiler: clang 17.0.6

openSUSE Leap 15
	Kernel: 5.4.0-167-generic
	Compiler: gcc 7.5.0

Debian 12
	Kernel: Container Host Kernel
	Compiler: gcc 10.2.1

Fedora 37
	Kernel: Depends on container host system
	Compiler: gcc 12.3.1

Ubuntu 22.04
	Kernel: 5.4.0-167-generic
	Compiler: gcc 11.4.0

RHEL8
	Kernel: 5.4.0-167-generic
	Compiler: gcc 8.5.0 20210514 (Red Hat 8.5.0-20)

To view detailed results, visit:
https://lab.dpdk.org/results/dashboard/patchsets/29859/

UNH-IOL DPDK Community Lab

To manage your email subscriptions, visit: 
https://lab.dpdk.org/results/dashboard/preferences/subscriptions/