From mboxrd@z Thu Jan  1 00:00:00 1970
Return-Path: <test-report-bounces@dpdk.org>
Received: from mails.dpdk.org (mails.dpdk.org [217.70.189.124])
	by inbox.dpdk.org (Postfix) with ESMTP id 4BFD543F0F
	for <public@inbox.dpdk.org>; Fri, 26 Apr 2024 05:04:41 +0200 (CEST)
Received: from mails.dpdk.org (localhost [127.0.0.1])
	by mails.dpdk.org (Postfix) with ESMTP id 41501402B8;
	Fri, 26 Apr 2024 05:04:41 +0200 (CEST)
Received: from mail-ua1-f98.google.com (mail-ua1-f98.google.com
 [209.85.222.98]) by mails.dpdk.org (Postfix) with ESMTP id 33A524026B
 for <test-report@dpdk.org>; Fri, 26 Apr 2024 05:04:40 +0200 (CEST)
Received: by mail-ua1-f98.google.com with SMTP id
 a1e0cc1a2514c-7efa7296bd9so12768241.0
 for <test-report@dpdk.org>; Thu, 25 Apr 2024 20:04:40 -0700 (PDT)
DKIM-Signature: v=1; a=rsa-sha256; c=relaxed/relaxed;
 d=iol.unh.edu; s=unh-iol; t=1714100679; x=1714705479; darn=dpdk.org;
 h=references:in-reply-to:cc:to:from:subject:message-id:date:from:to
 :cc:subject:date:message-id:reply-to;
 bh=1ydLuhJhZtb6xwEAZQ6XN2sU0abvvIBKCbhRPQOSbDQ=;
 b=B2k2Oc10NlztP7IosN04riB+qOC/Iqz1k8ARIXclCfkxfS38jbkL3BKS/qO6bfCai8
 gWZbP8r8Sd2fwVMtMt5+El7y5le9X5Z6NoJQh4f2drcP1sBBu1rdjNsvxGGTwTWI+zkz
 Dzyvw5bALV8f9X+/edI0MJbSZd2tMxYLQ8BfM=
X-Google-DKIM-Signature: v=1; a=rsa-sha256; c=relaxed/relaxed;
 d=1e100.net; s=20230601; t=1714100679; x=1714705479;
 h=references:in-reply-to:cc:to:from:subject:message-id:date
 :x-gm-message-state:from:to:cc:subject:date:message-id:reply-to;
 bh=1ydLuhJhZtb6xwEAZQ6XN2sU0abvvIBKCbhRPQOSbDQ=;
 b=mhuWhk7DP8BQQKXrt3bVjx2eOUAIgme2jcB0a4jdAs86G+SHuhWvZLq/ePJHe5B5TW
 yd2qGCYOJNZ/Ak51vJr01/uFm9ogB4kDs7X5n+U55k8/C1ewmddcEt3lNML8n/ufxDCf
 6h1WhCPqJ2q8lApcYSbEbr89bA4mD7igU9HV57o/IZbF2ADnrFD9ymPepo8dG2So4zTr
 bSqzEyZZRdazSRsMjy7n+wfEn45w4AMZO6Bey43kX08UkCbCsH6Xl2qL/mHGrWexWG/P
 xlSiESrAJJ9UKKLctS6HEjNkJQYojYIg8UE+Mc/hoIReK2BJKCsz5T6d14S8yPEbiv12
 mOow==
X-Gm-Message-State: AOJu0Yx044fqoSc9UGR66+Jn+I5xoOlRTYS4y8SoxMlwwbqEY2sfXVJ2
 NaIa59IdiITCeQx5HJ3anjEuTp00tuvr+aDunVi53X8HZ8Hjf78PIUgITuoTTzqe4T/PdWWZQCU
 Jnieuak987kFBcfluSD91jnb4Nu0ZNBg72WDRY5tQ
X-Google-Smtp-Source: AGHT+IEq8TAHoA1xlwg4KyD9nCMojCaXkTxSfqQ4wxEzqlUSJr7dJKlk2ejL3TDo8DT1rCJcnyJR81sQbHi5
X-Received: by 2002:a67:f319:0:b0:47a:16c2:73dd with SMTP id
 p25-20020a67f319000000b0047a16c273ddmr1521013vsf.32.1714100677943; 
 Thu, 25 Apr 2024 20:04:37 -0700 (PDT)
Received: from postal.iol.unh.edu (postal.iol.unh.edu. [132.177.123.84])
 by smtp-relay.gmail.com with ESMTPS id
 az40-20020a05613003a800b007db2ba0a2c4sm860601uab.16.2024.04.25.20.04.37
 (version=TLS1_2 cipher=ECDHE-ECDSA-AES128-GCM-SHA256 bits=128/128);
 Thu, 25 Apr 2024 20:04:37 -0700 (PDT)
X-Relaying-Domain: iol.unh.edu
Date: Thu, 25 Apr 2024 20:04:37 -0700 (PDT)
Message-ID: <662b19c5.050a0220.ed8d3.7433SMTPIN_ADDED_MISSING@mx.google.com>
Received: from [172.21.0.6] (unknown [172.18.0.240])
 by postal.iol.unh.edu (Postfix) with ESMTP id 952E26052514;
 Thu, 25 Apr 2024 23:04:37 -0400 (EDT)
Subject: |SUCCESS| pw139683-139686 [PATCH] [RFC,4/4] eal/malloc: remove type 
From: dpdklab@iol.unh.edu
To: Test Report <test-report@dpdk.org>
Cc: dpdk-test-reports@iol.unh.edu
In-Reply-To: <20240425182738.4771-5-stephen@networkplumber.org>
References: <20240425182738.4771-5-stephen@networkplumber.org>
Content-Type: text/plain
X-BeenThere: test-report@dpdk.org
X-Mailman-Version: 2.1.29
Precedence: list
List-Id: automatic DPDK test reports <test-report.dpdk.org>
List-Unsubscribe: <https://mails.dpdk.org/options/test-report>,
 <mailto:test-report-request@dpdk.org?subject=unsubscribe>
List-Archive: <http://mails.dpdk.org/archives/test-report/>
List-Post: <mailto:test-report@dpdk.org>
List-Help: <mailto:test-report-request@dpdk.org?subject=help>
List-Subscribe: <https://mails.dpdk.org/listinfo/test-report>,
 <mailto:test-report-request@dpdk.org?subject=subscribe>
Errors-To: test-report-bounces@dpdk.org

Test-Label: iol-unit-amd64-testing
Test-Status: SUCCESS
http://dpdk.org/patch/139686

_Testing PASS_

Submitter: Stephen Hemminger <stephen@networkplumber.org>
Date: Thursday, April 25 2024 18:24:01 
DPDK git baseline: Repo:dpdk
  Branch: master
  CommitID:7e06c0de1952d3109a5b0c4779d7e7d8059c9d78

139683-139686 --> testing pass

Test environment and result as below:

+-----------------+----------------+
|   Environment   | dpdk_unit_test |
+=================+================+
| CentOS Stream 8 | PASS           |
+-----------------+----------------+
| CentOS Stream 9 | PASS           |
+-----------------+----------------+
| Debian Bullseye | PASS           |
+-----------------+----------------+
| Fedora 37       | PASS           |
+-----------------+----------------+
| Debian 12       | PASS           |
+-----------------+----------------+


CentOS Stream 8
	Kernel: 5.4.0-167-generic
	Compiler: gcc 8.5.0 20210514

CentOS Stream 9
	Kernel: 5.4.0-167-generic
	Compiler: gcc 11.4.1 20230605

Debian Bullseye
	Kernel: 5.4.0-167-generic
	Compiler: gcc 10.2.1-6

Fedora 37
	Kernel: Depends on container host system
	Compiler: gcc 12.3.1

Debian 12
	Kernel: Container Host Kernel
	Compiler: gcc 10.2.1

To view detailed results, visit:
https://lab.dpdk.org/results/dashboard/patchsets/29859/

UNH-IOL DPDK Community Lab

To manage your email subscriptions, visit: 
https://lab.dpdk.org/results/dashboard/preferences/subscriptions/