From mboxrd@z Thu Jan  1 00:00:00 1970
Return-Path: <test-report-bounces@dpdk.org>
Received: from mails.dpdk.org (mails.dpdk.org [217.70.189.124])
	by inbox.dpdk.org (Postfix) with ESMTP id 659D443F0F
	for <public@inbox.dpdk.org>; Fri, 26 Apr 2024 05:04:55 +0200 (CEST)
Received: from mails.dpdk.org (localhost [127.0.0.1])
	by mails.dpdk.org (Postfix) with ESMTP id 5DE6F402B8;
	Fri, 26 Apr 2024 05:04:55 +0200 (CEST)
Received: from mail-vk1-f226.google.com (mail-vk1-f226.google.com
 [209.85.221.226])
 by mails.dpdk.org (Postfix) with ESMTP id CD4E84026B
 for <test-report@dpdk.org>; Fri, 26 Apr 2024 05:04:49 +0200 (CEST)
Received: by mail-vk1-f226.google.com with SMTP id
 71dfb90a1353d-4dac4791267so517519e0c.1
 for <test-report@dpdk.org>; Thu, 25 Apr 2024 20:04:49 -0700 (PDT)
DKIM-Signature: v=1; a=rsa-sha256; c=relaxed/relaxed;
 d=iol.unh.edu; s=unh-iol; t=1714100689; x=1714705489; darn=dpdk.org;
 h=references:in-reply-to:cc:to:from:subject:message-id:date:from:to
 :cc:subject:date:message-id:reply-to;
 bh=+RIN8f0K8bSR9D8ZsbfzH1ahvsToWYgu+rG4fGT48+k=;
 b=DW4xmAeoIqU6SAPINCVrs8w9rrTg4Z+AP27RBj1zdku4jHe13h4/pwT5PQ5AoJHpms
 DDc7TNeOX/38Z6t3At/Fq2AS3J4Xb0znCOU82kIB/a9GLzns1fzOgFF6M1eqlwTQ1Vnq
 ZMadbhbhjRbowFYknNW1rlxN9Bi/b2qrZJgSY=
X-Google-DKIM-Signature: v=1; a=rsa-sha256; c=relaxed/relaxed;
 d=1e100.net; s=20230601; t=1714100689; x=1714705489;
 h=references:in-reply-to:cc:to:from:subject:message-id:date
 :x-gm-message-state:from:to:cc:subject:date:message-id:reply-to;
 bh=+RIN8f0K8bSR9D8ZsbfzH1ahvsToWYgu+rG4fGT48+k=;
 b=TnVknlYcKXBBXx3csJRaCtgGtrbqBqf5SmdeD9PszpdoNeklHXrgMNR6vqMJVSSvuz
 Lrr4tDtAWgvcXMgo0T6ZtNC7s4aeW92+mwFi0BQ+oyJfc0Jtv1FsDsqwtPl5xr7iZH8a
 wGXmDKSYZ30ItL/JJAs0BwL1usNUggypDW7yYSNhTQEj05Ur7B6iX+zoiuwQ0EPmOBHQ
 OpWNqsK3YgF1D8339nO7MujCTBBdnnKqCIXCQ73xGoDuMD9rn1iSfOfGXZJI+e3CIDDm
 jp1pwUoykTWeYQwq4OlJU4CObregAuKhwYOjprl7fUtKZfuVn7OFABspGf1yaYQp3GuK
 /mLg==
X-Gm-Message-State: AOJu0YxSUKX/D23/2/44ZVZoS5DOEJxhamy+iL7aWNejJhpNul//+MzE
 jRvye+EHN0n8j57Slvq5B/A5avUl6snADLNJ3rm25njwzBObFSZOVa9A7j4UnLwfsxvhCGZJtB1
 zRFq66rNx8YIxWtJ8XdGJVnG77W4sRiH4ZBkAAt1i
X-Google-Smtp-Source: AGHT+IEkpLf6HNI5i0aOFxzVf0VKNkuPRcsCpIRsiO7Ln6v5F9R/RZzzhnE9UJRt2/v6JdL/FDVP2mN5AML8
X-Received: by 2002:a05:6122:514:b0:4dc:d7aa:ccf9 with SMTP id
 x20-20020a056122051400b004dcd7aaccf9mr1452138vko.12.1714100687689; 
 Thu, 25 Apr 2024 20:04:47 -0700 (PDT)
Received: from postal.iol.unh.edu (postal.iol.unh.edu. [132.177.123.84])
 by smtp-relay.gmail.com with ESMTPS id
 j22-20020a056122091600b004daa7e5150asm1001034vka.11.2024.04.25.20.04.47
 (version=TLS1_2 cipher=ECDHE-ECDSA-AES128-GCM-SHA256 bits=128/128);
 Thu, 25 Apr 2024 20:04:47 -0700 (PDT)
X-Relaying-Domain: iol.unh.edu
Date: Thu, 25 Apr 2024 20:04:47 -0700 (PDT)
Message-ID: <662b19cf.050a0220.70219.02d2SMTPIN_ADDED_MISSING@mx.google.com>
Received: from [172.21.0.6] (unknown [172.18.0.240])
 by postal.iol.unh.edu (Postfix) with ESMTP id 50CE56052514;
 Thu, 25 Apr 2024 23:04:47 -0400 (EDT)
Subject: |SUCCESS| pw139683-139686 [PATCH] [RFC,4/4] eal/malloc: remove type 
From: dpdklab@iol.unh.edu
To: Test Report <test-report@dpdk.org>
Cc: dpdk-test-reports@iol.unh.edu
In-Reply-To: <20240425182738.4771-5-stephen@networkplumber.org>
References: <20240425182738.4771-5-stephen@networkplumber.org>
Content-Type: text/plain
X-BeenThere: test-report@dpdk.org
X-Mailman-Version: 2.1.29
Precedence: list
List-Id: automatic DPDK test reports <test-report.dpdk.org>
List-Unsubscribe: <https://mails.dpdk.org/options/test-report>,
 <mailto:test-report-request@dpdk.org?subject=unsubscribe>
List-Archive: <http://mails.dpdk.org/archives/test-report/>
List-Post: <mailto:test-report@dpdk.org>
List-Help: <mailto:test-report-request@dpdk.org?subject=help>
List-Subscribe: <https://mails.dpdk.org/listinfo/test-report>,
 <mailto:test-report-request@dpdk.org?subject=subscribe>
Errors-To: test-report-bounces@dpdk.org

Test-Label: iol-abi-testing
Test-Status: SUCCESS
http://dpdk.org/patch/139686

_Testing PASS_

Submitter: Stephen Hemminger <stephen@networkplumber.org>
Date: Thursday, April 25 2024 18:24:01 
DPDK git baseline: Repo:dpdk
  Branch: master
  CommitID:7e06c0de1952d3109a5b0c4779d7e7d8059c9d78

139683-139686 --> testing pass

Test environment and result as below:

+------------------+----------+
|   Environment    | abi_test |
+==================+==========+
| Debian Bullseye  | PASS     |
+------------------+----------+
| Fedora 38        | PASS     |
+------------------+----------+
| CentOS Stream 8  | PASS     |
+------------------+----------+
| CentOS Stream 9  | PASS     |
+------------------+----------+
| Fedora 39        | PASS     |
+------------------+----------+
| openSUSE Leap 15 | PASS     |
+------------------+----------+
| Debian 12        | PASS     |
+------------------+----------+
| Fedora 37        | PASS     |
+------------------+----------+
| Ubuntu 22.04     | PASS     |
+------------------+----------+
| RHEL8            | PASS     |
+------------------+----------+


Debian Bullseye
	Kernel: 5.4.0-167-generic
	Compiler: gcc 10.2.1-6

Fedora 38
	Kernel: Depends on container host
	Compiler: clang 16.0.6

CentOS Stream 8
	Kernel: 5.4.0-167-generic
	Compiler: gcc 8.5.0 20210514

CentOS Stream 9
	Kernel: 5.4.0-167-generic
	Compiler: gcc 11.4.1 20230605

Fedora 39
	Kernel: Depends on container host
	Compiler: clang 17.0.6

openSUSE Leap 15
	Kernel: 5.4.0-167-generic
	Compiler: gcc 7.5.0

Debian 12
	Kernel: Container Host Kernel
	Compiler: gcc 10.2.1

Fedora 37
	Kernel: Depends on container host system
	Compiler: gcc 12.3.1

Ubuntu 22.04
	Kernel: 5.4.0-167-generic
	Compiler: gcc 11.4.0

RHEL8
	Kernel: 5.4.0-167-generic
	Compiler: gcc 8.5.0 20210514 (Red Hat 8.5.0-20)

To view detailed results, visit:
https://lab.dpdk.org/results/dashboard/patchsets/29859/

UNH-IOL DPDK Community Lab

To manage your email subscriptions, visit: 
https://lab.dpdk.org/results/dashboard/preferences/subscriptions/