From mboxrd@z Thu Jan  1 00:00:00 1970
Return-Path: <test-report-bounces@dpdk.org>
Received: from mails.dpdk.org (mails.dpdk.org [217.70.189.124])
	by inbox.dpdk.org (Postfix) with ESMTP id 1D7D543F06
	for <public@inbox.dpdk.org>; Fri, 26 Apr 2024 05:06:09 +0200 (CEST)
Received: from mails.dpdk.org (localhost [127.0.0.1])
	by mails.dpdk.org (Postfix) with ESMTP id 157C0402B8;
	Fri, 26 Apr 2024 05:06:09 +0200 (CEST)
Received: from mail-vk1-f228.google.com (mail-vk1-f228.google.com
 [209.85.221.228])
 by mails.dpdk.org (Postfix) with ESMTP id 599914026B
 for <test-report@dpdk.org>; Fri, 26 Apr 2024 05:05:57 +0200 (CEST)
Received: by mail-vk1-f228.google.com with SMTP id
 71dfb90a1353d-4daa513e430so490828e0c.2
 for <test-report@dpdk.org>; Thu, 25 Apr 2024 20:05:57 -0700 (PDT)
DKIM-Signature: v=1; a=rsa-sha256; c=relaxed/relaxed;
 d=iol.unh.edu; s=unh-iol; t=1714100756; x=1714705556; darn=dpdk.org;
 h=references:in-reply-to:cc:to:from:subject:message-id:date:from:to
 :cc:subject:date:message-id:reply-to;
 bh=e8yREa3NDNHxtY0VUYhw6jVcvwQ/4LcUZFKM0xVEdYo=;
 b=PZeyjAd0SSFth5zeszl/FbGjAPEqJDGtAeK+swXyo7FrJVyDUGXkAfrplzZ2UjvfEu
 6hYHN1e6RjNLagU+eEM39uOmzCE4SNYzbH64lSehL82Iv2GwxC1Hfwr9ia33gzSaSZkU
 eya8JwAdzujwN+eS/u8z4bwAwg/hHHWcuc2B0=
X-Google-DKIM-Signature: v=1; a=rsa-sha256; c=relaxed/relaxed;
 d=1e100.net; s=20230601; t=1714100756; x=1714705556;
 h=references:in-reply-to:cc:to:from:subject:message-id:date
 :x-gm-message-state:from:to:cc:subject:date:message-id:reply-to;
 bh=e8yREa3NDNHxtY0VUYhw6jVcvwQ/4LcUZFKM0xVEdYo=;
 b=AMunjZOsRXi/GErRvdnxwOcExNo7LITq3QBCRhKeQ4Bb1ZLqzE3ExfDpnlRXFQFgv+
 3sLopYa76RQ5hHsBG+kLKNK2KX9EvSvDN4R0saSsEDz598tFyTvZU/H+Ibyi7RQof8nv
 Y5kmoBSrIRA2DHnjPZKk3PxgabR4GZHbr7OAz5YaLxbRBdNR306gFbHkS4VhQy3qufCi
 4SEGs521DOWKphSjlrfH2TuF2qGwr+rlkt3dtAYgBwtabZzNmeJwsf939siwfo8AgfjI
 KAGTjXTbUtGwPI4fYj0+7Ck8zkoHN/OGRov6xEAOoVyYWxBWsZa0h1Ud5Hy1qjMbDtkh
 R39A==
X-Gm-Message-State: AOJu0Yx8ra0kVf/Z+6+iDHYxNbNXjOzCAAlSlIcIkJ5dd9GUtYL8lrEm
 V177fn1eF+AnA3cCrRZEx6NczLazrH6+duRURH16XOXjJKn3yLjWda9qAE6AFqQjg7uT+WEpPrS
 Ynl5JjZPluWQWRH8hT9Go1k9JTnczaV+8ftezyTak
X-Google-Smtp-Source: AGHT+IHG/1ABBiaimaY22YX1zrLY+g5A2tMLE8nEUQnwxNwvzy/xIa6DZF+4pIKcdryFSn5b0aS6Qiolmq6y
X-Received: by 2002:a67:ec47:0:b0:47a:23b9:d013 with SMTP id
 z7-20020a67ec47000000b0047a23b9d013mr1309301vso.25.1714100755274; 
 Thu, 25 Apr 2024 20:05:55 -0700 (PDT)
Received: from postal.iol.unh.edu (postal.iol.unh.edu. [132.177.123.84])
 by smtp-relay.gmail.com with ESMTPS id
 cd39-20020a05610241a700b0047c202d29b3sm114387vsb.2.2024.04.25.20.05.55
 (version=TLS1_2 cipher=ECDHE-ECDSA-AES128-GCM-SHA256 bits=128/128);
 Thu, 25 Apr 2024 20:05:55 -0700 (PDT)
X-Relaying-Domain: iol.unh.edu
Date: Thu, 25 Apr 2024 20:05:55 -0700 (PDT)
Message-ID: <662b1a13.050a0220.c4944.68d8SMTPIN_ADDED_MISSING@mx.google.com>
Received: from [172.21.0.6] (unknown [172.18.0.240])
 by postal.iol.unh.edu (Postfix) with ESMTP id E03F36052514;
 Thu, 25 Apr 2024 23:05:54 -0400 (EDT)
Subject: |SUCCESS| pw139683-139686 [PATCH] [RFC,4/4] eal/malloc: remove type 
From: dpdklab@iol.unh.edu
To: Test Report <test-report@dpdk.org>
Cc: dpdk-test-reports@iol.unh.edu
In-Reply-To: <20240425182738.4771-5-stephen@networkplumber.org>
References: <20240425182738.4771-5-stephen@networkplumber.org>
Content-Type: text/plain
X-BeenThere: test-report@dpdk.org
X-Mailman-Version: 2.1.29
Precedence: list
List-Id: automatic DPDK test reports <test-report.dpdk.org>
List-Unsubscribe: <https://mails.dpdk.org/options/test-report>,
 <mailto:test-report-request@dpdk.org?subject=unsubscribe>
List-Archive: <http://mails.dpdk.org/archives/test-report/>
List-Post: <mailto:test-report@dpdk.org>
List-Help: <mailto:test-report-request@dpdk.org?subject=help>
List-Subscribe: <https://mails.dpdk.org/listinfo/test-report>,
 <mailto:test-report-request@dpdk.org?subject=subscribe>
Errors-To: test-report-bounces@dpdk.org

Test-Label: iol-compile-amd64-testing
Test-Status: SUCCESS
http://dpdk.org/patch/139686

_Testing PASS_

Submitter: Stephen Hemminger <stephen@networkplumber.org>
Date: Thursday, April 25 2024 18:24:01 
DPDK git baseline: Repo:dpdk
  Branch: master
  CommitID:7e06c0de1952d3109a5b0c4779d7e7d8059c9d78

139683-139686 --> testing pass

Test environment and result as below:

+---------------------+--------------------+----------------------+-------------------+
|     Environment     | dpdk_meson_compile | dpdk_mingw64_compile | dpdk_msvc_compile |
+=====================+====================+======================+===================+
| Windows Server 2019 | PASS               | PASS                 | SKIPPED           |
+---------------------+--------------------+----------------------+-------------------+
| Windows Server 2022 | PASS               | PASS                 | PASS              |
+---------------------+--------------------+----------------------+-------------------+
| FreeBSD 13.3        | PASS               | SKIPPED              | SKIPPED           |
+---------------------+--------------------+----------------------+-------------------+
| CentOS Stream 8     | PASS               | SKIPPED              | SKIPPED           |
+---------------------+--------------------+----------------------+-------------------+
| Debian Bullseye     | PASS               | SKIPPED              | SKIPPED           |
+---------------------+--------------------+----------------------+-------------------+
| CentOS Stream 9     | PASS               | SKIPPED              | SKIPPED           |
+---------------------+--------------------+----------------------+-------------------+


Windows Server 2019
	Kernel: 10.0.17763
	Compiler: clang 14.0 and gcc 8.1.0 (MinGW)

Windows Server 2022
	Kernel: 10.0.20348.2031
	Compiler: clang 15.0.7, gcc 8.1.0 (MinGW), and MSVC VS 17.9

FreeBSD 13.3
	Kernel: 13.3-RELEASE-p1
	Compiler: clang 17.0.6

CentOS Stream 8
	Kernel: 5.4.0-167-generic
	Compiler: gcc 8.5.0 20210514

Debian Bullseye
	Kernel: 5.4.0-167-generic
	Compiler: gcc 10.2.1-6

CentOS Stream 9
	Kernel: 5.4.0-167-generic
	Compiler: gcc 11.4.1 20230605

To view detailed results, visit:
https://lab.dpdk.org/results/dashboard/patchsets/29859/

UNH-IOL DPDK Community Lab

To manage your email subscriptions, visit: 
https://lab.dpdk.org/results/dashboard/preferences/subscriptions/