From mboxrd@z Thu Jan  1 00:00:00 1970
Return-Path: <test-report-bounces@dpdk.org>
Received: from mails.dpdk.org (mails.dpdk.org [217.70.189.124])
	by inbox.dpdk.org (Postfix) with ESMTP id 60DC743F06
	for <public@inbox.dpdk.org>; Fri, 26 Apr 2024 05:06:31 +0200 (CEST)
Received: from mails.dpdk.org (localhost [127.0.0.1])
	by mails.dpdk.org (Postfix) with ESMTP id 5CD18402B8;
	Fri, 26 Apr 2024 05:06:31 +0200 (CEST)
Received: from mail-il1-f228.google.com (mail-il1-f228.google.com
 [209.85.166.228])
 by mails.dpdk.org (Postfix) with ESMTP id 10B424026B
 for <test-report@dpdk.org>; Fri, 26 Apr 2024 05:06:23 +0200 (CEST)
Received: by mail-il1-f228.google.com with SMTP id
 e9e14a558f8ab-36b375ceb9bso7534515ab.2
 for <test-report@dpdk.org>; Thu, 25 Apr 2024 20:06:23 -0700 (PDT)
DKIM-Signature: v=1; a=rsa-sha256; c=relaxed/relaxed;
 d=iol.unh.edu; s=unh-iol; t=1714100782; x=1714705582; darn=dpdk.org;
 h=references:in-reply-to:cc:to:from:subject:message-id:date:from:to
 :cc:subject:date:message-id:reply-to;
 bh=QKO2odvAdBtgVK8EIEfczjhIpVha2c4Lwb3NEBMRbuY=;
 b=d8LvA0wrInuZEl/a2PEqHMABtZvnrg/2ym7h+njs+5HNiG7FXtnEWJetJ33Bjo5lxG
 V0vJ+atYDqDecacivpPes4W0bHepYpR7Rnd0B4ec+JCtWLsH+gA55jSQDeQcIXjNDp+/
 bWjwpQLSRXrXY6lsD+dtRZq5quCvn48bjb8oU=
X-Google-DKIM-Signature: v=1; a=rsa-sha256; c=relaxed/relaxed;
 d=1e100.net; s=20230601; t=1714100782; x=1714705582;
 h=references:in-reply-to:cc:to:from:subject:message-id:date
 :x-gm-message-state:from:to:cc:subject:date:message-id:reply-to;
 bh=QKO2odvAdBtgVK8EIEfczjhIpVha2c4Lwb3NEBMRbuY=;
 b=sm2Wo7FJhjCO82D9nyA0qEvVEJe56HAfKNTPuzojThwdyin/NQICY0GvYuVUQMYJtx
 3kbIyrdLiFqe/S6Rh3PJo899VtlOEl+D9xnAwkxMD3kUqNHjps+CQNM7xCD02a1s4+Yx
 5QGWxz+Ttii9fj8289ZnfRGgSl3ljFKKepYw6kz8jImCfPakec3a9dTQhrIxxD2BjGbY
 7IzweTAP6A3gMErLJ0MXPbfP1BGKo4B2NpMe8B3gH0RErC7umxWCHUInCSIV+tnbEFPc
 RhdpHkoY25ecVD/6IdRQo85ANs11+WlwMSc1kwd75/N40UM0Nsxab/u//6StvQtplfOB
 /NSA==
X-Gm-Message-State: AOJu0YxYX/sD+QTyz9nAHxnjffDnRX1e2WbGDa+EReEbR9GefW+wsIVg
 OS2hfnSuqyGFL1Wq36SI8NySFIZGA3QlFw2jjRKbShlFIxxGnPOTRvujB1rj6Fp/x419xUPw6lT
 eOCm6gZtlsunMf078lQwhI1rTWgLO7czQVBM+CIdN
X-Google-Smtp-Source: AGHT+IE78FhD1iO0XHoMn+NsRAbTtruiJPYdNypt757ov0WwrR+7HIa08Vxvcm2u03NKNsYzqR8lovSMMuyg
X-Received: by 2002:a05:6e02:1d09:b0:36a:fc8e:a6cd with SMTP id
 i9-20020a056e021d0900b0036afc8ea6cdmr2037458ila.10.1714100782477; 
 Thu, 25 Apr 2024 20:06:22 -0700 (PDT)
Received: from postal.iol.unh.edu (postal.iol.unh.edu. [132.177.123.84])
 by smtp-relay.gmail.com with ESMTPS id
 w12-20020a92d2cc000000b0036b239f2325sm952960ilg.70.2024.04.25.20.06.22
 (version=TLS1_2 cipher=ECDHE-ECDSA-AES128-GCM-SHA256 bits=128/128);
 Thu, 25 Apr 2024 20:06:22 -0700 (PDT)
X-Relaying-Domain: iol.unh.edu
Date: Thu, 25 Apr 2024 20:06:22 -0700 (PDT)
Message-ID: <662b1a2e.920a0220.52df8.24abSMTPIN_ADDED_MISSING@mx.google.com>
Received: from [172.21.0.8] (unknown [172.18.0.240])
 by postal.iol.unh.edu (Postfix) with ESMTP id 0A20D6052514;
 Thu, 25 Apr 2024 23:06:22 -0400 (EDT)
Subject: |SUCCESS| pw139683-139686 [PATCH] [RFC,4/4] eal/malloc: remove type 
From: dpdklab@iol.unh.edu
To: Test Report <test-report@dpdk.org>
Cc: dpdk-test-reports@iol.unh.edu
In-Reply-To: <20240425182738.4771-5-stephen@networkplumber.org>
References: <20240425182738.4771-5-stephen@networkplumber.org>
Content-Type: text/plain
X-BeenThere: test-report@dpdk.org
X-Mailman-Version: 2.1.29
Precedence: list
List-Id: automatic DPDK test reports <test-report.dpdk.org>
List-Unsubscribe: <https://mails.dpdk.org/options/test-report>,
 <mailto:test-report-request@dpdk.org?subject=unsubscribe>
List-Archive: <http://mails.dpdk.org/archives/test-report/>
List-Post: <mailto:test-report@dpdk.org>
List-Help: <mailto:test-report-request@dpdk.org?subject=help>
List-Subscribe: <https://mails.dpdk.org/listinfo/test-report>,
 <mailto:test-report-request@dpdk.org?subject=subscribe>
Errors-To: test-report-bounces@dpdk.org

Test-Label: iol-compile-amd64-testing
Test-Status: SUCCESS
http://dpdk.org/patch/139686

_Testing PASS_

Submitter: Stephen Hemminger <stephen@networkplumber.org>
Date: Thursday, April 25 2024 18:24:01 
DPDK git baseline: Repo:dpdk
  Branch: master
  CommitID:7e06c0de1952d3109a5b0c4779d7e7d8059c9d78

139683-139686 --> testing pass

Test environment and result as below:

+---------------------+--------------------+----------------------+-------------------+
|     Environment     | dpdk_meson_compile | dpdk_mingw64_compile | dpdk_msvc_compile |
+=====================+====================+======================+===================+
| Windows Server 2019 | PASS               | PASS                 | SKIPPED           |
+---------------------+--------------------+----------------------+-------------------+
| Windows Server 2022 | PASS               | PASS                 | PASS              |
+---------------------+--------------------+----------------------+-------------------+
| FreeBSD 13.3        | PASS               | SKIPPED              | SKIPPED           |
+---------------------+--------------------+----------------------+-------------------+
| CentOS Stream 8     | PASS               | SKIPPED              | SKIPPED           |
+---------------------+--------------------+----------------------+-------------------+
| Debian Bullseye     | PASS               | SKIPPED              | SKIPPED           |
+---------------------+--------------------+----------------------+-------------------+
| CentOS Stream 9     | PASS               | SKIPPED              | SKIPPED           |
+---------------------+--------------------+----------------------+-------------------+
| Debian 12           | PASS               | SKIPPED              | SKIPPED           |
+---------------------+--------------------+----------------------+-------------------+


Windows Server 2019
	Kernel: 10.0.17763
	Compiler: clang 14.0 and gcc 8.1.0 (MinGW)

Windows Server 2022
	Kernel: 10.0.20348.2031
	Compiler: clang 15.0.7, gcc 8.1.0 (MinGW), and MSVC VS 17.9

FreeBSD 13.3
	Kernel: 13.3-RELEASE-p1
	Compiler: clang 17.0.6

CentOS Stream 8
	Kernel: 5.4.0-167-generic
	Compiler: gcc 8.5.0 20210514

Debian Bullseye
	Kernel: 5.4.0-167-generic
	Compiler: gcc 10.2.1-6

CentOS Stream 9
	Kernel: 5.4.0-167-generic
	Compiler: gcc 11.4.1 20230605

Debian 12
	Kernel: Container Host Kernel
	Compiler: gcc 10.2.1

To view detailed results, visit:
https://lab.dpdk.org/results/dashboard/patchsets/29859/

UNH-IOL DPDK Community Lab

To manage your email subscriptions, visit: 
https://lab.dpdk.org/results/dashboard/preferences/subscriptions/