From mboxrd@z Thu Jan  1 00:00:00 1970
Return-Path: <test-report-bounces@dpdk.org>
Received: from mails.dpdk.org (mails.dpdk.org [217.70.189.124])
	by inbox.dpdk.org (Postfix) with ESMTP id 61A1443F0F
	for <public@inbox.dpdk.org>; Fri, 26 Apr 2024 05:14:13 +0200 (CEST)
Received: from mails.dpdk.org (localhost [127.0.0.1])
	by mails.dpdk.org (Postfix) with ESMTP id 591D3402B8;
	Fri, 26 Apr 2024 05:14:13 +0200 (CEST)
Received: from mail-oo1-f97.google.com (mail-oo1-f97.google.com
 [209.85.161.97]) by mails.dpdk.org (Postfix) with ESMTP id 90ABA4026B
 for <test-report@dpdk.org>; Fri, 26 Apr 2024 05:14:11 +0200 (CEST)
Received: by mail-oo1-f97.google.com with SMTP id
 006d021491bc7-5ad28c0b85eso894002eaf.2
 for <test-report@dpdk.org>; Thu, 25 Apr 2024 20:14:11 -0700 (PDT)
DKIM-Signature: v=1; a=rsa-sha256; c=relaxed/relaxed;
 d=iol.unh.edu; s=unh-iol; t=1714101251; x=1714706051; darn=dpdk.org;
 h=references:in-reply-to:cc:to:from:subject:message-id:date:from:to
 :cc:subject:date:message-id:reply-to;
 bh=Xk7o0v7zTc3Iae8IKQkacRQhzvHWT2PtMPCcafFLDC0=;
 b=dOhppjrhM4dKLn6YYH/4Oh4/JejJIR5WJkZ5j8ha9k7EFNHi64sEuXfiQfv7oWNUsJ
 c2yeDg2HmrJvVYsIUfBPF9g2XOHshOmbGviqcX9YopHQXwSw8UnBDHF7lNuVleg09tC/
 9Ns+gyDSRvve5aQiUjDBB+6UlAy5dkhpbiweE=
X-Google-DKIM-Signature: v=1; a=rsa-sha256; c=relaxed/relaxed;
 d=1e100.net; s=20230601; t=1714101251; x=1714706051;
 h=references:in-reply-to:cc:to:from:subject:message-id:date
 :x-gm-message-state:from:to:cc:subject:date:message-id:reply-to;
 bh=Xk7o0v7zTc3Iae8IKQkacRQhzvHWT2PtMPCcafFLDC0=;
 b=QEMoscgIF+J80SftS6OZ8VZcS6GZEp7kprRMIvH4hFT94xc/T3aVUDwX0a+CL7lvVS
 K4TyCuwKglO35Ssg22LkIYL6EqjU24yCvZank8tlcpIKK329pDE4NhYwttenTxXk5r7y
 DO82GN7a/A7625N/xhnLRYfoRi/OFvu9/ww2UWItzGNdxdBg1w0Lp28XxRHMkchHWl9k
 mcTNVGTn1dXqCddCGVY4W9MTU6gu1PLY8VhpM4BytlB6vug8b/truAfBMGFywZBLi5C6
 /5toqRvA86M4h8MlXAEMvfwbvX336jRI9q+tXw7ARuwsCXPvs7gUIVLHJeE7H7ewuNYS
 s75A==
X-Gm-Message-State: AOJu0Yx5ibi1lks3sGYvxJzqcvJHhnDa60SQ9bLY+tbH6oRKq3MazmKL
 uGg8moDXTOPa2vLeie0n7sJ3arSiL/BLODDxmPG8T4/5PxVXCk2eay/yWUgHxcZ7obsCylwvNFp
 Zga0HVmRsaTlNfCQzb8DFgX1JUKS+z00FqSFwAK9H
X-Google-Smtp-Source: AGHT+IFeJYLuq37EEHNOAHU6SJM8CX6u1MCtr5vJ7EqnSho5csFQSGRHUAtyycDsnmzeq1DIummfhVuD2d6u
X-Received: by 2002:a4a:ac81:0:b0:5aa:538a:ed60 with SMTP id
 b1-20020a4aac81000000b005aa538aed60mr2040103oon.3.1714101250815; 
 Thu, 25 Apr 2024 20:14:10 -0700 (PDT)
Received: from postal.iol.unh.edu (postal.iol.unh.edu. [132.177.123.84])
 by smtp-relay.gmail.com with ESMTPS id
 129-20020a4a1d87000000b005a9db549953sm1477254oog.15.2024.04.25.20.14.10
 (version=TLS1_2 cipher=ECDHE-ECDSA-AES128-GCM-SHA256 bits=128/128);
 Thu, 25 Apr 2024 20:14:10 -0700 (PDT)
X-Relaying-Domain: iol.unh.edu
Date: Thu, 25 Apr 2024 20:14:10 -0700 (PDT)
Message-ID: <662b1c02.4a0a0220.fb13e.3fb0SMTPIN_ADDED_MISSING@mx.google.com>
Received: from [172.21.0.7] (unknown [172.18.0.240])
 by postal.iol.unh.edu (Postfix) with ESMTP id 4FE6A6052514;
 Thu, 25 Apr 2024 23:14:10 -0400 (EDT)
Subject: |SUCCESS| pw139683-139686 [PATCH] [RFC,4/4] eal/malloc: remove type 
From: dpdklab@iol.unh.edu
To: Test Report <test-report@dpdk.org>
Cc: dpdk-test-reports@iol.unh.edu
In-Reply-To: <20240425182738.4771-5-stephen@networkplumber.org>
References: <20240425182738.4771-5-stephen@networkplumber.org>
Content-Type: text/plain
X-BeenThere: test-report@dpdk.org
X-Mailman-Version: 2.1.29
Precedence: list
List-Id: automatic DPDK test reports <test-report.dpdk.org>
List-Unsubscribe: <https://mails.dpdk.org/options/test-report>,
 <mailto:test-report-request@dpdk.org?subject=unsubscribe>
List-Archive: <http://mails.dpdk.org/archives/test-report/>
List-Post: <mailto:test-report@dpdk.org>
List-Help: <mailto:test-report-request@dpdk.org?subject=help>
List-Subscribe: <https://mails.dpdk.org/listinfo/test-report>,
 <mailto:test-report-request@dpdk.org?subject=subscribe>
Errors-To: test-report-bounces@dpdk.org

Test-Label: iol-compile-amd64-testing
Test-Status: SUCCESS
http://dpdk.org/patch/139686

_Testing PASS_

Submitter: Stephen Hemminger <stephen@networkplumber.org>
Date: Thursday, April 25 2024 18:24:01 
DPDK git baseline: Repo:dpdk
  Branch: master
  CommitID:7e06c0de1952d3109a5b0c4779d7e7d8059c9d78

139683-139686 --> testing pass

Test environment and result as below:

+---------------------+--------------------+----------------------+-------------------+
|     Environment     | dpdk_meson_compile | dpdk_mingw64_compile | dpdk_msvc_compile |
+=====================+====================+======================+===================+
| Windows Server 2019 | PASS               | PASS                 | SKIPPED           |
+---------------------+--------------------+----------------------+-------------------+
| Windows Server 2022 | PASS               | PASS                 | PASS              |
+---------------------+--------------------+----------------------+-------------------+
| FreeBSD 13.3        | PASS               | SKIPPED              | SKIPPED           |
+---------------------+--------------------+----------------------+-------------------+
| CentOS Stream 8     | PASS               | SKIPPED              | SKIPPED           |
+---------------------+--------------------+----------------------+-------------------+
| Debian Bullseye     | PASS               | SKIPPED              | SKIPPED           |
+---------------------+--------------------+----------------------+-------------------+
| CentOS Stream 9     | PASS               | SKIPPED              | SKIPPED           |
+---------------------+--------------------+----------------------+-------------------+
| Debian 12           | PASS               | SKIPPED              | SKIPPED           |
+---------------------+--------------------+----------------------+-------------------+
| Fedora 38           | PASS               | SKIPPED              | SKIPPED           |
+---------------------+--------------------+----------------------+-------------------+
| openSUSE Leap 15    | PASS               | SKIPPED              | SKIPPED           |
+---------------------+--------------------+----------------------+-------------------+
| Fedora 37           | PASS               | SKIPPED              | SKIPPED           |
+---------------------+--------------------+----------------------+-------------------+
| RHEL8               | PASS               | SKIPPED              | SKIPPED           |
+---------------------+--------------------+----------------------+-------------------+


Windows Server 2019
	Kernel: 10.0.17763
	Compiler: clang 14.0 and gcc 8.1.0 (MinGW)

Windows Server 2022
	Kernel: 10.0.20348.2031
	Compiler: clang 15.0.7, gcc 8.1.0 (MinGW), and MSVC VS 17.9

FreeBSD 13.3
	Kernel: 13.3-RELEASE-p1
	Compiler: clang 17.0.6

CentOS Stream 8
	Kernel: 5.4.0-167-generic
	Compiler: gcc 8.5.0 20210514

Debian Bullseye
	Kernel: 5.4.0-167-generic
	Compiler: gcc 10.2.1-6

CentOS Stream 9
	Kernel: 5.4.0-167-generic
	Compiler: gcc 11.4.1 20230605

Debian 12
	Kernel: Container Host Kernel
	Compiler: gcc 10.2.1

Fedora 38
	Kernel: Depends on container host
	Compiler: gcc 13.2.1

openSUSE Leap 15
	Kernel: 5.4.0-167-generic
	Compiler: gcc 7.5.0

Fedora 37
	Kernel: Depends on container host system
	Compiler: gcc 12.3.1

RHEL8
	Kernel: 5.4.0-167-generic
	Compiler: gcc 8.5.0 20210514 (Red Hat 8.5.0-20)

To view detailed results, visit:
https://lab.dpdk.org/results/dashboard/patchsets/29859/

UNH-IOL DPDK Community Lab

To manage your email subscriptions, visit: 
https://lab.dpdk.org/results/dashboard/preferences/subscriptions/