From mboxrd@z Thu Jan  1 00:00:00 1970
Return-Path: <test-report-bounces@dpdk.org>
Received: from mails.dpdk.org (mails.dpdk.org [217.70.189.124])
	by inbox.dpdk.org (Postfix) with ESMTP id 0B78543F0F
	for <public@inbox.dpdk.org>; Fri, 26 Apr 2024 05:17:06 +0200 (CEST)
Received: from mails.dpdk.org (localhost [127.0.0.1])
	by mails.dpdk.org (Postfix) with ESMTP id 05D62402B8;
	Fri, 26 Apr 2024 05:17:06 +0200 (CEST)
Received: from mail-yw1-f225.google.com (mail-yw1-f225.google.com
 [209.85.128.225])
 by mails.dpdk.org (Postfix) with ESMTP id 5FF8E4026B
 for <test-report@dpdk.org>; Fri, 26 Apr 2024 05:16:58 +0200 (CEST)
Received: by mail-yw1-f225.google.com with SMTP id
 00721157ae682-61865eed63dso21486737b3.0
 for <test-report@dpdk.org>; Thu, 25 Apr 2024 20:16:58 -0700 (PDT)
DKIM-Signature: v=1; a=rsa-sha256; c=relaxed/relaxed;
 d=iol.unh.edu; s=unh-iol; t=1714101418; x=1714706218; darn=dpdk.org;
 h=references:in-reply-to:cc:to:from:subject:message-id:date:from:to
 :cc:subject:date:message-id:reply-to;
 bh=Xk7o0v7zTc3Iae8IKQkacRQhzvHWT2PtMPCcafFLDC0=;
 b=JlQ04TkgWjzjP8y52HTDBg+Rfr0hZ5sDVUDCWMnx4iDIVqf9au6Xp9YLQroJ2CK5L1
 BB/pzWyBATyfV1C/oj++A+me7DK1I1RNyTm1H4eONB/jb2rqPFgTAHMCyE8cvHpo8Y/E
 27W3vwVHtzfFAzPHNxKY3+aGv3aHttc+mIxGk=
X-Google-DKIM-Signature: v=1; a=rsa-sha256; c=relaxed/relaxed;
 d=1e100.net; s=20230601; t=1714101418; x=1714706218;
 h=references:in-reply-to:cc:to:from:subject:message-id:date
 :x-gm-message-state:from:to:cc:subject:date:message-id:reply-to;
 bh=Xk7o0v7zTc3Iae8IKQkacRQhzvHWT2PtMPCcafFLDC0=;
 b=GT1/T5FDOsGqtWWcBplh53JGwA40sA4e/bR1atcQ1Q6ZhpSzVh3p3UlexPGbsBPEiv
 bAf0FpO92z4B2G4YsKGSOustSZmK31o8TErOIrwqdZeivQ7wGnmZOFEg3/dUV6t+Rhqd
 rc118kNaZ4YWbGl93UGgNRYEqwFWj14piSRojC5+gMk+Rzlci6Zmc7KBV7L4xvno78Fv
 5hJBlkgHPOSQCgw9e3rHGqxpr0lrlFoPbdVvv3qHfUWTeqz4FFiYdY/KLITjMJvEfOSL
 MYqQYkOqMPhtsqeH3u6BfvkVNLAruTRoRTQVUu5hoDZWt2YqfV4r+3V2vBIM1bO0RUdw
 rBog==
X-Gm-Message-State: AOJu0YyKc4o/llQ/f3U4ZwOA7ePB7mwXqwzXvePBUvUeBB7mN5bGTP5r
 ldNJfPYLkAylOIDL6KGJAQLaP3CZZnH/S7si92vUSowm9Ven+8RbctuvAvYusey6Vlz71lFfETP
 4vjo2MCR3hHYgiQgbHx4Mefqu2XGFy8Cfx3zszm52
X-Google-Smtp-Source: AGHT+IHrINrToVTEsjstkyseogjJzqUcvZNnTdUiW+c9taWlvG+i3PqHnqUQ/JOr10Y/V7/hdUoeUfc+iLvR
X-Received: by 2002:a0d:c241:0:b0:61a:db4d:cc1f with SMTP id
 e62-20020a0dc241000000b0061adb4dcc1fmr3291125ywd.7.1714101417752; 
 Thu, 25 Apr 2024 20:16:57 -0700 (PDT)
Received: from postal.iol.unh.edu (postal.iol.unh.edu. [132.177.123.84])
 by smtp-relay.gmail.com with ESMTPS id
 p198-20020a0de6cf000000b0061581563303sm1313235ywe.35.2024.04.25.20.16.57
 (version=TLS1_2 cipher=ECDHE-ECDSA-AES128-GCM-SHA256 bits=128/128);
 Thu, 25 Apr 2024 20:16:57 -0700 (PDT)
X-Relaying-Domain: iol.unh.edu
Date: Thu, 25 Apr 2024 20:16:57 -0700 (PDT)
Message-ID: <662b1ca9.0d0a0220.25d26.6b1dSMTPIN_ADDED_MISSING@mx.google.com>
Received: from [172.21.0.6] (unknown [172.18.0.240])
 by postal.iol.unh.edu (Postfix) with ESMTP id 65D336052514;
 Thu, 25 Apr 2024 23:16:57 -0400 (EDT)
Subject: |SUCCESS| pw139683-139686 [PATCH] [RFC,4/4] eal/malloc: remove type 
From: dpdklab@iol.unh.edu
To: Test Report <test-report@dpdk.org>
Cc: dpdk-test-reports@iol.unh.edu
In-Reply-To: <20240425182738.4771-5-stephen@networkplumber.org>
References: <20240425182738.4771-5-stephen@networkplumber.org>
Content-Type: text/plain
X-BeenThere: test-report@dpdk.org
X-Mailman-Version: 2.1.29
Precedence: list
List-Id: automatic DPDK test reports <test-report.dpdk.org>
List-Unsubscribe: <https://mails.dpdk.org/options/test-report>,
 <mailto:test-report-request@dpdk.org?subject=unsubscribe>
List-Archive: <http://mails.dpdk.org/archives/test-report/>
List-Post: <mailto:test-report@dpdk.org>
List-Help: <mailto:test-report-request@dpdk.org?subject=help>
List-Subscribe: <https://mails.dpdk.org/listinfo/test-report>,
 <mailto:test-report-request@dpdk.org?subject=subscribe>
Errors-To: test-report-bounces@dpdk.org

Test-Label: iol-compile-amd64-testing
Test-Status: SUCCESS
http://dpdk.org/patch/139686

_Testing PASS_

Submitter: Stephen Hemminger <stephen@networkplumber.org>
Date: Thursday, April 25 2024 18:24:01 
DPDK git baseline: Repo:dpdk
  Branch: master
  CommitID:7e06c0de1952d3109a5b0c4779d7e7d8059c9d78

139683-139686 --> testing pass

Test environment and result as below:

+---------------------+--------------------+----------------------+-------------------+
|     Environment     | dpdk_meson_compile | dpdk_mingw64_compile | dpdk_msvc_compile |
+=====================+====================+======================+===================+
| Windows Server 2019 | PASS               | PASS                 | SKIPPED           |
+---------------------+--------------------+----------------------+-------------------+
| Windows Server 2022 | PASS               | PASS                 | PASS              |
+---------------------+--------------------+----------------------+-------------------+
| FreeBSD 13.3        | PASS               | SKIPPED              | SKIPPED           |
+---------------------+--------------------+----------------------+-------------------+
| CentOS Stream 8     | PASS               | SKIPPED              | SKIPPED           |
+---------------------+--------------------+----------------------+-------------------+
| Debian Bullseye     | PASS               | SKIPPED              | SKIPPED           |
+---------------------+--------------------+----------------------+-------------------+
| CentOS Stream 9     | PASS               | SKIPPED              | SKIPPED           |
+---------------------+--------------------+----------------------+-------------------+
| Debian 12           | PASS               | SKIPPED              | SKIPPED           |
+---------------------+--------------------+----------------------+-------------------+
| Fedora 38           | PASS               | SKIPPED              | SKIPPED           |
+---------------------+--------------------+----------------------+-------------------+
| openSUSE Leap 15    | PASS               | SKIPPED              | SKIPPED           |
+---------------------+--------------------+----------------------+-------------------+
| Fedora 37           | PASS               | SKIPPED              | SKIPPED           |
+---------------------+--------------------+----------------------+-------------------+
| RHEL8               | PASS               | SKIPPED              | SKIPPED           |
+---------------------+--------------------+----------------------+-------------------+


Windows Server 2019
	Kernel: 10.0.17763
	Compiler: clang 14.0 and gcc 8.1.0 (MinGW)

Windows Server 2022
	Kernel: 10.0.20348.2031
	Compiler: clang 15.0.7, gcc 8.1.0 (MinGW), and MSVC VS 17.9

FreeBSD 13.3
	Kernel: 13.3-RELEASE-p1
	Compiler: clang 17.0.6

CentOS Stream 8
	Kernel: 5.4.0-167-generic
	Compiler: gcc 8.5.0 20210514

Debian Bullseye
	Kernel: 5.4.0-167-generic
	Compiler: gcc 10.2.1-6

CentOS Stream 9
	Kernel: 5.4.0-167-generic
	Compiler: gcc 11.4.1 20230605

Debian 12
	Kernel: Container Host Kernel
	Compiler: gcc 10.2.1

Fedora 38
	Kernel: Depends on container host
	Compiler: gcc 13.2.1

openSUSE Leap 15
	Kernel: 5.4.0-167-generic
	Compiler: gcc 7.5.0

Fedora 37
	Kernel: Depends on container host system
	Compiler: gcc 12.3.1

RHEL8
	Kernel: 5.4.0-167-generic
	Compiler: gcc 8.5.0 20210514 (Red Hat 8.5.0-20)

To view detailed results, visit:
https://lab.dpdk.org/results/dashboard/patchsets/29859/

UNH-IOL DPDK Community Lab

To manage your email subscriptions, visit: 
https://lab.dpdk.org/results/dashboard/preferences/subscriptions/