From mboxrd@z Thu Jan  1 00:00:00 1970
Return-Path: <test-report-bounces@dpdk.org>
Received: from mails.dpdk.org (mails.dpdk.org [217.70.189.124])
	by inbox.dpdk.org (Postfix) with ESMTP id 5093443F0F
	for <public@inbox.dpdk.org>; Fri, 26 Apr 2024 05:17:31 +0200 (CEST)
Received: from mails.dpdk.org (localhost [127.0.0.1])
	by mails.dpdk.org (Postfix) with ESMTP id 4BF2043B2A;
	Fri, 26 Apr 2024 05:17:31 +0200 (CEST)
Received: from mail-oo1-f98.google.com (mail-oo1-f98.google.com
 [209.85.161.98]) by mails.dpdk.org (Postfix) with ESMTP id 277254026B
 for <test-report@dpdk.org>; Fri, 26 Apr 2024 05:17:30 +0200 (CEST)
Received: by mail-oo1-f98.google.com with SMTP id
 006d021491bc7-5aa2551d33dso1136823eaf.0
 for <test-report@dpdk.org>; Thu, 25 Apr 2024 20:17:30 -0700 (PDT)
DKIM-Signature: v=1; a=rsa-sha256; c=relaxed/relaxed;
 d=iol.unh.edu; s=unh-iol; t=1714101449; x=1714706249; darn=dpdk.org;
 h=references:in-reply-to:cc:to:from:subject:message-id:date:from:to
 :cc:subject:date:message-id:reply-to;
 bh=poZfEep/Hm6eMKELJARQUB6xRtegOVYp0DSse5mi6+s=;
 b=dZ+UewApBjZ8cwyKhicC3icNvVyephZZKGK/Kt71LR93vV03ow1gsfyYaWKfM5GWLS
 8/qLLhPhLDUmYRaeh5TZvl6OLga6fvlL99fYT01BRT7G5B16Jw6zuh06FhAvrXKv+8/Z
 zVlXgLLkn51+EZkRTvBlDBfuXApryF1zEH6To=
X-Google-DKIM-Signature: v=1; a=rsa-sha256; c=relaxed/relaxed;
 d=1e100.net; s=20230601; t=1714101449; x=1714706249;
 h=references:in-reply-to:cc:to:from:subject:message-id:date
 :x-gm-message-state:from:to:cc:subject:date:message-id:reply-to;
 bh=poZfEep/Hm6eMKELJARQUB6xRtegOVYp0DSse5mi6+s=;
 b=Iw2swCMumKR9z/BuAGWQJQjr01KAGHXcYXk5a5k5K/n9eoJcRsSLcONwosf1Kh9YRR
 VEECUWwuIJzgjS7VKwZ7qYzbGavwn1+ibLfNRXgnQt5upEa/b3ripdFc/BiP7qeqQ3Fh
 w54PhdtL3angDo3qMWnTQgfmVVmspel7jh8rZBalK0eXXEnUlF1CH1eMoboJfcGoO+8S
 smL3FqQStD+UjYkbJVOwCMvuEE7mp3laykyIQkX/wv7ElsrIq1/PfL+I2jEtwve94J0n
 ywvqmnwwQTBs1GAbXlV8w6RDp4rdcAkk4yjgIEbCPkKTgxK5UoxMwAgihc9UY1F9NWD0
 W5RQ==
X-Gm-Message-State: AOJu0YwTUxsPcZnzjj+9hMkTGOfER+RgQlFd3dG7OGxTGcQiVqr94Aaj
 r/+hgESnm0efVkdu7vT4DwhVwzfHEiFc8mlf+Tu+jBdRaG0AzP8XTixj+7qG2kf1rqs7mbwmTsh
 ofI6BW0pN8NEhXzoBF5cXU2Mv3DDyJtVbl9QPWVGk0O0k3lP9CTYkFB9p
X-Google-Smtp-Source: AGHT+IGZo3nqqtX1yUjQn4F4ZoaxrqV+PZwsW50ZJsTd+qGN37PcFFH+xDFzzGjALIWhp7tPdfB8lUtQASxI
X-Received: by 2002:a05:6358:7252:b0:186:40c3:e495 with SMTP id
 i18-20020a056358725200b0018640c3e495mr1276273rwa.23.1714101449346; 
 Thu, 25 Apr 2024 20:17:29 -0700 (PDT)
Received: from postal.iol.unh.edu (postal.iol.unh.edu.
 [2606:4100:3880:1234::84]) by smtp-relay.gmail.com with ESMTPS id
 iq24-20020a056638841800b004849fb8eeaasm1232119jab.52.2024.04.25.20.17.29
 (version=TLS1_2 cipher=ECDHE-ECDSA-AES128-GCM-SHA256 bits=128/128);
 Thu, 25 Apr 2024 20:17:29 -0700 (PDT)
X-Relaying-Domain: iol.unh.edu
Date: Thu, 25 Apr 2024 20:17:29 -0700 (PDT)
Message-ID: <662b1cc9.050a0220.f542f.0e50SMTPIN_ADDED_MISSING@mx.google.com>
Received: from [172.21.0.6] (unknown [172.18.0.240])
 by postal.iol.unh.edu (Postfix) with ESMTP id D45696052514;
 Thu, 25 Apr 2024 23:17:28 -0400 (EDT)
Subject: |SUCCESS| pw139682 [PATCH] [RFC] net/af_packet: make stats reset rel
From: dpdklab@iol.unh.edu
To: Test Report <test-report@dpdk.org>
Cc: dpdk-test-reports@iol.unh.edu
In-Reply-To: <20240425174617.2126159-1-ferruh.yigit@amd.com>
References: <20240425174617.2126159-1-ferruh.yigit@amd.com>
Content-Type: text/plain
X-BeenThere: test-report@dpdk.org
X-Mailman-Version: 2.1.29
Precedence: list
List-Id: automatic DPDK test reports <test-report.dpdk.org>
List-Unsubscribe: <https://mails.dpdk.org/options/test-report>,
 <mailto:test-report-request@dpdk.org?subject=unsubscribe>
List-Archive: <http://mails.dpdk.org/archives/test-report/>
List-Post: <mailto:test-report@dpdk.org>
List-Help: <mailto:test-report-request@dpdk.org?subject=help>
List-Subscribe: <https://mails.dpdk.org/listinfo/test-report>,
 <mailto:test-report-request@dpdk.org?subject=subscribe>
Errors-To: test-report-bounces@dpdk.org

Test-Label: iol-compile-amd64-testing
Test-Status: SUCCESS
http://dpdk.org/patch/139682

_Testing PASS_

Submitter: Ferruh Yigit <ferruh.yigit@amd.com>
Date: Thursday, April 25 2024 17:46:17 
DPDK git baseline: Repo:dpdk
  Branch: master
  CommitID:8841786ab4aa72d205f97528af8708a13a851f4f

139682 --> testing pass

Test environment and result as below:

+---------------------+--------------------+
|     Environment     | dpdk_meson_compile |
+=====================+====================+
| FreeBSD 13.3        | PASS               |
+---------------------+--------------------+
| Windows Server 2022 | PASS               |
+---------------------+--------------------+
| Windows Server 2019 | PASS               |
+---------------------+--------------------+


FreeBSD 13.3
	Kernel: 13.3-RELEASE-p1
	Compiler: clang 17.0.6

Windows Server 2022
	Kernel: 10.0.20348.2031
	Compiler: clang 15.0.7, gcc 8.1.0 (MinGW), and MSVC VS 17.9

Windows Server 2019
	Kernel: 10.0.17763
	Compiler: clang 14.0 and gcc 8.1.0 (MinGW)

To view detailed results, visit:
https://lab.dpdk.org/results/dashboard/patchsets/29858/

UNH-IOL DPDK Community Lab

To manage your email subscriptions, visit: 
https://lab.dpdk.org/results/dashboard/preferences/subscriptions/