From mboxrd@z Thu Jan  1 00:00:00 1970
Return-Path: <test-report-bounces@dpdk.org>
Received: from mails.dpdk.org (mails.dpdk.org [217.70.189.124])
	by inbox.dpdk.org (Postfix) with ESMTP id 077B743F0F
	for <public@inbox.dpdk.org>; Fri, 26 Apr 2024 05:47:09 +0200 (CEST)
Received: from mails.dpdk.org (localhost [127.0.0.1])
	by mails.dpdk.org (Postfix) with ESMTP id 02FF0402B8;
	Fri, 26 Apr 2024 05:47:09 +0200 (CEST)
Received: from mail-ua1-f100.google.com (mail-ua1-f100.google.com
 [209.85.222.100])
 by mails.dpdk.org (Postfix) with ESMTP id 81622402B8
 for <test-report@dpdk.org>; Fri, 26 Apr 2024 05:47:06 +0200 (CEST)
Received: by mail-ua1-f100.google.com with SMTP id
 a1e0cc1a2514c-7ec609bd752so484225241.1
 for <test-report@dpdk.org>; Thu, 25 Apr 2024 20:47:06 -0700 (PDT)
DKIM-Signature: v=1; a=rsa-sha256; c=relaxed/relaxed;
 d=iol.unh.edu; s=unh-iol; t=1714103226; x=1714708026; darn=dpdk.org;
 h=references:in-reply-to:cc:to:from:subject:message-id:date:from:to
 :cc:subject:date:message-id:reply-to;
 bh=CofWn6XG1X/PDjgHI02ZmZ4fZ0ttWkct/zgMhIQZqag=;
 b=IIHPocxfO7u+0F87lbDSkesvqOQohrIZDlhfE+8PWhzS5XcSt5OnHu4UW+sG5GKMlC
 Y1wACASmPRPwPTnzDxjZY7HYDFCwEFbpURxMC3SUy3FgJQJVwZQIU9i9WzJj6W4Mr7nP
 Lm127SP+/cGTYVW7LHtKTujba+HQBVg/8l//g=
X-Google-DKIM-Signature: v=1; a=rsa-sha256; c=relaxed/relaxed;
 d=1e100.net; s=20230601; t=1714103226; x=1714708026;
 h=references:in-reply-to:cc:to:from:subject:message-id:date
 :x-gm-message-state:from:to:cc:subject:date:message-id:reply-to;
 bh=CofWn6XG1X/PDjgHI02ZmZ4fZ0ttWkct/zgMhIQZqag=;
 b=gSUEi4KQzIfLPuLkJJ+QEpxvbbG5MJH0vo1KRDLvim2DNNsPJWj/26hagNkltBKdqO
 KHaGE+osnDrSpoSa+3+QxrHYmsIllzUoQE1LgotZDy4vBxtWmLUfIfm334GRqH8zNo1p
 SvfkCZWvO+ukjpZ7Jn4rbt9G05OCdHDil1dFSYmn4mmcgzqSefnETW0x5qh2NsvnfzBF
 ChwgGhX9atgHTnwB8IJ4IdeLYipQXt4DiTp6zgrQXzQLKBrkJD7gQCfp73vxMmgW/mJ5
 zom/qYesWszXmFA7SpGDhUHPySb4S5y876empQ6xzeOMsMlTmfLbvVmkUs9pNRcGDgRj
 sFNA==
X-Gm-Message-State: AOJu0Ywom4mdzLzArjTGrfCMrE3g0kdyMBFsKT8wZL1ChGutWEANAI8f
 thHqga4XwCmRNzRWIuJvJTq9LsLx1/pJMhwerPq9cmVcnNPhL/XPrWoqCOyXaM172pKmYCkYg0H
 CvLA8V5gtHh4jHF5N1ZwespDH1JPy8mWLaUB6/Bj6
X-Google-Smtp-Source: AGHT+IGdJd0qkTvFb2feJaa578pnDc2uNOZYbozbRbwxl7PFJSDz3BSiAN75ZBH9WWnxVHd8lzWAlpPoAmWN
X-Received: by 2002:a05:6102:2445:b0:47b:cbff:fe3c with SMTP id
 g5-20020a056102244500b0047bcbfffe3cmr1732152vss.27.1714103225821; 
 Thu, 25 Apr 2024 20:47:05 -0700 (PDT)
Received: from postal.iol.unh.edu (postal.iol.unh.edu. [132.177.123.84])
 by smtp-relay.gmail.com with ESMTPS id
 ib13-20020a0562141c8d00b0069b1859a87csm1350784qvb.77.2024.04.25.20.47.05
 (version=TLS1_2 cipher=ECDHE-ECDSA-AES128-GCM-SHA256 bits=128/128);
 Thu, 25 Apr 2024 20:47:05 -0700 (PDT)
X-Relaying-Domain: iol.unh.edu
Date: Thu, 25 Apr 2024 20:47:05 -0700 (PDT)
Message-ID: <662b23b9.050a0220.5645c.9c36SMTPIN_ADDED_MISSING@mx.google.com>
Received: from [172.21.0.6] (unknown [172.18.0.240])
 by postal.iol.unh.edu (Postfix) with ESMTP id 83A796052514;
 Thu, 25 Apr 2024 23:47:05 -0400 (EDT)
Subject: |SUCCESS| pw139682 [PATCH] [RFC] net/af_packet: make stats reset rel
From: dpdklab@iol.unh.edu
To: Test Report <test-report@dpdk.org>
Cc: dpdk-test-reports@iol.unh.edu
In-Reply-To: <20240425174617.2126159-1-ferruh.yigit@amd.com>
References: <20240425174617.2126159-1-ferruh.yigit@amd.com>
Content-Type: text/plain
X-BeenThere: test-report@dpdk.org
X-Mailman-Version: 2.1.29
Precedence: list
List-Id: automatic DPDK test reports <test-report.dpdk.org>
List-Unsubscribe: <https://mails.dpdk.org/options/test-report>,
 <mailto:test-report-request@dpdk.org?subject=unsubscribe>
List-Archive: <http://mails.dpdk.org/archives/test-report/>
List-Post: <mailto:test-report@dpdk.org>
List-Help: <mailto:test-report-request@dpdk.org?subject=help>
List-Subscribe: <https://mails.dpdk.org/listinfo/test-report>,
 <mailto:test-report-request@dpdk.org?subject=subscribe>
Errors-To: test-report-bounces@dpdk.org

Test-Label: iol-compile-amd64-testing
Test-Status: SUCCESS
http://dpdk.org/patch/139682

_Testing PASS_

Submitter: Ferruh Yigit <ferruh.yigit@amd.com>
Date: Thursday, April 25 2024 17:46:17 
DPDK git baseline: Repo:dpdk
  Branch: master
  CommitID:8841786ab4aa72d205f97528af8708a13a851f4f

139682 --> testing pass

Test environment and result as below:

+---------------------+--------------------+----------------------+-------------------+
|     Environment     | dpdk_meson_compile | dpdk_mingw64_compile | dpdk_msvc_compile |
+=====================+====================+======================+===================+
| FreeBSD 13.3        | PASS               | SKIPPED              | SKIPPED           |
+---------------------+--------------------+----------------------+-------------------+
| Windows Server 2022 | PASS               | PASS                 | PASS              |
+---------------------+--------------------+----------------------+-------------------+
| Windows Server 2019 | PASS               | PASS                 | SKIPPED           |
+---------------------+--------------------+----------------------+-------------------+
| CentOS Stream 8     | PASS               | SKIPPED              | SKIPPED           |
+---------------------+--------------------+----------------------+-------------------+
| CentOS Stream 9     | PASS               | SKIPPED              | SKIPPED           |
+---------------------+--------------------+----------------------+-------------------+
| Debian Bullseye     | PASS               | SKIPPED              | SKIPPED           |
+---------------------+--------------------+----------------------+-------------------+
| Debian 12           | PASS               | SKIPPED              | SKIPPED           |
+---------------------+--------------------+----------------------+-------------------+
| Fedora 37           | PASS               | SKIPPED              | SKIPPED           |
+---------------------+--------------------+----------------------+-------------------+


FreeBSD 13.3
	Kernel: 13.3-RELEASE-p1
	Compiler: clang 17.0.6

Windows Server 2022
	Kernel: 10.0.20348.2031
	Compiler: clang 15.0.7, gcc 8.1.0 (MinGW), and MSVC VS 17.9

Windows Server 2019
	Kernel: 10.0.17763
	Compiler: clang 14.0 and gcc 8.1.0 (MinGW)

CentOS Stream 8
	Kernel: 5.4.0-167-generic
	Compiler: gcc 8.5.0 20210514

CentOS Stream 9
	Kernel: 5.4.0-167-generic
	Compiler: gcc 11.4.1 20230605

Debian Bullseye
	Kernel: 5.4.0-167-generic
	Compiler: gcc 10.2.1-6

Debian 12
	Kernel: Container Host Kernel
	Compiler: gcc 10.2.1

Fedora 37
	Kernel: Depends on container host system
	Compiler: gcc 12.3.1

To view detailed results, visit:
https://lab.dpdk.org/results/dashboard/patchsets/29858/

UNH-IOL DPDK Community Lab

To manage your email subscriptions, visit: 
https://lab.dpdk.org/results/dashboard/preferences/subscriptions/