From mboxrd@z Thu Jan  1 00:00:00 1970
Return-Path: <test-report-bounces@dpdk.org>
Received: from mails.dpdk.org (mails.dpdk.org [217.70.189.124])
	by inbox.dpdk.org (Postfix) with ESMTP id E745943F0F
	for <public@inbox.dpdk.org>; Fri, 26 Apr 2024 05:51:27 +0200 (CEST)
Received: from mails.dpdk.org (localhost [127.0.0.1])
	by mails.dpdk.org (Postfix) with ESMTP id E10F9402B8;
	Fri, 26 Apr 2024 05:51:27 +0200 (CEST)
Received: from mail-yw1-f227.google.com (mail-yw1-f227.google.com
 [209.85.128.227])
 by mails.dpdk.org (Postfix) with ESMTP id 63D8C4026B
 for <test-report@dpdk.org>; Fri, 26 Apr 2024 05:51:26 +0200 (CEST)
Received: by mail-yw1-f227.google.com with SMTP id
 00721157ae682-61804067da0so16491147b3.0
 for <test-report@dpdk.org>; Thu, 25 Apr 2024 20:51:26 -0700 (PDT)
DKIM-Signature: v=1; a=rsa-sha256; c=relaxed/relaxed;
 d=iol.unh.edu; s=unh-iol; t=1714103486; x=1714708286; darn=dpdk.org;
 h=references:in-reply-to:cc:to:from:subject:message-id:date:from:to
 :cc:subject:date:message-id:reply-to;
 bh=z3pjn4oJVnIi03If0qivgWKUaaugmaluv4h3gNxHleQ=;
 b=UB1xRi85oJgqFoeqIDrHUpxTQqev0lKEcP51Ve5TP54OOsP4Z+l8oLwbsylKBlal+t
 ZDJCMGa0apIhDc4X2O1cmAWpEFL+c1Q1Td+BsFrP771DMNWxCNpjVDDoePnvQs44kqgG
 MdCP8kM1FrzFCXqTXvWr84gNJ25HqbHQnhGQs=
X-Google-DKIM-Signature: v=1; a=rsa-sha256; c=relaxed/relaxed;
 d=1e100.net; s=20230601; t=1714103486; x=1714708286;
 h=references:in-reply-to:cc:to:from:subject:message-id:date
 :x-gm-message-state:from:to:cc:subject:date:message-id:reply-to;
 bh=z3pjn4oJVnIi03If0qivgWKUaaugmaluv4h3gNxHleQ=;
 b=g1yUAEixvYL61jsC1E5Auf8ntNkftcYqoD5SwIMdyKi6KuVRJokK/ovNQ8mgHxrgpB
 0si6HGKgvdeSdj75LCXSxLvf9qBfqKhs+z/4y4vIWWy17YBMawbOfCTcfHfj++7RDfqK
 1zHE5KPagAxmPedgiH9pmX2LUZzOz4pERgZadMQRnm7QOBXSDWmY1DoGY23g0YvdElaV
 FgfNWRfBo5XJW7EH5q0R/fG1d3Mr89BCSQpMepC/RPP4B4xsbUciWHCp0hl5BgXYiyHK
 qcqKTaXit4Xh9vinZwlSO2Z+YEplk1ACUBYLBLkGO+fcuOQw5MtDothf1OaJXj6aB4nR
 FBMA==
X-Gm-Message-State: AOJu0YxXuAVbtwemVfH2d4ccnjt+TE9wSG+udsxLX04TWZe5vzRQZaSL
 kWR0uZsVespPNrL1dX4TZDP/xrHcNlWnji78YR/WbwAERo7t9Jm7BSEfjbuFAV7BGyCH3n0q/sb
 CJ/NPQJJtXyJns+UV+jOqFAqqV8gVIJxxq5aBo4eMR3Un4a2rHpw1nMCw
X-Google-Smtp-Source: AGHT+IHm8Ougn30aOGzg5Fr4vLB4JevZpaC8ocIw62vvGFsa/UWDX+gMVY/5CSPiqcjsAiwGQJGTqnr8LCCJ
X-Received: by 2002:a05:690c:281:b0:609:1252:61e2 with SMTP id
 bf1-20020a05690c028100b00609125261e2mr1357494ywb.45.1714103485769; 
 Thu, 25 Apr 2024 20:51:25 -0700 (PDT)
Received: from postal.iol.unh.edu (postal.iol.unh.edu.
 [2606:4100:3880:1234::84]) by smtp-relay.gmail.com with ESMTPS id
 d194-20020a814fcb000000b006154a3df41asm1307517ywb.39.2024.04.25.20.51.25
 (version=TLS1_2 cipher=ECDHE-ECDSA-AES128-GCM-SHA256 bits=128/128);
 Thu, 25 Apr 2024 20:51:25 -0700 (PDT)
X-Relaying-Domain: iol.unh.edu
Date: Thu, 25 Apr 2024 20:51:25 -0700 (PDT)
Message-ID: <662b24bd.810a0220.e41e8.7165SMTPIN_ADDED_MISSING@mx.google.com>
Received: from [172.21.0.7] (unknown [172.18.0.240])
 by postal.iol.unh.edu (Postfix) with ESMTP id 65C886052514;
 Thu, 25 Apr 2024 23:51:25 -0400 (EDT)
Subject: |SUCCESS| pw139682 [PATCH] [RFC] net/af_packet: make stats reset rel
From: dpdklab@iol.unh.edu
To: Test Report <test-report@dpdk.org>
Cc: dpdk-test-reports@iol.unh.edu
In-Reply-To: <20240425174617.2126159-1-ferruh.yigit@amd.com>
References: <20240425174617.2126159-1-ferruh.yigit@amd.com>
Content-Type: text/plain
X-BeenThere: test-report@dpdk.org
X-Mailman-Version: 2.1.29
Precedence: list
List-Id: automatic DPDK test reports <test-report.dpdk.org>
List-Unsubscribe: <https://mails.dpdk.org/options/test-report>,
 <mailto:test-report-request@dpdk.org?subject=unsubscribe>
List-Archive: <http://mails.dpdk.org/archives/test-report/>
List-Post: <mailto:test-report@dpdk.org>
List-Help: <mailto:test-report-request@dpdk.org?subject=help>
List-Subscribe: <https://mails.dpdk.org/listinfo/test-report>,
 <mailto:test-report-request@dpdk.org?subject=subscribe>
Errors-To: test-report-bounces@dpdk.org

Test-Label: iol-abi-testing
Test-Status: SUCCESS
http://dpdk.org/patch/139682

_Testing PASS_

Submitter: Ferruh Yigit <ferruh.yigit@amd.com>
Date: Thursday, April 25 2024 17:46:17 
DPDK git baseline: Repo:dpdk
  Branch: master
  CommitID:8841786ab4aa72d205f97528af8708a13a851f4f

139682 --> testing pass

Test environment and result as below:

+-----------------+----------+
|   Environment   | abi_test |
+=================+==========+
| Fedora 37       | PASS     |
+-----------------+----------+
| Debian Bullseye | PASS     |
+-----------------+----------+
| CentOS Stream 8 | PASS     |
+-----------------+----------+
| CentOS Stream 9 | PASS     |
+-----------------+----------+
| Fedora 38       | PASS     |
+-----------------+----------+
| Ubuntu 22.04    | PASS     |
+-----------------+----------+


Fedora 37
	Kernel: Depends on container host system
	Compiler: gcc 12.3.1

Debian Bullseye
	Kernel: 5.4.0-167-generic
	Compiler: gcc 10.2.1-6

CentOS Stream 8
	Kernel: 5.4.0-167-generic
	Compiler: gcc 8.5.0 20210514

CentOS Stream 9
	Kernel: 5.4.0-167-generic
	Compiler: gcc 11.4.1 20230605

Fedora 38
	Kernel: Depends on container host
	Compiler: clang 16.0.6

Ubuntu 22.04
	Kernel: 5.4.0-167-generic
	Compiler: gcc 11.4.0

To view detailed results, visit:
https://lab.dpdk.org/results/dashboard/patchsets/29858/

UNH-IOL DPDK Community Lab

To manage your email subscriptions, visit: 
https://lab.dpdk.org/results/dashboard/preferences/subscriptions/