From mboxrd@z Thu Jan  1 00:00:00 1970
Return-Path: <test-report-bounces@dpdk.org>
Received: from mails.dpdk.org (mails.dpdk.org [217.70.189.124])
	by inbox.dpdk.org (Postfix) with ESMTP id 68B5143F0F
	for <public@inbox.dpdk.org>; Fri, 26 Apr 2024 05:51:52 +0200 (CEST)
Received: from mails.dpdk.org (localhost [127.0.0.1])
	by mails.dpdk.org (Postfix) with ESMTP id 6350843B51;
	Fri, 26 Apr 2024 05:51:52 +0200 (CEST)
Received: from mail-il1-f225.google.com (mail-il1-f225.google.com
 [209.85.166.225])
 by mails.dpdk.org (Postfix) with ESMTP id 069C2402B8
 for <test-report@dpdk.org>; Fri, 26 Apr 2024 05:51:44 +0200 (CEST)
Received: by mail-il1-f225.google.com with SMTP id
 e9e14a558f8ab-36a0bca01e2so7271725ab.3
 for <test-report@dpdk.org>; Thu, 25 Apr 2024 20:51:43 -0700 (PDT)
DKIM-Signature: v=1; a=rsa-sha256; c=relaxed/relaxed;
 d=iol.unh.edu; s=unh-iol; t=1714103503; x=1714708303; darn=dpdk.org;
 h=references:in-reply-to:cc:to:from:subject:message-id:date:from:to
 :cc:subject:date:message-id:reply-to;
 bh=m0Y0M3Qy/n9MAx8DZABVVodmysY95jk1wJpfrWiNGeY=;
 b=QI8kZHJ3UmR64FcxQE5USU1wzf87w3jSFC1aO1FDh50AwtXlHMiU/cpnKwQHm4R6zv
 5gAyToCCsf7GOlWGBZxYSko93kul0/FFrgwlDnQ2psqmpeyKoFlLYdTkG2mR9xkGxwJf
 rw/lOdm9JkoQeBxpzrTLVFKiAw12ro5U4mIkA=
X-Google-DKIM-Signature: v=1; a=rsa-sha256; c=relaxed/relaxed;
 d=1e100.net; s=20230601; t=1714103503; x=1714708303;
 h=references:in-reply-to:cc:to:from:subject:message-id:date
 :x-gm-message-state:from:to:cc:subject:date:message-id:reply-to;
 bh=m0Y0M3Qy/n9MAx8DZABVVodmysY95jk1wJpfrWiNGeY=;
 b=aLHJTOrLnI7XZTFbLAM53X/8WaELOLEt6wVgU5O7ddT+6I/XoSUQc/Zd2uP4pa9v8s
 WIgzL+twYujXjqZqW5ns6Yj0w7+FlHiZst7D9u5Ljmh6yr+45QKLi9Mo/tH0+qxqQ343
 Dx1hCIKDhLpcrs7deb/KYnZ5zwvFcAMD/5gI0hU6n1LJQqo8E63ZI/SlV50eJAJbwIVe
 kNBc9oRLZO4AxcjlIrqAsGS6IOzSaEictXEHhh9VZ9qOhcFcN4Zhak2seekAzIFTvWEd
 C8N0F7tFaomsgjzcPHkvBJeu5cDhSCYfM6nbI6IjzZX8h75WpcQcq6aBomwDylkQMgwx
 0hww==
X-Gm-Message-State: AOJu0YzQ/EejJtvDPmok5D2Mou22FcrA0EBQ1S8oFfkIoV/7zUIubhtO
 yDcnGM3SmTFv6YaKbe61b91Evvol4JwS22S0Za5aef+/I0m+HSGGejCdXaJQqaTdmzhGKrK/PZ4
 MXHUpDbr5zHjHZzEYAVgZDsmyrZP0fw0Tksz7qzs6I1C8BuQC6lCfPva6
X-Google-Smtp-Source: AGHT+IGr96I1S/egjVyR48cBXcy4SzZzhYiT6imDfr16XJoEdtedTsAFI14SNpKAXpxYgbAOnIoeYfWVAAkt
X-Received: by 2002:a05:6e02:154f:b0:36b:3bb4:674 with SMTP id
 j15-20020a056e02154f00b0036b3bb40674mr1971002ilu.27.1714103503497; 
 Thu, 25 Apr 2024 20:51:43 -0700 (PDT)
Received: from postal.iol.unh.edu (postal.iol.unh.edu.
 [2606:4100:3880:1234::84]) by smtp-relay.gmail.com with ESMTPS id
 is21-20020a056638851500b004849562b327sm1207266jab.54.2024.04.25.20.51.43
 (version=TLS1_2 cipher=ECDHE-ECDSA-AES128-GCM-SHA256 bits=128/128);
 Thu, 25 Apr 2024 20:51:43 -0700 (PDT)
X-Relaying-Domain: iol.unh.edu
Date: Thu, 25 Apr 2024 20:51:43 -0700 (PDT)
Message-ID: <662b24cf.050a0220.bc7be.f987SMTPIN_ADDED_MISSING@mx.google.com>
Received: from [172.21.0.6] (unknown [172.18.0.240])
 by postal.iol.unh.edu (Postfix) with ESMTP id 0B27C6052514;
 Thu, 25 Apr 2024 23:51:43 -0400 (EDT)
Subject: |SUCCESS| pw139683-139686 [PATCH] [RFC,4/4] eal/malloc: remove type 
From: dpdklab@iol.unh.edu
To: Test Report <test-report@dpdk.org>
Cc: dpdk-test-reports@iol.unh.edu
In-Reply-To: <20240425182738.4771-5-stephen@networkplumber.org>
References: <20240425182738.4771-5-stephen@networkplumber.org>
Content-Type: text/plain
X-BeenThere: test-report@dpdk.org
X-Mailman-Version: 2.1.29
Precedence: list
List-Id: automatic DPDK test reports <test-report.dpdk.org>
List-Unsubscribe: <https://mails.dpdk.org/options/test-report>,
 <mailto:test-report-request@dpdk.org?subject=unsubscribe>
List-Archive: <http://mails.dpdk.org/archives/test-report/>
List-Post: <mailto:test-report@dpdk.org>
List-Help: <mailto:test-report-request@dpdk.org?subject=help>
List-Subscribe: <https://mails.dpdk.org/listinfo/test-report>,
 <mailto:test-report-request@dpdk.org?subject=subscribe>
Errors-To: test-report-bounces@dpdk.org

Test-Label: iol-unit-arm64-testing
Test-Status: SUCCESS
http://dpdk.org/patch/139686

_Testing PASS_

Submitter: Stephen Hemminger <stephen@networkplumber.org>
Date: Thursday, April 25 2024 18:24:01 
DPDK git baseline: Repo:dpdk
  Branch: master
  CommitID:7e06c0de1952d3109a5b0c4779d7e7d8059c9d78

139683-139686 --> testing pass

Test environment and result as below:

+-----------------------------+--------------+---------------------------+------------------------------+----------------+
|         Environment         | lpm_autotest | cryptodev_sw_zuc_autotest | cryptodev_sw_snow3g_autotest | dpdk_unit_test |
+=============================+==============+===========================+==============================+================+
| Ubuntu 20.04 ARM SVE        | PASS         | SKIPPED                   | SKIPPED                      | SKIPPED        |
+-----------------------------+--------------+---------------------------+------------------------------+----------------+
| Debian 12 (arm)             | SKIPPED      | PASS                      | PASS                         | PASS           |
+-----------------------------+--------------+---------------------------+------------------------------+----------------+
| 32-bit Ubuntu 20.04.4 (ARM) | SKIPPED      | SKIPPED                   | SKIPPED                      | PASS           |
+-----------------------------+--------------+---------------------------+------------------------------+----------------+
| Debian 11 (Buster) (ARM)    | SKIPPED      | SKIPPED                   | SKIPPED                      | PASS           |
+-----------------------------+--------------+---------------------------+------------------------------+----------------+
| Fedora 38 (ARM)             | SKIPPED      | SKIPPED                   | SKIPPED                      | PASS           |
+-----------------------------+--------------+---------------------------+------------------------------+----------------+
| CentOS Stream 9 (ARM)       | SKIPPED      | SKIPPED                   | SKIPPED                      | PASS           |
+-----------------------------+--------------+---------------------------+------------------------------+----------------+


Ubuntu 20.04 ARM SVE
	Kernel: 5.4.0-167-generic
	Compiler: gcc (Ubuntu 10.5.0-1ubuntu1~20.04) 10.5.0

Debian 12 (arm)
	Kernel: Container Host Kernel
	Compiler: gcc 12.2.0

32-bit Ubuntu 20.04.4 (ARM)
	Kernel: 5.4.0-155-generic aarch64
	Compiler: gcc 9.4

Debian 11 (Buster) (ARM)
	Kernel: Container Host Kernel
	Compiler: gcc 10.2.1

Fedora 38 (ARM)
	Kernel: Depends on container host
	Compiler: gcc 13.2.1

CentOS Stream 9 (ARM)
	Kernel: Container Host Kernel
	Compiler: gcc 11.4.1

To view detailed results, visit:
https://lab.dpdk.org/results/dashboard/patchsets/29859/

UNH-IOL DPDK Community Lab

To manage your email subscriptions, visit: 
https://lab.dpdk.org/results/dashboard/preferences/subscriptions/