From mboxrd@z Thu Jan  1 00:00:00 1970
Return-Path: <test-report-bounces@dpdk.org>
Received: from mails.dpdk.org (mails.dpdk.org [217.70.189.124])
	by inbox.dpdk.org (Postfix) with ESMTP id F418743F0F
	for <public@inbox.dpdk.org>; Fri, 26 Apr 2024 05:54:14 +0200 (CEST)
Received: from mails.dpdk.org (localhost [127.0.0.1])
	by mails.dpdk.org (Postfix) with ESMTP id EE52343B51;
	Fri, 26 Apr 2024 05:54:14 +0200 (CEST)
Received: from mail-yb1-f226.google.com (mail-yb1-f226.google.com
 [209.85.219.226])
 by mails.dpdk.org (Postfix) with ESMTP id 0A862402B8
 for <test-report@dpdk.org>; Fri, 26 Apr 2024 05:54:13 +0200 (CEST)
Received: by mail-yb1-f226.google.com with SMTP id
 3f1490d57ef6-de59d7f2928so1029240276.3
 for <test-report@dpdk.org>; Thu, 25 Apr 2024 20:54:12 -0700 (PDT)
DKIM-Signature: v=1; a=rsa-sha256; c=relaxed/relaxed;
 d=iol.unh.edu; s=unh-iol; t=1714103652; x=1714708452; darn=dpdk.org;
 h=references:in-reply-to:cc:to:from:subject:message-id:date:from:to
 :cc:subject:date:message-id:reply-to;
 bh=3YO70jj/f/t5pgHYK/LJUgh5zk4eT6Bj67izOCvpin8=;
 b=YgZLYCIYBXEsrebIeet3h8Xq7WgHZ40yFRabHDOKUQhwq0ZfMMb0ocbCEAvSaB5Qz6
 aRiqESLQRXzCRbm5eFHVIYhp5SU3u3fO8etzZoTqo3XPpWZ3oaqskuluEN1kbVgfXyw2
 6IcdSKrCPtR10WffOJZWOItv4emwxGJjGJBjw=
X-Google-DKIM-Signature: v=1; a=rsa-sha256; c=relaxed/relaxed;
 d=1e100.net; s=20230601; t=1714103652; x=1714708452;
 h=references:in-reply-to:cc:to:from:subject:message-id:date
 :x-gm-message-state:from:to:cc:subject:date:message-id:reply-to;
 bh=3YO70jj/f/t5pgHYK/LJUgh5zk4eT6Bj67izOCvpin8=;
 b=oJs+7LyHmPjDnub801+Xj89GH/Ddq94n/4JtYRie+VFB6vO/SSmU7ZQTggAd3dEJOm
 XU6+N/Q1+Wihb1+NEwTdUQTuPHRTfExYClhK3WfH/D8sYTQR0IRH0wr/qQ0C4Aj3wo4l
 C7dXoItzYCYNUxH2iPyIaUKrkaZSC+Swcr5cQqhUNhDJJ7IJo+pvWgfeiTvO8Ot46k5w
 sExhUJhBx9rcJGdcQSwBf5RSbP07ieDoIHvF+E6Omhbvn8/P7qB7jriRT6NR9fQVpcsE
 RSMpngBXwclk9uAUuHkKKj5pVaCOcA7eJRJFU36ZvVMeZ0V0ON0YPCdeNDJ+bI8Bq54P
 YOkg==
X-Gm-Message-State: AOJu0YwpeLzcqGirXPbsekdW5nW0eP0i/VG2iahmerWN5/6otsMkhWoL
 lGR+3Umg8VplGguIvPNKfD9UAXja4n9NiAXr4xTeZTTxiakpPHwXnfd/DaswRUPjBCXatsVFnp6
 mlRswcyZuwCmqktcn6uLXQpscMZdVmzhhNHuBrktOTmXGnb2aK3AzD7gL
X-Google-Smtp-Source: AGHT+IHs0gDGw8n1LHIG/AV1BO3xld9zu2TAQAZEI9Gl5Oo+CaoCRuqjX1KAXS1sbYyorX8cLrq3Oo5P/4fm
X-Received: by 2002:a25:943:0:b0:de5:a267:934a with SMTP id
 u3-20020a250943000000b00de5a267934amr1708843ybm.22.1714103652325; 
 Thu, 25 Apr 2024 20:54:12 -0700 (PDT)
Received: from postal.iol.unh.edu (postal.iol.unh.edu.
 [2606:4100:3880:1234::84]) by smtp-relay.gmail.com with ESMTPS id
 l6-20020a05690215c600b00dd131cc6114sm895846ybu.35.2024.04.25.20.54.12
 (version=TLS1_2 cipher=ECDHE-ECDSA-AES128-GCM-SHA256 bits=128/128);
 Thu, 25 Apr 2024 20:54:12 -0700 (PDT)
X-Relaying-Domain: iol.unh.edu
Date: Thu, 25 Apr 2024 20:54:12 -0700 (PDT)
Message-ID: <662b2564.050a0220.b0fbf.b793SMTPIN_ADDED_MISSING@mx.google.com>
Received: from [172.21.0.6] (unknown [172.18.0.240])
 by postal.iol.unh.edu (Postfix) with ESMTP id EC1246052514;
 Thu, 25 Apr 2024 23:54:11 -0400 (EDT)
Subject: |SUCCESS| pw139682 [PATCH] [RFC] net/af_packet: make stats reset rel
From: dpdklab@iol.unh.edu
To: Test Report <test-report@dpdk.org>
Cc: dpdk-test-reports@iol.unh.edu
In-Reply-To: <20240425174617.2126159-1-ferruh.yigit@amd.com>
References: <20240425174617.2126159-1-ferruh.yigit@amd.com>
Content-Type: text/plain
X-BeenThere: test-report@dpdk.org
X-Mailman-Version: 2.1.29
Precedence: list
List-Id: automatic DPDK test reports <test-report.dpdk.org>
List-Unsubscribe: <https://mails.dpdk.org/options/test-report>,
 <mailto:test-report-request@dpdk.org?subject=unsubscribe>
List-Archive: <http://mails.dpdk.org/archives/test-report/>
List-Post: <mailto:test-report@dpdk.org>
List-Help: <mailto:test-report-request@dpdk.org?subject=help>
List-Subscribe: <https://mails.dpdk.org/listinfo/test-report>,
 <mailto:test-report-request@dpdk.org?subject=subscribe>
Errors-To: test-report-bounces@dpdk.org

Test-Label: iol-compile-amd64-testing
Test-Status: SUCCESS
http://dpdk.org/patch/139682

_Testing PASS_

Submitter: Ferruh Yigit <ferruh.yigit@amd.com>
Date: Thursday, April 25 2024 17:46:17 
DPDK git baseline: Repo:dpdk
  Branch: master
  CommitID:8841786ab4aa72d205f97528af8708a13a851f4f

139682 --> testing pass

Test environment and result as below:

+---------------------+--------------------+----------------------+-------------------+
|     Environment     | dpdk_meson_compile | dpdk_mingw64_compile | dpdk_msvc_compile |
+=====================+====================+======================+===================+
| FreeBSD 13.3        | PASS               | SKIPPED              | SKIPPED           |
+---------------------+--------------------+----------------------+-------------------+
| Windows Server 2022 | PASS               | PASS                 | PASS              |
+---------------------+--------------------+----------------------+-------------------+
| Windows Server 2019 | PASS               | PASS                 | SKIPPED           |
+---------------------+--------------------+----------------------+-------------------+
| CentOS Stream 8     | PASS               | SKIPPED              | SKIPPED           |
+---------------------+--------------------+----------------------+-------------------+
| CentOS Stream 9     | PASS               | SKIPPED              | SKIPPED           |
+---------------------+--------------------+----------------------+-------------------+
| Debian Bullseye     | PASS               | SKIPPED              | SKIPPED           |
+---------------------+--------------------+----------------------+-------------------+
| Debian 12           | PASS               | SKIPPED              | SKIPPED           |
+---------------------+--------------------+----------------------+-------------------+
| Fedora 37           | PASS               | SKIPPED              | SKIPPED           |
+---------------------+--------------------+----------------------+-------------------+
| Fedora 38           | PASS               | SKIPPED              | SKIPPED           |
+---------------------+--------------------+----------------------+-------------------+
| Fedora 39           | PASS               | SKIPPED              | SKIPPED           |
+---------------------+--------------------+----------------------+-------------------+


FreeBSD 13.3
	Kernel: 13.3-RELEASE-p1
	Compiler: clang 17.0.6

Windows Server 2022
	Kernel: 10.0.20348.2031
	Compiler: clang 15.0.7, gcc 8.1.0 (MinGW), and MSVC VS 17.9

Windows Server 2019
	Kernel: 10.0.17763
	Compiler: clang 14.0 and gcc 8.1.0 (MinGW)

CentOS Stream 8
	Kernel: 5.4.0-167-generic
	Compiler: gcc 8.5.0 20210514

CentOS Stream 9
	Kernel: 5.4.0-167-generic
	Compiler: gcc 11.4.1 20230605

Debian Bullseye
	Kernel: 5.4.0-167-generic
	Compiler: gcc 10.2.1-6

Debian 12
	Kernel: Container Host Kernel
	Compiler: gcc 10.2.1

Fedora 37
	Kernel: Depends on container host system
	Compiler: gcc 12.3.1

Fedora 38
	Kernel: Depends on container host
	Compiler: gcc 13.2.1

Fedora 39
	Kernel: Depends on container host
	Compiler: gcc 13.2.1

To view detailed results, visit:
https://lab.dpdk.org/results/dashboard/patchsets/29858/

UNH-IOL DPDK Community Lab

To manage your email subscriptions, visit: 
https://lab.dpdk.org/results/dashboard/preferences/subscriptions/