From mboxrd@z Thu Jan  1 00:00:00 1970
Return-Path: <test-report-bounces@dpdk.org>
Received: from mails.dpdk.org (mails.dpdk.org [217.70.189.124])
	by inbox.dpdk.org (Postfix) with ESMTP id 6AE5143F0F
	for <public@inbox.dpdk.org>; Fri, 26 Apr 2024 05:55:20 +0200 (CEST)
Received: from mails.dpdk.org (localhost [127.0.0.1])
	by mails.dpdk.org (Postfix) with ESMTP id 3A22A43B51;
	Fri, 26 Apr 2024 05:55:20 +0200 (CEST)
Received: from mail-qk1-f227.google.com (mail-qk1-f227.google.com
 [209.85.222.227])
 by mails.dpdk.org (Postfix) with ESMTP id A20DB402B8
 for <test-report@dpdk.org>; Fri, 26 Apr 2024 05:55:12 +0200 (CEST)
Received: by mail-qk1-f227.google.com with SMTP id
 af79cd13be357-79068f4da67so141928385a.0
 for <test-report@dpdk.org>; Thu, 25 Apr 2024 20:55:12 -0700 (PDT)
DKIM-Signature: v=1; a=rsa-sha256; c=relaxed/relaxed;
 d=iol.unh.edu; s=unh-iol; t=1714103712; x=1714708512; darn=dpdk.org;
 h=references:in-reply-to:cc:to:from:subject:message-id:date:from:to
 :cc:subject:date:message-id:reply-to;
 bh=BaJEHUiQPpOhMp7Qgcp80bzFSWSM3WTo1Tpqr1JRAcE=;
 b=FD/goRSs0DF7Ai52bdBBSFnw97c4isDUZ0poSqU06XFd2Ylh1Nlfp46+RkZ1wGq+bS
 s9Mje+F7lINlASga/7Cr24/Tf5eskhZo5GEeYQyWc0OILIQTC6nS4qGxsihi+wB1WgFx
 Hg1ynImiadQaQl96RRyLJ4ABrf3d28mBF7Ua0=
X-Google-DKIM-Signature: v=1; a=rsa-sha256; c=relaxed/relaxed;
 d=1e100.net; s=20230601; t=1714103712; x=1714708512;
 h=references:in-reply-to:cc:to:from:subject:message-id:date
 :x-gm-message-state:from:to:cc:subject:date:message-id:reply-to;
 bh=BaJEHUiQPpOhMp7Qgcp80bzFSWSM3WTo1Tpqr1JRAcE=;
 b=q4I25kFgn68L6b4wS9zzNAVTYwnV6vLJmI1f8qMtZ70QoEJwBX9E5eB/KkWlX/iO3m
 +M5o62F2VYaBolJDtlOFyDddOHsmRjaQ5lMvG5mSsTZRHusRgTHf7PJHOP7szYujnbnY
 WfqUxZ9EfOV5rKB004dKEomgbpveFjF+muaGqukafCxLptl7kg58hSRCn8iOC2lUzq+Q
 G7EDV2TUpv4zCmUcRmFBVJtsOMn/y2ygjA+UU3oVvvhtZX5fykPnb42hshXf7gu/5EVA
 ZVeYxydID+yb37IvXwHDtyTdic0N5Mioza//4Le5InMoc0OxV1B3VVeQ++4ZnPqT3pwj
 SnGw==
X-Gm-Message-State: AOJu0YyM2ShuHU7uUqND5UOoJsUUkkGS8pGZuEtxeQW/7tts6JRDmI7G
 OJWOV6pxWyVmCgw2LFSHEoARGiPAsPX6E4fXZyrOTPwh1SYr3myfR9WrhXw1H4lMUFTff6oaOqS
 +s14HZkMltIvo1rvqYfk361NW2h73+IJKC+3DKKeGNBlUvAhkQJjEKpsM
X-Google-Smtp-Source: AGHT+IEo9P9DO6G2Pv/t4cNL4zTvLyqw7crMJ3P0eRyaw9SZucMF7izMHAfoa8oJNVC6qX6/ThluAbrdie+3
X-Received: by 2002:a05:6214:daa:b0:6a0:9c8f:cb98 with SMTP id
 h10-20020a0562140daa00b006a09c8fcb98mr2139996qvh.46.1714103712077; 
 Thu, 25 Apr 2024 20:55:12 -0700 (PDT)
Received: from postal.iol.unh.edu (postal.iol.unh.edu.
 [2606:4100:3880:1234::84]) by smtp-relay.gmail.com with ESMTPS id
 im12-20020a056214246c00b006992a8fa16asm1364033qvb.43.2024.04.25.20.55.12
 (version=TLS1_2 cipher=ECDHE-ECDSA-AES128-GCM-SHA256 bits=128/128);
 Thu, 25 Apr 2024 20:55:12 -0700 (PDT)
X-Relaying-Domain: iol.unh.edu
Date: Thu, 25 Apr 2024 20:55:12 -0700 (PDT)
Message-ID: <662b25a0.050a0220.2368d.8a88SMTPIN_ADDED_MISSING@mx.google.com>
Received: from [172.21.0.7] (unknown [172.18.0.240])
 by postal.iol.unh.edu (Postfix) with ESMTP id C04EE6052514;
 Thu, 25 Apr 2024 23:55:11 -0400 (EDT)
Subject: |SUCCESS| pw139682 [PATCH] [RFC] net/af_packet: make stats reset rel
From: dpdklab@iol.unh.edu
To: Test Report <test-report@dpdk.org>
Cc: dpdk-test-reports@iol.unh.edu
In-Reply-To: <20240425174617.2126159-1-ferruh.yigit@amd.com>
References: <20240425174617.2126159-1-ferruh.yigit@amd.com>
Content-Type: text/plain
X-BeenThere: test-report@dpdk.org
X-Mailman-Version: 2.1.29
Precedence: list
List-Id: automatic DPDK test reports <test-report.dpdk.org>
List-Unsubscribe: <https://mails.dpdk.org/options/test-report>,
 <mailto:test-report-request@dpdk.org?subject=unsubscribe>
List-Archive: <http://mails.dpdk.org/archives/test-report/>
List-Post: <mailto:test-report@dpdk.org>
List-Help: <mailto:test-report-request@dpdk.org?subject=help>
List-Subscribe: <https://mails.dpdk.org/listinfo/test-report>,
 <mailto:test-report-request@dpdk.org?subject=subscribe>
Errors-To: test-report-bounces@dpdk.org

Test-Label: iol-compile-amd64-testing
Test-Status: SUCCESS
http://dpdk.org/patch/139682

_Testing PASS_

Submitter: Ferruh Yigit <ferruh.yigit@amd.com>
Date: Thursday, April 25 2024 17:46:17 
DPDK git baseline: Repo:dpdk
  Branch: master
  CommitID:8841786ab4aa72d205f97528af8708a13a851f4f

139682 --> testing pass

Test environment and result as below:

+---------------------+--------------------+----------------------+-------------------+
|     Environment     | dpdk_meson_compile | dpdk_mingw64_compile | dpdk_msvc_compile |
+=====================+====================+======================+===================+
| FreeBSD 13.3        | PASS               | SKIPPED              | SKIPPED           |
+---------------------+--------------------+----------------------+-------------------+
| Windows Server 2022 | PASS               | PASS                 | PASS              |
+---------------------+--------------------+----------------------+-------------------+
| Windows Server 2019 | PASS               | PASS                 | SKIPPED           |
+---------------------+--------------------+----------------------+-------------------+
| CentOS Stream 8     | PASS               | SKIPPED              | SKIPPED           |
+---------------------+--------------------+----------------------+-------------------+
| CentOS Stream 9     | PASS               | SKIPPED              | SKIPPED           |
+---------------------+--------------------+----------------------+-------------------+
| Debian Bullseye     | PASS               | SKIPPED              | SKIPPED           |
+---------------------+--------------------+----------------------+-------------------+
| Debian 12           | PASS               | SKIPPED              | SKIPPED           |
+---------------------+--------------------+----------------------+-------------------+
| Fedora 37           | PASS               | SKIPPED              | SKIPPED           |
+---------------------+--------------------+----------------------+-------------------+
| Fedora 38           | PASS               | SKIPPED              | SKIPPED           |
+---------------------+--------------------+----------------------+-------------------+
| Fedora 39           | PASS               | SKIPPED              | SKIPPED           |
+---------------------+--------------------+----------------------+-------------------+
| openSUSE Leap 15    | PASS               | SKIPPED              | SKIPPED           |
+---------------------+--------------------+----------------------+-------------------+


FreeBSD 13.3
	Kernel: 13.3-RELEASE-p1
	Compiler: clang 17.0.6

Windows Server 2022
	Kernel: 10.0.20348.2031
	Compiler: clang 15.0.7, gcc 8.1.0 (MinGW), and MSVC VS 17.9

Windows Server 2019
	Kernel: 10.0.17763
	Compiler: clang 14.0 and gcc 8.1.0 (MinGW)

CentOS Stream 8
	Kernel: 5.4.0-167-generic
	Compiler: gcc 8.5.0 20210514

CentOS Stream 9
	Kernel: 5.4.0-167-generic
	Compiler: gcc 11.4.1 20230605

Debian Bullseye
	Kernel: 5.4.0-167-generic
	Compiler: gcc 10.2.1-6

Debian 12
	Kernel: Container Host Kernel
	Compiler: gcc 10.2.1

Fedora 37
	Kernel: Depends on container host system
	Compiler: gcc 12.3.1

Fedora 38
	Kernel: Depends on container host
	Compiler: gcc 13.2.1

Fedora 39
	Kernel: Depends on container host
	Compiler: gcc 13.2.1

openSUSE Leap 15
	Kernel: 5.4.0-167-generic
	Compiler: gcc 7.5.0

To view detailed results, visit:
https://lab.dpdk.org/results/dashboard/patchsets/29858/

UNH-IOL DPDK Community Lab

To manage your email subscriptions, visit: 
https://lab.dpdk.org/results/dashboard/preferences/subscriptions/