From mboxrd@z Thu Jan  1 00:00:00 1970
Return-Path: <test-report-bounces@dpdk.org>
Received: from mails.dpdk.org (mails.dpdk.org [217.70.189.124])
	by inbox.dpdk.org (Postfix) with ESMTP id E779F43F10
	for <public@inbox.dpdk.org>; Fri, 26 Apr 2024 06:03:44 +0200 (CEST)
Received: from mails.dpdk.org (localhost [127.0.0.1])
	by mails.dpdk.org (Postfix) with ESMTP id D1D0543B5A;
	Fri, 26 Apr 2024 06:03:44 +0200 (CEST)
Received: from mail-ot1-f99.google.com (mail-ot1-f99.google.com
 [209.85.210.99]) by mails.dpdk.org (Postfix) with ESMTP id 7ED9F43B51
 for <test-report@dpdk.org>; Fri, 26 Apr 2024 06:03:43 +0200 (CEST)
Received: by mail-ot1-f99.google.com with SMTP id
 46e09a7af769-6ea0db2727bso972524a34.2
 for <test-report@dpdk.org>; Thu, 25 Apr 2024 21:03:43 -0700 (PDT)
DKIM-Signature: v=1; a=rsa-sha256; c=relaxed/relaxed;
 d=iol.unh.edu; s=unh-iol; t=1714104223; x=1714709023; darn=dpdk.org;
 h=references:in-reply-to:cc:to:from:subject:message-id:date:from:to
 :cc:subject:date:message-id:reply-to;
 bh=X+CZhF407m8SG0MI3/+l18hU2o+aREEuaFdTsXtAwwg=;
 b=AlWZ7IQE15iPDsN0kLQ/E44+a1eYoCM78OsDRkgY1MQpb/4ilV2ONiN9pRX0mcp9qh
 76yLA9rK/4GCaXMEDvBqwkiwRhXLkFNFB0WSHJVhBb0u8blYwOgnmeCpSSfmS6CT6GXB
 pbvsgaJFMSX3e+v3A4KiwSx2x6++6ID1wChyY=
X-Google-DKIM-Signature: v=1; a=rsa-sha256; c=relaxed/relaxed;
 d=1e100.net; s=20230601; t=1714104223; x=1714709023;
 h=references:in-reply-to:cc:to:from:subject:message-id:date
 :x-gm-message-state:from:to:cc:subject:date:message-id:reply-to;
 bh=X+CZhF407m8SG0MI3/+l18hU2o+aREEuaFdTsXtAwwg=;
 b=EFeocXed6hT9iv6LvmXZZvaaX3e4tUbZwTH1K5yuwKlxwvQ/MNbk4Jdh/KuBWZLt3q
 XG/R300pvXxGiZkZk6Cgy5smMMAu7uulAuAg1yJ/7sekg9iFm4cKrVV2CEuSWQ2NT1bQ
 +lBU+kVUwLnkSLczFAWcTZUeuAQffbDP5SpkIFPrKwpTt2gsW1stqJeyNmJm9ZiI5Oz8
 +r1gTt0r8/cTpXAsXpHzjB5v7vvnntB8OwioAq5eLuVdC2bk9zti3zPgx+qvAcg5H92e
 eZEVQFZNAxA5F2RwM9k0NPv2zZNTlBtYrGMmdsLVP8uCpw2vRSB3t0iF189uW+2b+rxA
 PjhA==
X-Gm-Message-State: AOJu0Yyi6aX3Y/XDMDidLdIyX76P5YhMLpe7dA3Z9jSuuzL6rfQ5zzp7
 5EamVZNMOM4FBUTynt61wAAZWJ2ct/G0o9BBnS8qejsvuvWBqeg812xJxreM67GGbYWksI0SDUB
 O45d+CftEF37YwdMVFrm/IBmfv2izwugu4HnvqNJuX1FFGI7ilIybvPet
X-Google-Smtp-Source: AGHT+IF7yC85BVApCASNZa/okC61NsSzR03YabchKcFoFLkzYQnyX0R+jS5IWxT4Nr4rOpQWIx82slno2qlT
X-Received: by 2002:a05:6359:4288:b0:18e:3ec:94bb with SMTP id
 kp8-20020a056359428800b0018e03ec94bbmr1475378rwb.23.1714104222766; 
 Thu, 25 Apr 2024 21:03:42 -0700 (PDT)
Received: from postal.iol.unh.edu (postal.iol.unh.edu.
 [2606:4100:3880:1234::84]) by smtp-relay.gmail.com with ESMTPS id
 e3-20020a0562141d0300b0068fa448a122sm1368067qvd.63.2024.04.25.21.03.42
 (version=TLS1_2 cipher=ECDHE-ECDSA-AES128-GCM-SHA256 bits=128/128);
 Thu, 25 Apr 2024 21:03:42 -0700 (PDT)
X-Relaying-Domain: iol.unh.edu
Date: Thu, 25 Apr 2024 21:03:42 -0700 (PDT)
Message-ID: <662b279e.050a0220.862e6.af77SMTPIN_ADDED_MISSING@mx.google.com>
Received: from [172.17.0.2] (unknown [172.18.0.217])
 by postal.iol.unh.edu (Postfix) with ESMTP id 6D6FA6052514;
 Fri, 26 Apr 2024 00:03:42 -0400 (EDT)
Subject: |SUCCESS| pw139682 [PATCH] [RFC] net/af_packet: make stats reset rel
From: dpdklab@iol.unh.edu
To: Test Report <test-report@dpdk.org>
Cc: dpdk-test-reports@iol.unh.edu
In-Reply-To: <20240425174617.2126159-1-ferruh.yigit@amd.com>
References: <20240425174617.2126159-1-ferruh.yigit@amd.com>
Content-Type: text/plain
X-BeenThere: test-report@dpdk.org
X-Mailman-Version: 2.1.29
Precedence: list
List-Id: automatic DPDK test reports <test-report.dpdk.org>
List-Unsubscribe: <https://mails.dpdk.org/options/test-report>,
 <mailto:test-report-request@dpdk.org?subject=unsubscribe>
List-Archive: <http://mails.dpdk.org/archives/test-report/>
List-Post: <mailto:test-report@dpdk.org>
List-Help: <mailto:test-report-request@dpdk.org?subject=help>
List-Subscribe: <https://mails.dpdk.org/listinfo/test-report>,
 <mailto:test-report-request@dpdk.org?subject=subscribe>
Errors-To: test-report-bounces@dpdk.org

Test-Label: iol-abi-testing
Test-Status: SUCCESS
http://dpdk.org/patch/139682

_Testing PASS_

Submitter: Ferruh Yigit <ferruh.yigit@amd.com>
Date: Thursday, April 25 2024 17:46:17 
DPDK git baseline: Repo:dpdk
  Branch: master
  CommitID:8841786ab4aa72d205f97528af8708a13a851f4f

139682 --> testing pass

Test environment and result as below:

+------------------+----------+
|   Environment    | abi_test |
+==================+==========+
| Fedora 37        | PASS     |
+------------------+----------+
| Debian Bullseye  | PASS     |
+------------------+----------+
| CentOS Stream 8  | PASS     |
+------------------+----------+
| CentOS Stream 9  | PASS     |
+------------------+----------+
| Fedora 38        | PASS     |
+------------------+----------+
| Ubuntu 22.04     | PASS     |
+------------------+----------+
| Debian 12        | PASS     |
+------------------+----------+
| Fedora 39        | PASS     |
+------------------+----------+
| openSUSE Leap 15 | PASS     |
+------------------+----------+
| RHEL8            | PASS     |
+------------------+----------+


Fedora 37
	Kernel: Depends on container host system
	Compiler: gcc 12.3.1

Debian Bullseye
	Kernel: 5.4.0-167-generic
	Compiler: gcc 10.2.1-6

CentOS Stream 8
	Kernel: 5.4.0-167-generic
	Compiler: gcc 8.5.0 20210514

CentOS Stream 9
	Kernel: 5.4.0-167-generic
	Compiler: gcc 11.4.1 20230605

Fedora 38
	Kernel: Depends on container host
	Compiler: clang 16.0.6

Ubuntu 22.04
	Kernel: 5.4.0-167-generic
	Compiler: gcc 11.4.0

Debian 12
	Kernel: Container Host Kernel
	Compiler: gcc 10.2.1

Fedora 39
	Kernel: Depends on container host
	Compiler: clang 17.0.6

openSUSE Leap 15
	Kernel: 5.4.0-167-generic
	Compiler: gcc 7.5.0

RHEL8
	Kernel: 5.4.0-167-generic
	Compiler: gcc 8.5.0 20210514 (Red Hat 8.5.0-20)

To view detailed results, visit:
https://lab.dpdk.org/results/dashboard/patchsets/29858/

UNH-IOL DPDK Community Lab

To manage your email subscriptions, visit: 
https://lab.dpdk.org/results/dashboard/preferences/subscriptions/