From mboxrd@z Thu Jan  1 00:00:00 1970
Return-Path: <test-report-bounces@dpdk.org>
Received: from mails.dpdk.org (mails.dpdk.org [217.70.189.124])
	by inbox.dpdk.org (Postfix) with ESMTP id D1DE543F10
	for <public@inbox.dpdk.org>; Fri, 26 Apr 2024 06:39:52 +0200 (CEST)
Received: from mails.dpdk.org (localhost [127.0.0.1])
	by mails.dpdk.org (Postfix) with ESMTP id CB9B443B5A;
	Fri, 26 Apr 2024 06:39:52 +0200 (CEST)
Received: from mail-oi1-f226.google.com (mail-oi1-f226.google.com
 [209.85.167.226])
 by mails.dpdk.org (Postfix) with ESMTP id 9FCC843B51
 for <test-report@dpdk.org>; Fri, 26 Apr 2024 06:39:50 +0200 (CEST)
Received: by mail-oi1-f226.google.com with SMTP id
 5614622812f47-3c7498041cfso1035143b6e.2
 for <test-report@dpdk.org>; Thu, 25 Apr 2024 21:39:50 -0700 (PDT)
DKIM-Signature: v=1; a=rsa-sha256; c=relaxed/relaxed;
 d=iol.unh.edu; s=unh-iol; t=1714106390; x=1714711190; darn=dpdk.org;
 h=references:in-reply-to:cc:to:from:subject:message-id:date:from:to
 :cc:subject:date:message-id:reply-to;
 bh=zZNCPx7bedTPgcHatl5g5mTliTzFUsZBaevP+eBmzlY=;
 b=DHH5c8qAbBEIlGRDmn/Yc3SEF6IVldUx3aVtlj6nOT7j19Ab5NgfiYCYKxO2MQfMXl
 Vm04vZNHEoOF8KsbzT4X6VZT08rSS4H/OqcxAKPfjrlQ7lNV3B4QbfsD/auCOKGVsmDE
 uKN5X5B0Rs5efGWlPy0UW2k/H0Q+R7fUsvzLU=
X-Google-DKIM-Signature: v=1; a=rsa-sha256; c=relaxed/relaxed;
 d=1e100.net; s=20230601; t=1714106390; x=1714711190;
 h=references:in-reply-to:cc:to:from:subject:message-id:date
 :x-gm-message-state:from:to:cc:subject:date:message-id:reply-to;
 bh=zZNCPx7bedTPgcHatl5g5mTliTzFUsZBaevP+eBmzlY=;
 b=Di2NjLwcbFJi7SBakl5423EbsFJbHAkoUnd1SZJgl/CqzYQT00Ccbxdw3Ik6ITYBcH
 oX1Fjpa5EGZHS7asHXg/N0c/6CrvznFJIXEprCLkPbsjM6vinLiilim5vl3ARR31Q7tC
 fI5T+zlUgJ4GGmRZIsMrxeWAJroSrKYwGo9+pjAaK71Z2LWeOiUrhUH62NmzV8RQHuch
 6zFpnRlQteKyN7ZHaRuR/IpmBnGcjM2uUGIU3lcAP3dskFYSI7gS8t7FbV+2T7kZ4HPi
 Epbr7ENZ+/32jyU08XZ1yfonmmY2P7JizXLtGqbGUjYx/AJJ3y+SSLwaOig11oNLVlg/
 Gubw==
X-Gm-Message-State: AOJu0Yz1IKPgsPATG2pCMbSsskztRFhNIcjWKUmI5qOMDNR+uTP6lPQL
 E2143gVOohwrd8j3EiuI2zKL1Vy6gCOHzagQE0Vxrua53iG6X9p5nZf5v1YsSsdscRjIO8yRo/6
 FfRCXM1Nm/gkov86uNmDZU8ryKOjnT+SsAWvKCls+
X-Google-Smtp-Source: AGHT+IGXtBZk7iDyrOAI+yuO2HFKo1jKnDyzAeV/OXc77l0anz5Ygil9kezglLQa0BYkSoYn/pBUakMmJis6
X-Received: by 2002:a05:6808:2a8c:b0:3c4:f1a1:b7b2 with SMTP id
 fc12-20020a0568082a8c00b003c4f1a1b7b2mr1773000oib.55.1714106389905; 
 Thu, 25 Apr 2024 21:39:49 -0700 (PDT)
Received: from postal.iol.unh.edu (postal.iol.unh.edu. [132.177.123.84])
 by smtp-relay.gmail.com with ESMTPS id
 q27-20020a63751b000000b005e485fc9c51sm1019836pgc.35.2024.04.25.21.39.49
 (version=TLS1_2 cipher=ECDHE-ECDSA-AES128-GCM-SHA256 bits=128/128);
 Thu, 25 Apr 2024 21:39:49 -0700 (PDT)
X-Relaying-Domain: iol.unh.edu
Date: Thu, 25 Apr 2024 21:39:49 -0700 (PDT)
Message-ID: <662b3015.630a0220.c8c57.5804SMTPIN_ADDED_MISSING@mx.google.com>
Received: from [172.21.0.6] (unknown [172.18.0.240])
 by postal.iol.unh.edu (Postfix) with ESMTP id 1E0356052514;
 Fri, 26 Apr 2024 00:39:49 -0400 (EDT)
Subject: |SUCCESS| pw139682 [PATCH] [RFC] net/af_packet: make stats reset rel
From: dpdklab@iol.unh.edu
To: Test Report <test-report@dpdk.org>
Cc: dpdk-test-reports@iol.unh.edu
In-Reply-To: <20240425174617.2126159-1-ferruh.yigit@amd.com>
References: <20240425174617.2126159-1-ferruh.yigit@amd.com>
Content-Type: text/plain
X-BeenThere: test-report@dpdk.org
X-Mailman-Version: 2.1.29
Precedence: list
List-Id: automatic DPDK test reports <test-report.dpdk.org>
List-Unsubscribe: <https://mails.dpdk.org/options/test-report>,
 <mailto:test-report-request@dpdk.org?subject=unsubscribe>
List-Archive: <http://mails.dpdk.org/archives/test-report/>
List-Post: <mailto:test-report@dpdk.org>
List-Help: <mailto:test-report-request@dpdk.org?subject=help>
List-Subscribe: <https://mails.dpdk.org/listinfo/test-report>,
 <mailto:test-report-request@dpdk.org?subject=subscribe>
Errors-To: test-report-bounces@dpdk.org

Test-Label: iol-unit-arm64-testing
Test-Status: SUCCESS
http://dpdk.org/patch/139682

_Testing PASS_

Submitter: Ferruh Yigit <ferruh.yigit@amd.com>
Date: Thursday, April 25 2024 17:46:17 
DPDK git baseline: Repo:dpdk
  Branch: master
  CommitID:8841786ab4aa72d205f97528af8708a13a851f4f

139682 --> testing pass

Test environment and result as below:

+-----------------------------+----------------+--------------+---------------------------+------------------------------+
|         Environment         | dpdk_unit_test | lpm_autotest | cryptodev_sw_zuc_autotest | cryptodev_sw_snow3g_autotest |
+=============================+================+==============+===========================+==============================+
| 32-bit Ubuntu 20.04.4 (ARM) | PASS           | SKIPPED      | SKIPPED                   | SKIPPED                      |
+-----------------------------+----------------+--------------+---------------------------+------------------------------+
| Debian 11 (Buster) (ARM)    | PASS           | SKIPPED      | SKIPPED                   | SKIPPED                      |
+-----------------------------+----------------+--------------+---------------------------+------------------------------+
| CentOS Stream 9 (ARM)       | PASS           | SKIPPED      | SKIPPED                   | SKIPPED                      |
+-----------------------------+----------------+--------------+---------------------------+------------------------------+
| Fedora 38 (ARM)             | PASS           | SKIPPED      | SKIPPED                   | SKIPPED                      |
+-----------------------------+----------------+--------------+---------------------------+------------------------------+
| Debian 12 (arm)             | PASS           | SKIPPED      | PASS                      | PASS                         |
+-----------------------------+----------------+--------------+---------------------------+------------------------------+
| Fedora 37 (ARM)             | PASS           | SKIPPED      | SKIPPED                   | SKIPPED                      |
+-----------------------------+----------------+--------------+---------------------------+------------------------------+
| Fedora 39 (ARM)             | PASS           | SKIPPED      | SKIPPED                   | SKIPPED                      |
+-----------------------------+----------------+--------------+---------------------------+------------------------------+
| Ubuntu 20.04 ARM SVE        | SKIPPED        | PASS         | SKIPPED                   | SKIPPED                      |
+-----------------------------+----------------+--------------+---------------------------+------------------------------+


32-bit Ubuntu 20.04.4 (ARM)
	Kernel: 5.4.0-155-generic aarch64
	Compiler: gcc 9.4

Debian 11 (Buster) (ARM)
	Kernel: Container Host Kernel
	Compiler: gcc 10.2.1

CentOS Stream 9 (ARM)
	Kernel: Container Host Kernel
	Compiler: gcc 11.4.1

Fedora 38 (ARM)
	Kernel: Depends on container host
	Compiler: gcc 13.2.1

Debian 12 (arm)
	Kernel: Container Host Kernel
	Compiler: gcc 12.2.0

Fedora 37 (ARM)
	Kernel: Depends on container host
	Compiler: gcc 12.3.1

Fedora 39 (ARM)
	Kernel: Depends on container host
	Compiler: gcc 13.2.1

Ubuntu 20.04 ARM SVE
	Kernel: 5.4.0-167-generic
	Compiler: gcc (Ubuntu 10.5.0-1ubuntu1~20.04) 10.5.0

To view detailed results, visit:
https://lab.dpdk.org/results/dashboard/patchsets/29858/

UNH-IOL DPDK Community Lab

To manage your email subscriptions, visit: 
https://lab.dpdk.org/results/dashboard/preferences/subscriptions/