From mboxrd@z Thu Jan  1 00:00:00 1970
Return-Path: <test-report-bounces@dpdk.org>
Received: from mails.dpdk.org (mails.dpdk.org [217.70.189.124])
	by inbox.dpdk.org (Postfix) with ESMTP id 31BC643F10
	for <public@inbox.dpdk.org>; Fri, 26 Apr 2024 06:40:38 +0200 (CEST)
Received: from mails.dpdk.org (localhost [127.0.0.1])
	by mails.dpdk.org (Postfix) with ESMTP id 2513943B5A;
	Fri, 26 Apr 2024 06:40:38 +0200 (CEST)
Received: from mail-qv1-f98.google.com (mail-qv1-f98.google.com
 [209.85.219.98]) by mails.dpdk.org (Postfix) with ESMTP id B182143B51
 for <test-report@dpdk.org>; Fri, 26 Apr 2024 06:40:36 +0200 (CEST)
Received: by mail-qv1-f98.google.com with SMTP id
 6a1803df08f44-69b6d36b71cso12219356d6.3
 for <test-report@dpdk.org>; Thu, 25 Apr 2024 21:40:36 -0700 (PDT)
DKIM-Signature: v=1; a=rsa-sha256; c=relaxed/relaxed;
 d=iol.unh.edu; s=unh-iol; t=1714106436; x=1714711236; darn=dpdk.org;
 h=references:in-reply-to:cc:to:from:subject:message-id:date:from:to
 :cc:subject:date:message-id:reply-to;
 bh=N1S8aI+D5kPqqg5i2/ZiUZtkEkWB0qngmBxEa3mwiho=;
 b=gRA3t2GcT+mFnaWWkG1ahPMTfxFbCmH1zoLzKSgoX9mDqnhzkbVpNlnFL2O9ES407Y
 dxQQ2vdgmvEHzyZrrbNKqfWDJmuh0TZbEJlhliwc2UBAQPwzPsw5G2080o3B70W1LjEg
 8gX/CBbISdyrk9No4Ji3ZF9RRv2/Oa53OnAsk=
X-Google-DKIM-Signature: v=1; a=rsa-sha256; c=relaxed/relaxed;
 d=1e100.net; s=20230601; t=1714106436; x=1714711236;
 h=references:in-reply-to:cc:to:from:subject:message-id:date
 :x-gm-message-state:from:to:cc:subject:date:message-id:reply-to;
 bh=N1S8aI+D5kPqqg5i2/ZiUZtkEkWB0qngmBxEa3mwiho=;
 b=unLevz9rH1ZaRq6A1LD5wAlfSAacJ2KIwgbjq/v7BTQQnQzoH6FjOsHXDNfMYAoAed
 ubSSyuAGrYk9GsTbNamFX5TQSCaWevWtKXeeXBPAA/AT08ShN1VblVK1McGnEKAx7TgD
 cGeTaexkG3mnyj1G5AeAOViXhaEK3VmLvWI0jIODJJKgQbfJhQNlvNhj37vHrNVmecZi
 iMUb3tY5NM5Q15gUSLyutjVuGEaT0XCgXMYDZT1PyE04AyXd3sZChVE0ZbyB5DnWsNic
 ZupRhwu+3GdUdtzh/FOQDyUIVLp3pIHSSPvkW5lYlBDzkQ3HGJGN770TrfEgmE7vQDmF
 biUg==
X-Gm-Message-State: AOJu0YyuMMGk65ZjD+oMYEf4K2Sjqyhy4ibFqXRnMTZWMdzqDecIZvYN
 GVNf1f8BW6kpnRpPm2c+KrR5QuZohItBJiN0oHEqGsmrxqHpnt1rofBVAJDSxDiwbU9YSbtArPH
 q0N1RSnGKC7yCE55fsyXNsNUPpe/fOnzynXmMVloo
X-Google-Smtp-Source: AGHT+IE9Voh7KBgpkGULR7X4fRkkt76o5CSCTTGhYwbYsdfn1nB3q4Dzp4Vv3DnW6z6a7rE0vzy0LQvP1mmu
X-Received: by 2002:a05:6214:2265:b0:69b:1be3:e76f with SMTP id
 gs5-20020a056214226500b0069b1be3e76fmr2443831qvb.44.1714106436078; 
 Thu, 25 Apr 2024 21:40:36 -0700 (PDT)
Received: from postal.iol.unh.edu (postal.iol.unh.edu. [132.177.123.84])
 by smtp-relay.gmail.com with ESMTPS id
 u16-20020a0ce5d0000000b006a0a527ca4dsm116062qvm.68.2024.04.25.21.40.36
 (version=TLS1_2 cipher=ECDHE-ECDSA-AES128-GCM-SHA256 bits=128/128);
 Thu, 25 Apr 2024 21:40:36 -0700 (PDT)
X-Relaying-Domain: iol.unh.edu
Date: Thu, 25 Apr 2024 21:40:36 -0700 (PDT)
Message-ID: <662b3044.0c0a0220.5d1e.7b60SMTPIN_ADDED_MISSING@mx.google.com>
Received: from [172.21.0.7] (unknown [172.18.0.240])
 by postal.iol.unh.edu (Postfix) with ESMTP id BCE246052514;
 Fri, 26 Apr 2024 00:40:35 -0400 (EDT)
Subject: |SUCCESS| pw139682 [PATCH] [RFC] net/af_packet: make stats reset rel
From: dpdklab@iol.unh.edu
To: Test Report <test-report@dpdk.org>
Cc: dpdk-test-reports@iol.unh.edu
In-Reply-To: <20240425174617.2126159-1-ferruh.yigit@amd.com>
References: <20240425174617.2126159-1-ferruh.yigit@amd.com>
Content-Type: text/plain
X-BeenThere: test-report@dpdk.org
X-Mailman-Version: 2.1.29
Precedence: list
List-Id: automatic DPDK test reports <test-report.dpdk.org>
List-Unsubscribe: <https://mails.dpdk.org/options/test-report>,
 <mailto:test-report-request@dpdk.org?subject=unsubscribe>
List-Archive: <http://mails.dpdk.org/archives/test-report/>
List-Post: <mailto:test-report@dpdk.org>
List-Help: <mailto:test-report-request@dpdk.org?subject=help>
List-Subscribe: <https://mails.dpdk.org/listinfo/test-report>,
 <mailto:test-report-request@dpdk.org?subject=subscribe>
Errors-To: test-report-bounces@dpdk.org

Test-Label: iol-compile-arm64-testing
Test-Status: SUCCESS
http://dpdk.org/patch/139682

_Testing PASS_

Submitter: Ferruh Yigit <ferruh.yigit@amd.com>
Date: Thursday, April 25 2024 17:46:17 
DPDK git baseline: Repo:dpdk
  Branch: master
  CommitID:8841786ab4aa72d205f97528af8708a13a851f4f

139682 --> testing pass

Test environment and result as below:

+----------------------------------------+--------------------+
|              Environment               | dpdk_meson_compile |
+========================================+====================+
| Ubuntu 20.04 ARM GCC Cross Compile     | PASS               |
+----------------------------------------+--------------------+
| Ubuntu 20.04 ARM SVE                   | PASS               |
+----------------------------------------+--------------------+
| Debian 12 with MUSDK                   | PASS               |
+----------------------------------------+--------------------+
| Ubuntu 20.04 aarch32 GCC Cross Compile | PASS               |
+----------------------------------------+--------------------+
| Fedora 37 (ARM)                        | PASS               |
+----------------------------------------+--------------------+
| Fedora 38 (ARM)                        | PASS               |
+----------------------------------------+--------------------+
| Fedora 39 (ARM)                        | PASS               |
+----------------------------------------+--------------------+
| Ubuntu 20.04 (ARM)                     | PASS               |
+----------------------------------------+--------------------+
| CentOS Stream 9 (ARM)                  | PASS               |
+----------------------------------------+--------------------+
| Debian 11 (Buster) (ARM)               | PASS               |
+----------------------------------------+--------------------+
| Ubuntu 20.04 ARM Clang Cross Compile   | PASS               |
+----------------------------------------+--------------------+
| Debian 12 (arm)                        | PASS               |
+----------------------------------------+--------------------+


Ubuntu 20.04 ARM GCC Cross Compile
	Kernel: 5.4.0-167-generic
	Compiler: aarch64-linux-gnu-gcc (Ubuntu 9.4.0-1ubuntu1~20.04.2) 9.4.0

Ubuntu 20.04 ARM SVE
	Kernel: 5.4.0-167-generic
	Compiler: gcc (Ubuntu 10.5.0-1ubuntu1~20.04) 10.5.0

Debian 12 with MUSDK
	Kernel: Container Host Kernel
	Compiler: gcc 12.2.0

Ubuntu 20.04 aarch32 GCC Cross Compile
	Kernel: 5.4.0-167-generic
	Compiler: gcc 9.4.0

Fedora 37 (ARM)
	Kernel: Depends on container host
	Compiler: gcc 12.3.1

Fedora 38 (ARM)
	Kernel: Depends on container host
	Compiler: gcc 13.2.1

Fedora 39 (ARM)
	Kernel: Depends on container host
	Compiler: gcc 13.2.1

Ubuntu 20.04 (ARM)
	Kernel: Container Host Kernel
	Compiler: gcc 9.4.0

CentOS Stream 9 (ARM)
	Kernel: Container Host Kernel
	Compiler: gcc 11.4.1

Debian 11 (Buster) (ARM)
	Kernel: Container Host Kernel
	Compiler: gcc 10.2.1

Ubuntu 20.04 ARM Clang Cross Compile
	Kernel: 5.4.0-72-generic
	Compiler: clang 10.0.0-4ubuntu1

Debian 12 (arm)
	Kernel: Container Host Kernel
	Compiler: gcc 12.2.0

To view detailed results, visit:
https://lab.dpdk.org/results/dashboard/patchsets/29858/

UNH-IOL DPDK Community Lab

To manage your email subscriptions, visit: 
https://lab.dpdk.org/results/dashboard/preferences/subscriptions/