From mboxrd@z Thu Jan  1 00:00:00 1970
Return-Path: <test-report-bounces@dpdk.org>
Received: from mails.dpdk.org (mails.dpdk.org [217.70.189.124])
	by inbox.dpdk.org (Postfix) with ESMTP id BCDB243F13
	for <public@inbox.dpdk.org>; Fri, 26 Apr 2024 11:04:55 +0200 (CEST)
Received: from mails.dpdk.org (localhost [127.0.0.1])
	by mails.dpdk.org (Postfix) with ESMTP id B66CD43CC3;
	Fri, 26 Apr 2024 11:04:55 +0200 (CEST)
Received: from mail-qk1-f225.google.com (mail-qk1-f225.google.com
 [209.85.222.225])
 by mails.dpdk.org (Postfix) with ESMTP id E2BF543CC0
 for <test-report@dpdk.org>; Fri, 26 Apr 2024 11:04:53 +0200 (CEST)
Received: by mail-qk1-f225.google.com with SMTP id
 af79cd13be357-78f03917484so120941985a.3
 for <test-report@dpdk.org>; Fri, 26 Apr 2024 02:04:53 -0700 (PDT)
DKIM-Signature: v=1; a=rsa-sha256; c=relaxed/relaxed;
 d=iol.unh.edu; s=unh-iol; t=1714122293; x=1714727093; darn=dpdk.org;
 h=references:in-reply-to:cc:to:from:subject:message-id:date:from:to
 :cc:subject:date:message-id:reply-to;
 bh=g+9jaCdRjOTekdriNi2WKUvxOyC+rttt7qp4C47cK3I=;
 b=CC4hUlPl/V/uAYZ+yXo8PL5lqbJlTMr0dPkq/igJGfQDtsNTt22HaFmjQMJUGS7APX
 xvGeQUS+1ejkXvBjPzqqm/itJF9oTY9H1xrLQlnFovmriUCdyWLo5yG05o/hKlNWo3/s
 n5HfXLTidrTvWV1MWXxK6OJwoO/flHr7pHLrU=
X-Google-DKIM-Signature: v=1; a=rsa-sha256; c=relaxed/relaxed;
 d=1e100.net; s=20230601; t=1714122293; x=1714727093;
 h=references:in-reply-to:cc:to:from:subject:message-id:date
 :x-gm-message-state:from:to:cc:subject:date:message-id:reply-to;
 bh=g+9jaCdRjOTekdriNi2WKUvxOyC+rttt7qp4C47cK3I=;
 b=c6suXH0CHusI/8kFgVq55ubpurE9Y5HFc/rn7rHcz3mdCdvJwwCS2c8J9z+48aMufz
 q3yXxUxNUfBLHsBUqBBaZ3/M7S6tcTLMAFQpiXTr5ZWUjr2HhvLJw22bsir1d3kTmyMx
 /y7lvZU7VQs/UifLHLDzqmSrRLXONdbuMkyeLxhRcXGe9wm5hhfGhyue1MwTLsyqMy2+
 o+e/3br52TVQXWbsktEXuBU/ziD0cE3rNcPjay0ERMKCgyzt0DgcDrVTiCQS97F3ZyV9
 vpV3BgYFACzxzKDuoMOyvEoFheMk4ezNmLaGd+dqIxFMKrqFz+qyYKH0wENrpXrIdgvA
 sWKw==
X-Gm-Message-State: AOJu0YzNbTnQKOoK8sCmJoO5kg0jYvqm5PChlppdBHCCqqTuVw5L0jZO
 T3MiJQ6nNBNC4uuvKYMGT7flgGmrWBz2YOV5IH3QUGpy5hZHO2/bMiHmvEFMFzhxkfCshXBpUJJ
 PIuSYwpHPd5CIMa5duQsYd7IIHTq0d6w6T425aRvN
X-Google-Smtp-Source: AGHT+IGxVgucCI6y8lokC+ATG9SeW5fdRPo2svyKYjSAo3kPv0HNFeN7EwZb8G4d23jfVfsV/jyhcRhLD2/W
X-Received: by 2002:a05:622a:178e:b0:436:7766:deb5 with SMTP id
 s14-20020a05622a178e00b004367766deb5mr2247114qtk.29.1714122293314; 
 Fri, 26 Apr 2024 02:04:53 -0700 (PDT)
Received: from postal.iol.unh.edu (postal.iol.unh.edu. [132.177.123.84])
 by smtp-relay.gmail.com with ESMTPS id
 y6-20020a05622a164600b00434b7e5432dsm1126306qtj.4.2024.04.26.02.04.53
 (version=TLS1_2 cipher=ECDHE-ECDSA-AES128-GCM-SHA256 bits=128/128);
 Fri, 26 Apr 2024 02:04:53 -0700 (PDT)
X-Relaying-Domain: iol.unh.edu
Date: Fri, 26 Apr 2024 02:04:53 -0700 (PDT)
Message-ID: <662b6e35.050a0220.c1deb.7a91SMTPIN_ADDED_MISSING@mx.google.com>
Received: from [172.21.0.13] (unknown [172.18.0.240])
 by postal.iol.unh.edu (Postfix) with ESMTP id F40626052514;
 Fri, 26 Apr 2024 05:04:52 -0400 (EDT)
Subject: |SUCCESS| pw139689-139698 [PATCH] [10/10] doc: update nfp document
From: dpdklab@iol.unh.edu
To: Test Report <test-report@dpdk.org>
Cc: dpdk-test-reports@iol.unh.edu
In-Reply-To: <20240426074831.1729792-11-chaoyong.he@corigine.com>
References: <20240426074831.1729792-11-chaoyong.he@corigine.com>
Content-Type: text/plain
X-BeenThere: test-report@dpdk.org
X-Mailman-Version: 2.1.29
Precedence: list
List-Id: automatic DPDK test reports <test-report.dpdk.org>
List-Unsubscribe: <https://mails.dpdk.org/options/test-report>,
 <mailto:test-report-request@dpdk.org?subject=unsubscribe>
List-Archive: <http://mails.dpdk.org/archives/test-report/>
List-Post: <mailto:test-report@dpdk.org>
List-Help: <mailto:test-report-request@dpdk.org?subject=help>
List-Subscribe: <https://mails.dpdk.org/listinfo/test-report>,
 <mailto:test-report-request@dpdk.org?subject=subscribe>
Errors-To: test-report-bounces@dpdk.org

Test-Label: iol-abi-testing
Test-Status: SUCCESS
http://dpdk.org/patch/139698

_Testing PASS_

Submitter: Chaoyong He <chaoyong.he@corigine.com>
Date: Friday, April 26 2024 07:48:31 
DPDK git baseline: Repo:dpdk
  Branch: master
  CommitID:8841786ab4aa72d205f97528af8708a13a851f4f

139689-139698 --> testing pass

Test environment and result as below:

+-----------------+----------+
|   Environment   | abi_test |
+=================+==========+
| CentOS Stream 8 | PASS     |
+-----------------+----------+
| Debian Bullseye | PASS     |
+-----------------+----------+
| Fedora 38       | PASS     |
+-----------------+----------+
| Debian 12       | PASS     |
+-----------------+----------+
| Fedora 37       | PASS     |
+-----------------+----------+
| CentOS Stream 9 | PASS     |
+-----------------+----------+
| Ubuntu 22.04    | PASS     |
+-----------------+----------+
| Fedora 39       | PASS     |
+-----------------+----------+


CentOS Stream 8
	Kernel: 5.4.0-167-generic
	Compiler: gcc 8.5.0 20210514

Debian Bullseye
	Kernel: 5.4.0-167-generic
	Compiler: gcc 10.2.1-6

Fedora 38
	Kernel: Depends on container host
	Compiler: clang 16.0.6

Debian 12
	Kernel: Container Host Kernel
	Compiler: gcc 10.2.1

Fedora 37
	Kernel: Depends on container host system
	Compiler: gcc 12.3.1

CentOS Stream 9
	Kernel: 5.4.0-167-generic
	Compiler: gcc 11.4.1 20230605

Ubuntu 22.04
	Kernel: 5.4.0-167-generic
	Compiler: gcc 11.4.0

Fedora 39
	Kernel: Depends on container host
	Compiler: clang 17.0.6

To view detailed results, visit:
https://lab.dpdk.org/results/dashboard/patchsets/29862/

UNH-IOL DPDK Community Lab

To manage your email subscriptions, visit: 
https://lab.dpdk.org/results/dashboard/preferences/subscriptions/