From mboxrd@z Thu Jan  1 00:00:00 1970
Return-Path: <test-report-bounces@dpdk.org>
Received: from mails.dpdk.org (mails.dpdk.org [217.70.189.124])
	by inbox.dpdk.org (Postfix) with ESMTP id 9C4B043F13
	for <public@inbox.dpdk.org>; Fri, 26 Apr 2024 11:06:30 +0200 (CEST)
Received: from mails.dpdk.org (localhost [127.0.0.1])
	by mails.dpdk.org (Postfix) with ESMTP id 74AFB43CCD;
	Fri, 26 Apr 2024 11:06:30 +0200 (CEST)
Received: from mail-pl1-f227.google.com (mail-pl1-f227.google.com
 [209.85.214.227])
 by mails.dpdk.org (Postfix) with ESMTP id 0F7F943AE0
 for <test-report@dpdk.org>; Fri, 26 Apr 2024 11:06:23 +0200 (CEST)
Received: by mail-pl1-f227.google.com with SMTP id
 d9443c01a7336-1eab16c8d83so13900795ad.3
 for <test-report@dpdk.org>; Fri, 26 Apr 2024 02:06:22 -0700 (PDT)
DKIM-Signature: v=1; a=rsa-sha256; c=relaxed/relaxed;
 d=iol.unh.edu; s=unh-iol; t=1714122382; x=1714727182; darn=dpdk.org;
 h=references:in-reply-to:cc:to:from:subject:message-id:date:from:to
 :cc:subject:date:message-id:reply-to;
 bh=gaRAcP6Z50Y8cOO0pEJvefnI/8uK8Nxv9ZTrnGn1oQ8=;
 b=ATwbha0vUZ0Bt4To4KkgjEJvQUmFP6I4NB5dtqsWZNUHoY963E6pVzZs0lv1HW/CSI
 Ea9pnxz7/aUXX5xP30MKTVTGgFIiSFzMM7qZ7ampMOiTBobOd1iUxrZ3N8drYVGUafhK
 eOIlQHeDB87HllXcAqwlk22qMfJJ6C3All8SM=
X-Google-DKIM-Signature: v=1; a=rsa-sha256; c=relaxed/relaxed;
 d=1e100.net; s=20230601; t=1714122382; x=1714727182;
 h=references:in-reply-to:cc:to:from:subject:message-id:date
 :x-gm-message-state:from:to:cc:subject:date:message-id:reply-to;
 bh=gaRAcP6Z50Y8cOO0pEJvefnI/8uK8Nxv9ZTrnGn1oQ8=;
 b=NkGJyVebgVoIK1mTL7rMEM+bxjhv9WguVuziuxWBgEaD1CUb4VOLbx0iHdzCrqhsqc
 jZtD4x/Hn25f5wFyxTxA6WYDlNLGLR5VS3cgpzEuMGbPfrcyZlkzBADCz3D5GNijd3Pn
 XC9ExEcGB4dnVU7eH/Qz2uAY2B8q8lvSC3alsa1RFiWxJM6JMXglc8eukRrU8qWhSxCo
 Zq+ufwgwdGBpR+TeDR9d1i56MklYOwkBKAp75cqFUGpGxlY/lnK2APaNHGTN+MrZ5Epc
 /K3kavHTJgFMNduizwv7oKcKj/NC1DtgEQ1ZhIeOew6P9Do2E/yIvr1bujfNn9G7oxRx
 DHew==
X-Gm-Message-State: AOJu0YwCD/WN1v16QWgDEn3x4sVVfEdvglrceh/914JQk5iGTEx5Gaok
 TZ/7Un+dgpmQxL6IyZfh2FiLZresVwu8SPY9pmJhrhsSLCXTS543fAagwBkjQ9aEhc3+opQxjWM
 brJjmh9ASejkSRPAh6m/59RQPhFOIDZ79HXU/JdQ2
X-Google-Smtp-Source: AGHT+IEpbnd0zbk/mQJqjCg6PKyb15oDDbdnXNRM0CFBh/0srQ8hi2nYJhDJcnIvA3t/cxUUw3k3n5gzdIkM
X-Received: by 2002:a17:90a:df11:b0:2ab:9c0d:da69 with SMTP id
 gp17-20020a17090adf1100b002ab9c0dda69mr1684115pjb.49.1714122382262; 
 Fri, 26 Apr 2024 02:06:22 -0700 (PDT)
Received: from postal.iol.unh.edu (postal.iol.unh.edu. [132.177.123.84])
 by smtp-relay.gmail.com with ESMTPS id
 nv16-20020a17090b1b5000b002a47339fd3fsm1152500pjb.0.2024.04.26.02.06.22
 (version=TLS1_2 cipher=ECDHE-ECDSA-AES128-GCM-SHA256 bits=128/128);
 Fri, 26 Apr 2024 02:06:22 -0700 (PDT)
X-Relaying-Domain: iol.unh.edu
Date: Fri, 26 Apr 2024 02:06:22 -0700 (PDT)
Message-ID: <662b6e8e.170a0220.2be18.a1caSMTPIN_ADDED_MISSING@mx.google.com>
Received: from [172.17.0.3] (unknown [172.18.0.213])
 by postal.iol.unh.edu (Postfix) with ESMTP id 545FE6052514;
 Fri, 26 Apr 2024 05:06:21 -0400 (EDT)
Subject: |SUCCESS| pw139689-139698 [PATCH] [10/10] doc: update nfp document
From: dpdklab@iol.unh.edu
To: Test Report <test-report@dpdk.org>
Cc: dpdk-test-reports@iol.unh.edu
In-Reply-To: <20240426074831.1729792-11-chaoyong.he@corigine.com>
References: <20240426074831.1729792-11-chaoyong.he@corigine.com>
Content-Type: text/plain
X-BeenThere: test-report@dpdk.org
X-Mailman-Version: 2.1.29
Precedence: list
List-Id: automatic DPDK test reports <test-report.dpdk.org>
List-Unsubscribe: <https://mails.dpdk.org/options/test-report>,
 <mailto:test-report-request@dpdk.org?subject=unsubscribe>
List-Archive: <http://mails.dpdk.org/archives/test-report/>
List-Post: <mailto:test-report@dpdk.org>
List-Help: <mailto:test-report-request@dpdk.org?subject=help>
List-Subscribe: <https://mails.dpdk.org/listinfo/test-report>,
 <mailto:test-report-request@dpdk.org?subject=subscribe>
Errors-To: test-report-bounces@dpdk.org

Test-Label: iol-unit-arm64-testing
Test-Status: SUCCESS
http://dpdk.org/patch/139698

_Testing PASS_

Submitter: Chaoyong He <chaoyong.he@corigine.com>
Date: Friday, April 26 2024 07:48:31 
DPDK git baseline: Repo:dpdk
  Branch: master
  CommitID:8841786ab4aa72d205f97528af8708a13a851f4f

139689-139698 --> testing pass

Test environment and result as below:

+--------------------------+------------------------------+---------------------------+----------------+
|       Environment        | cryptodev_sw_snow3g_autotest | cryptodev_sw_zuc_autotest | dpdk_unit_test |
+==========================+==============================+===========================+================+
| Debian 12 (arm)          | PASS                         | PASS                      | PASS           |
+--------------------------+------------------------------+---------------------------+----------------+
| CentOS Stream 9 (ARM)    | SKIPPED                      | SKIPPED                   | PASS           |
+--------------------------+------------------------------+---------------------------+----------------+
| Debian 11 (Buster) (ARM) | SKIPPED                      | SKIPPED                   | PASS           |
+--------------------------+------------------------------+---------------------------+----------------+
| Fedora 37 (ARM)          | SKIPPED                      | SKIPPED                   | PASS           |
+--------------------------+------------------------------+---------------------------+----------------+
| Fedora 38 (ARM)          | SKIPPED                      | SKIPPED                   | PASS           |
+--------------------------+------------------------------+---------------------------+----------------+


Debian 12 (arm)
	Kernel: Container Host Kernel
	Compiler: gcc 12.2.0

CentOS Stream 9 (ARM)
	Kernel: Container Host Kernel
	Compiler: gcc 11.4.1

Debian 11 (Buster) (ARM)
	Kernel: Container Host Kernel
	Compiler: gcc 10.2.1

Fedora 37 (ARM)
	Kernel: Depends on container host
	Compiler: gcc 12.3.1

Fedora 38 (ARM)
	Kernel: Depends on container host
	Compiler: gcc 13.2.1

To view detailed results, visit:
https://lab.dpdk.org/results/dashboard/patchsets/29862/

UNH-IOL DPDK Community Lab

To manage your email subscriptions, visit: 
https://lab.dpdk.org/results/dashboard/preferences/subscriptions/