From mboxrd@z Thu Jan  1 00:00:00 1970
Return-Path: <test-report-bounces@dpdk.org>
Received: from mails.dpdk.org (mails.dpdk.org [217.70.189.124])
	by inbox.dpdk.org (Postfix) with ESMTP id C757743F13
	for <public@inbox.dpdk.org>; Fri, 26 Apr 2024 11:08:04 +0200 (CEST)
Received: from mails.dpdk.org (localhost [127.0.0.1])
	by mails.dpdk.org (Postfix) with ESMTP id BB8FB43CBF;
	Fri, 26 Apr 2024 11:08:04 +0200 (CEST)
Received: from mail-oo1-f100.google.com (mail-oo1-f100.google.com
 [209.85.161.100])
 by mails.dpdk.org (Postfix) with ESMTP id 288D643AE0
 for <test-report@dpdk.org>; Fri, 26 Apr 2024 11:08:04 +0200 (CEST)
Received: by mail-oo1-f100.google.com with SMTP id
 006d021491bc7-5aa241232faso1411429eaf.0
 for <test-report@dpdk.org>; Fri, 26 Apr 2024 02:08:04 -0700 (PDT)
DKIM-Signature: v=1; a=rsa-sha256; c=relaxed/relaxed;
 d=iol.unh.edu; s=unh-iol; t=1714122483; x=1714727283; darn=dpdk.org;
 h=references:in-reply-to:cc:to:from:subject:message-id:date:from:to
 :cc:subject:date:message-id:reply-to;
 bh=7yb9gGkDz7P9k+WnN09YhBFba31LGidSjnrYe9zcla8=;
 b=CUL/RQrXWJxRAQJwMrXz3lP6X1YcgREGiHW5/WIHjuCYawUvVkkXqCtLgrMm3T+h3g
 AilOVp8JPEYySDaN0AWPCzC6YhWNQ4FynF8SB1QE4U4zhpoyOoQisYZ6c6XED3H9QFtm
 OxDUc7MAHoOjF7Zy/gFDOM2WlBX2ukkyhMf58=
X-Google-DKIM-Signature: v=1; a=rsa-sha256; c=relaxed/relaxed;
 d=1e100.net; s=20230601; t=1714122483; x=1714727283;
 h=references:in-reply-to:cc:to:from:subject:message-id:date
 :x-gm-message-state:from:to:cc:subject:date:message-id:reply-to;
 bh=7yb9gGkDz7P9k+WnN09YhBFba31LGidSjnrYe9zcla8=;
 b=lqLygOLJvCNMHVYWo5SKs4QFCLJrtg7sOpbVFy4G79NdY+hIT4n6xKJdukJY1s5W2t
 6gijqkLX6cBJy5ie+mgwNunjoZBGBWmGDVe31mj4l/pJcdjJ+ZBkZ7n8OvKtyYjPnpmV
 7Ts7FUW321+D9k4VLQlQl9pfX+Zcjwcgq6KCF2SL21Z8PjaPhhw2vWDIxVYze3m1d/Yx
 +xk4fBdf756cQhy7G6R8gdWntUwYQCx4AqwxUkiFFTO/wo0p4qdzLO+ISJfE4Y9Uieu9
 UeKSybCNgeZGFDCEAoH1D1b0EvZ8cNrdHahmVo2DGssRebPVtmnRcII+wovk2DlKgBiX
 moag==
X-Gm-Message-State: AOJu0YwgMGVaTPNFdFNabX9QNjSNY8pT+NCM7lg/R74nDy9zYqqtVRSP
 Cg8Q8yu6UCg8t0fQ01/xzbBZhqhz0p9zFijJoAzx25fvTkUyCfshD1mlK5eW6+4ly3hbYErbcbB
 oo9Kgd0UhgwQSU1G5AV8raboQl8grurYOj37NebUT
X-Google-Smtp-Source: AGHT+IGX2b1otqAUZlFMKiaFCUoWdX5HoNIywTDFWPlr+FMl3UT82eNMKgUITyjeVDztiVtnJONgMIIYJLmm
X-Received: by 2002:a05:6359:760a:b0:183:55a6:b240 with SMTP id
 wg10-20020a056359760a00b0018355a6b240mr2112588rwc.4.1714122483400; 
 Fri, 26 Apr 2024 02:08:03 -0700 (PDT)
Received: from postal.iol.unh.edu (postal.iol.unh.edu. [132.177.123.84])
 by smtp-relay.gmail.com with ESMTPS id
 gw10-20020a0562140f0a00b0069b76e4bc5dsm1391779qvb.53.2024.04.26.02.08.03
 (version=TLS1_2 cipher=ECDHE-ECDSA-AES128-GCM-SHA256 bits=128/128);
 Fri, 26 Apr 2024 02:08:03 -0700 (PDT)
X-Relaying-Domain: iol.unh.edu
Date: Fri, 26 Apr 2024 02:08:03 -0700 (PDT)
Message-ID: <662b6ef3.050a0220.9997b.b30bSMTPIN_ADDED_MISSING@mx.google.com>
Received: from [172.21.0.7] (unknown [172.18.0.240])
 by postal.iol.unh.edu (Postfix) with ESMTP id 0B33E6052514;
 Fri, 26 Apr 2024 05:08:03 -0400 (EDT)
Subject: |SUCCESS| pw139689-139698 [PATCH] [10/10] doc: update nfp document
From: dpdklab@iol.unh.edu
To: Test Report <test-report@dpdk.org>
Cc: dpdk-test-reports@iol.unh.edu
In-Reply-To: <20240426074831.1729792-11-chaoyong.he@corigine.com>
References: <20240426074831.1729792-11-chaoyong.he@corigine.com>
Content-Type: text/plain
X-BeenThere: test-report@dpdk.org
X-Mailman-Version: 2.1.29
Precedence: list
List-Id: automatic DPDK test reports <test-report.dpdk.org>
List-Unsubscribe: <https://mails.dpdk.org/options/test-report>,
 <mailto:test-report-request@dpdk.org?subject=unsubscribe>
List-Archive: <http://mails.dpdk.org/archives/test-report/>
List-Post: <mailto:test-report@dpdk.org>
List-Help: <mailto:test-report-request@dpdk.org?subject=help>
List-Subscribe: <https://mails.dpdk.org/listinfo/test-report>,
 <mailto:test-report-request@dpdk.org?subject=subscribe>
Errors-To: test-report-bounces@dpdk.org

Test-Label: iol-compile-arm64-testing
Test-Status: SUCCESS
http://dpdk.org/patch/139698

_Testing PASS_

Submitter: Chaoyong He <chaoyong.he@corigine.com>
Date: Friday, April 26 2024 07:48:31 
DPDK git baseline: Repo:dpdk
  Branch: master
  CommitID:8841786ab4aa72d205f97528af8708a13a851f4f

139689-139698 --> testing pass

Test environment and result as below:

+----------------------------------------+--------------------+
|              Environment               | dpdk_meson_compile |
+========================================+====================+
| Ubuntu 20.04 ARM SVE                   | PASS               |
+----------------------------------------+--------------------+
| Debian 12 with MUSDK                   | PASS               |
+----------------------------------------+--------------------+
| Fedora 38 (ARM)                        | PASS               |
+----------------------------------------+--------------------+
| Fedora 37 (ARM)                        | PASS               |
+----------------------------------------+--------------------+
| Fedora 39 (ARM)                        | PASS               |
+----------------------------------------+--------------------+
| Ubuntu 20.04 (ARM)                     | PASS               |
+----------------------------------------+--------------------+
| Debian 11 (Buster) (ARM)               | PASS               |
+----------------------------------------+--------------------+
| Debian 12 (arm)                        | PASS               |
+----------------------------------------+--------------------+
| Ubuntu 20.04 ARM Clang Cross Compile   | PASS               |
+----------------------------------------+--------------------+
| CentOS Stream 9 (ARM)                  | PASS               |
+----------------------------------------+--------------------+
| Ubuntu 20.04 aarch32 GCC Cross Compile | PASS               |
+----------------------------------------+--------------------+
| Ubuntu 20.04 ARM GCC Cross Compile     | PASS               |
+----------------------------------------+--------------------+


Ubuntu 20.04 ARM SVE
	Kernel: 5.4.0-167-generic
	Compiler: gcc (Ubuntu 10.5.0-1ubuntu1~20.04) 10.5.0

Debian 12 with MUSDK
	Kernel: Container Host Kernel
	Compiler: gcc 12.2.0

Fedora 38 (ARM)
	Kernel: Depends on container host
	Compiler: gcc 13.2.1

Fedora 37 (ARM)
	Kernel: Depends on container host
	Compiler: gcc 12.3.1

Fedora 39 (ARM)
	Kernel: Depends on container host
	Compiler: gcc 13.2.1

Ubuntu 20.04 (ARM)
	Kernel: Container Host Kernel
	Compiler: gcc 9.4.0

Debian 11 (Buster) (ARM)
	Kernel: Container Host Kernel
	Compiler: gcc 10.2.1

Debian 12 (arm)
	Kernel: Container Host Kernel
	Compiler: gcc 12.2.0

Ubuntu 20.04 ARM Clang Cross Compile
	Kernel: 5.4.0-72-generic
	Compiler: clang 10.0.0-4ubuntu1

CentOS Stream 9 (ARM)
	Kernel: Container Host Kernel
	Compiler: gcc 11.4.1

Ubuntu 20.04 aarch32 GCC Cross Compile
	Kernel: 5.4.0-167-generic
	Compiler: gcc 9.4.0

Ubuntu 20.04 ARM GCC Cross Compile
	Kernel: 5.4.0-167-generic
	Compiler: aarch64-linux-gnu-gcc (Ubuntu 9.4.0-1ubuntu1~20.04.2) 9.4.0

To view detailed results, visit:
https://lab.dpdk.org/results/dashboard/patchsets/29862/

UNH-IOL DPDK Community Lab

To manage your email subscriptions, visit: 
https://lab.dpdk.org/results/dashboard/preferences/subscriptions/