From mboxrd@z Thu Jan  1 00:00:00 1970
Return-Path: <test-report-bounces@dpdk.org>
Received: from mails.dpdk.org (mails.dpdk.org [217.70.189.124])
	by inbox.dpdk.org (Postfix) with ESMTP id 7866543F13
	for <public@inbox.dpdk.org>; Fri, 26 Apr 2024 11:17:34 +0200 (CEST)
Received: from mails.dpdk.org (localhost [127.0.0.1])
	by mails.dpdk.org (Postfix) with ESMTP id 7167A43CEA;
	Fri, 26 Apr 2024 11:17:34 +0200 (CEST)
Received: from mail-il1-f226.google.com (mail-il1-f226.google.com
 [209.85.166.226])
 by mails.dpdk.org (Postfix) with ESMTP id EDE9440289
 for <test-report@dpdk.org>; Fri, 26 Apr 2024 11:17:33 +0200 (CEST)
Received: by mail-il1-f226.google.com with SMTP id
 e9e14a558f8ab-36b146836d7so7716335ab.3
 for <test-report@dpdk.org>; Fri, 26 Apr 2024 02:17:33 -0700 (PDT)
DKIM-Signature: v=1; a=rsa-sha256; c=relaxed/relaxed;
 d=iol.unh.edu; s=unh-iol; t=1714123053; x=1714727853; darn=dpdk.org;
 h=references:in-reply-to:cc:to:from:subject:message-id:date:from:to
 :cc:subject:date:message-id:reply-to;
 bh=TiZni2+A9PQgC22FguWPBBZKDJh4JbM+phOcS6Ei2zY=;
 b=Mfzt3GW7Lp2PV2SpVEo1JTM3Du7C9di5NpPnKQF5WVOYsE0ul9RV7AKligtiCtmh0X
 8VwW2/9GmiWQJCjFfOD1BK2pchJ9mZCMUpyRZzkrdpmONwxpsl0q3IC9zDaq9OnHSeKk
 8uXdHpWvsYIOYhT3q+tu618QEmt4Mt38+frvM=
X-Google-DKIM-Signature: v=1; a=rsa-sha256; c=relaxed/relaxed;
 d=1e100.net; s=20230601; t=1714123053; x=1714727853;
 h=references:in-reply-to:cc:to:from:subject:message-id:date
 :x-gm-message-state:from:to:cc:subject:date:message-id:reply-to;
 bh=TiZni2+A9PQgC22FguWPBBZKDJh4JbM+phOcS6Ei2zY=;
 b=pFua+7taEzuW2RBollV33oY+qKo6IM0wgqvrHx5R2dPVoSO3Mu1GgqbDtBY/qmpnal
 TVCipWYMK2jD7vkKIkbeDTo9lzf8UKDWuKDLq4fAJiwdygcycM9TvaiTo3WDBeRDCwB0
 rQHMUeUYpIVP+pEY7q9oWs0ef6U2HVMPXJ8I7O+d9TYtppT8qFa9EKlBhsrbwyZmAWcW
 HzJEKyBu2xx0XpMtiHaXa570AyZt9ZDCN0n3SiIMYE+dZDB2ip/IIsOwtFrAazEE3JS2
 h4zq/8V5yXSTlrsmT/10T2WT60sBxE/wmPOg6dRPXNdQnLxq3ny7VAFCpDp4sDrOWPdd
 67Mw==
X-Gm-Message-State: AOJu0Yx7ecP1X5Kwa3zroKZ139NrSWdQ/nDONxJKQgf9aAxhoY1zVwVh
 oRtuo/5fYUTPZY1/5ON4HtLPpgJnjuu5PoHQ8w3sg7pNcNh+6yONKgOTxY5SpyVEdv9HQFHOcWU
 pJsJ1cKeJQxsQfzLfbA5yjIuzRt63cJ0SVhRUyGvjkuR9c9CZZcYzUdA7
X-Google-Smtp-Source: AGHT+IEarxs9tEjxnw018SoTJg6ebx2t4h923Vbbi86XUixhG2Fez+tXB7ETgAESWzWAAweKADi7H31mNAZm
X-Received: by 2002:a05:6e02:1525:b0:36b:1aee:1e8 with SMTP id
 i5-20020a056e02152500b0036b1aee01e8mr2435613ilu.8.1714123053349; 
 Fri, 26 Apr 2024 02:17:33 -0700 (PDT)
Received: from postal.iol.unh.edu (postal.iol.unh.edu.
 [2606:4100:3880:1234::84]) by smtp-relay.gmail.com with ESMTPS id
 g6-20020a92c7c6000000b0036b26f5a9ffsm1000378ilk.63.2024.04.26.02.17.33
 (version=TLS1_2 cipher=ECDHE-ECDSA-AES128-GCM-SHA256 bits=128/128);
 Fri, 26 Apr 2024 02:17:33 -0700 (PDT)
X-Relaying-Domain: iol.unh.edu
Date: Fri, 26 Apr 2024 02:17:33 -0700 (PDT)
Message-ID: <662b712d.920a0220.59490.545dSMTPIN_ADDED_MISSING@mx.google.com>
Received: from [172.21.0.9] (unknown [172.18.0.240])
 by postal.iol.unh.edu (Postfix) with ESMTP id CC8636052514;
 Fri, 26 Apr 2024 05:17:32 -0400 (EDT)
Subject: |SUCCESS| pw139689-139698 [PATCH] [10/10] doc: update nfp document
From: dpdklab@iol.unh.edu
To: Test Report <test-report@dpdk.org>
Cc: dpdk-test-reports@iol.unh.edu
In-Reply-To: <20240426074831.1729792-11-chaoyong.he@corigine.com>
References: <20240426074831.1729792-11-chaoyong.he@corigine.com>
Content-Type: text/plain
X-BeenThere: test-report@dpdk.org
X-Mailman-Version: 2.1.29
Precedence: list
List-Id: automatic DPDK test reports <test-report.dpdk.org>
List-Unsubscribe: <https://mails.dpdk.org/options/test-report>,
 <mailto:test-report-request@dpdk.org?subject=unsubscribe>
List-Archive: <http://mails.dpdk.org/archives/test-report/>
List-Post: <mailto:test-report@dpdk.org>
List-Help: <mailto:test-report-request@dpdk.org?subject=help>
List-Subscribe: <https://mails.dpdk.org/listinfo/test-report>,
 <mailto:test-report-request@dpdk.org?subject=subscribe>
Errors-To: test-report-bounces@dpdk.org

Test-Label: iol-unit-amd64-testing
Test-Status: SUCCESS
http://dpdk.org/patch/139698

_Testing PASS_

Submitter: Chaoyong He <chaoyong.he@corigine.com>
Date: Friday, April 26 2024 07:48:31 
DPDK git baseline: Repo:dpdk
  Branch: master
  CommitID:8841786ab4aa72d205f97528af8708a13a851f4f

139689-139698 --> testing pass

Test environment and result as below:

+---------------------+----------------+
|     Environment     | dpdk_unit_test |
+=====================+================+
| Windows Server 2019 | PASS           |
+---------------------+----------------+
| Debian Bullseye     | PASS           |
+---------------------+----------------+
| CentOS Stream 8     | PASS           |
+---------------------+----------------+
| CentOS Stream 9     | PASS           |
+---------------------+----------------+
| Debian 12           | PASS           |
+---------------------+----------------+
| Fedora 38           | PASS           |
+---------------------+----------------+
| Fedora 37           | PASS           |
+---------------------+----------------+
| Fedora 39           | PASS           |
+---------------------+----------------+


Windows Server 2019
	Kernel: 10.0.17763
	Compiler: clang 14.0 and gcc 8.1.0 (MinGW)

Debian Bullseye
	Kernel: 5.4.0-167-generic
	Compiler: gcc 10.2.1-6

CentOS Stream 8
	Kernel: 5.4.0-167-generic
	Compiler: gcc 8.5.0 20210514

CentOS Stream 9
	Kernel: 5.4.0-167-generic
	Compiler: gcc 11.4.1 20230605

Debian 12
	Kernel: Container Host Kernel
	Compiler: gcc 10.2.1

Fedora 38
	Kernel: Depends on container host
	Compiler: gcc 13.2.1

Fedora 37
	Kernel: Depends on container host system
	Compiler: gcc 12.3.1

Fedora 39
	Kernel: Depends on container host
	Compiler: gcc 13.2.1

To view detailed results, visit:
https://lab.dpdk.org/results/dashboard/patchsets/29862/

UNH-IOL DPDK Community Lab

To manage your email subscriptions, visit: 
https://lab.dpdk.org/results/dashboard/preferences/subscriptions/