From mboxrd@z Thu Jan  1 00:00:00 1970
Return-Path: <test-report-bounces@dpdk.org>
Received: from mails.dpdk.org (mails.dpdk.org [217.70.189.124])
	by inbox.dpdk.org (Postfix) with ESMTP id 1DE7743F13
	for <public@inbox.dpdk.org>; Fri, 26 Apr 2024 11:27:30 +0200 (CEST)
Received: from mails.dpdk.org (localhost [127.0.0.1])
	by mails.dpdk.org (Postfix) with ESMTP id 0E89443CEA;
	Fri, 26 Apr 2024 11:27:30 +0200 (CEST)
Received: from mail-yw1-f226.google.com (mail-yw1-f226.google.com
 [209.85.128.226])
 by mails.dpdk.org (Postfix) with ESMTP id 3A99940289
 for <test-report@dpdk.org>; Fri, 26 Apr 2024 11:27:28 +0200 (CEST)
Received: by mail-yw1-f226.google.com with SMTP id
 00721157ae682-618944792c3so21318077b3.1
 for <test-report@dpdk.org>; Fri, 26 Apr 2024 02:27:28 -0700 (PDT)
DKIM-Signature: v=1; a=rsa-sha256; c=relaxed/relaxed;
 d=iol.unh.edu; s=unh-iol; t=1714123647; x=1714728447; darn=dpdk.org;
 h=references:in-reply-to:cc:to:from:subject:message-id:date:from:to
 :cc:subject:date:message-id:reply-to;
 bh=3b06E1Vz/AdzXYi43NmOg14HgzkNmc31PN4AZkYj4V0=;
 b=VwBeH5XQj4PqyvOrBr/f4Sp125j3b6gSaF/i5sEKcXsp1J23us0ZZNCGznhImOgKzc
 +95OwuapFD1g4uNVgm3idtngnzKpshOdh+apvnszvOkAA9O2wobxewgzUaFc6CJequAP
 EAefp6LS2SMRhdJFa6k6R1RmBYhrc/aySCAhU=
X-Google-DKIM-Signature: v=1; a=rsa-sha256; c=relaxed/relaxed;
 d=1e100.net; s=20230601; t=1714123647; x=1714728447;
 h=references:in-reply-to:cc:to:from:subject:message-id:date
 :x-gm-message-state:from:to:cc:subject:date:message-id:reply-to;
 bh=3b06E1Vz/AdzXYi43NmOg14HgzkNmc31PN4AZkYj4V0=;
 b=k+BPrasog1tqxWbih7v9h0nY2X9Tpu2m5i7ajaKTaS9j2M8jMgV8WZV8hD6JhzYQdC
 +gcMGv1NHOX8h+PyNYpaI+GX+RVJhgCcOdEonmAeoZRC5r0vZKanb2nM8CkecTTJGyao
 EE8ye7oLOV0R+qacWDdqh3YGaXh1Vtxe2iqpPIWyX8ri3PAEq752G0TwOeBufZPPXfI5
 3f5BdYDMMLB1HyMyv6OLxV+ftJL4zHwbr1gtziLg0xYagJAv9/n/BLKlJ0Eb0ITt9f5w
 yXxXsQ+O08amCXIBWaBowjwKhI4K4MSZrWLZCLFhn6CpMWvM4w8B3+BrQulmeBiGKiDb
 05mQ==
X-Gm-Message-State: AOJu0YxmygTAzR6A2wmwj/3R/GZfe52ldtsOqgykYO6p5/6lyjyKGA9L
 1o6fj3XnLTvm92gnVznRV0iuI43JAVyTjPWNr2kOb52WKZ7r+DfAMnmf+51a0WvRShy6/cDr1pI
 BttawZdaZwPVSuZkTQGy+o7fy/eHWH0ZQbpnGBAFv
X-Google-Smtp-Source: AGHT+IEulsS0p8Vo6SXux7NRpQNDbHFkFzwrS0Z1z+fr7Ujudz5yRU00XLwdFASmQjFRQQR4wQDTnTQeD5LW
X-Received: by 2002:a05:690c:6006:b0:61b:3487:df12 with SMTP id
 hf6-20020a05690c600600b0061b3487df12mr2459599ywb.35.1714123647570; 
 Fri, 26 Apr 2024 02:27:27 -0700 (PDT)
Received: from postal.iol.unh.edu (postal.iol.unh.edu. [132.177.123.84])
 by smtp-relay.gmail.com with ESMTPS id
 x83-20020a81a056000000b0061582c3b359sm1327038ywg.50.2024.04.26.02.27.27
 (version=TLS1_2 cipher=ECDHE-ECDSA-AES128-GCM-SHA256 bits=128/128);
 Fri, 26 Apr 2024 02:27:27 -0700 (PDT)
X-Relaying-Domain: iol.unh.edu
Date: Fri, 26 Apr 2024 02:27:27 -0700 (PDT)
Message-ID: <662b737f.810a0220.e57e4.6362SMTPIN_ADDED_MISSING@mx.google.com>
Received: from [172.21.0.7] (unknown [172.18.0.240])
 by postal.iol.unh.edu (Postfix) with ESMTP id 3A5176052514;
 Fri, 26 Apr 2024 05:27:27 -0400 (EDT)
Subject: |SUCCESS| pw139689-139698 [PATCH] [10/10] doc: update nfp document
From: dpdklab@iol.unh.edu
To: Test Report <test-report@dpdk.org>
Cc: dpdk-test-reports@iol.unh.edu
In-Reply-To: <20240426074831.1729792-11-chaoyong.he@corigine.com>
References: <20240426074831.1729792-11-chaoyong.he@corigine.com>
Content-Type: text/plain
X-BeenThere: test-report@dpdk.org
X-Mailman-Version: 2.1.29
Precedence: list
List-Id: automatic DPDK test reports <test-report.dpdk.org>
List-Unsubscribe: <https://mails.dpdk.org/options/test-report>,
 <mailto:test-report-request@dpdk.org?subject=unsubscribe>
List-Archive: <http://mails.dpdk.org/archives/test-report/>
List-Post: <mailto:test-report@dpdk.org>
List-Help: <mailto:test-report-request@dpdk.org?subject=help>
List-Subscribe: <https://mails.dpdk.org/listinfo/test-report>,
 <mailto:test-report-request@dpdk.org?subject=subscribe>
Errors-To: test-report-bounces@dpdk.org

Test-Label: iol-unit-arm64-testing
Test-Status: SUCCESS
http://dpdk.org/patch/139698

_Testing PASS_

Submitter: Chaoyong He <chaoyong.he@corigine.com>
Date: Friday, April 26 2024 07:48:31 
DPDK git baseline: Repo:dpdk
  Branch: master
  CommitID:8841786ab4aa72d205f97528af8708a13a851f4f

139689-139698 --> testing pass

Test environment and result as below:

+-----------------------------+------------------------------+---------------------------+----------------+--------------+
|         Environment         | cryptodev_sw_snow3g_autotest | cryptodev_sw_zuc_autotest | dpdk_unit_test | lpm_autotest |
+=============================+==============================+===========================+================+==============+
| Debian 12 (arm)             | PASS                         | PASS                      | PASS           | SKIPPED      |
+-----------------------------+------------------------------+---------------------------+----------------+--------------+
| CentOS Stream 9 (ARM)       | SKIPPED                      | SKIPPED                   | PASS           | SKIPPED      |
+-----------------------------+------------------------------+---------------------------+----------------+--------------+
| Debian 11 (Buster) (ARM)    | SKIPPED                      | SKIPPED                   | PASS           | SKIPPED      |
+-----------------------------+------------------------------+---------------------------+----------------+--------------+
| Fedora 37 (ARM)             | SKIPPED                      | SKIPPED                   | PASS           | SKIPPED      |
+-----------------------------+------------------------------+---------------------------+----------------+--------------+
| Fedora 38 (ARM)             | SKIPPED                      | SKIPPED                   | PASS           | SKIPPED      |
+-----------------------------+------------------------------+---------------------------+----------------+--------------+
| Fedora 39 (ARM)             | SKIPPED                      | SKIPPED                   | PASS           | SKIPPED      |
+-----------------------------+------------------------------+---------------------------+----------------+--------------+
| Ubuntu 20.04 (ARM)          | SKIPPED                      | SKIPPED                   | PASS           | SKIPPED      |
+-----------------------------+------------------------------+---------------------------+----------------+--------------+
| 32-bit Ubuntu 20.04.4 (ARM) | SKIPPED                      | SKIPPED                   | PASS           | SKIPPED      |
+-----------------------------+------------------------------+---------------------------+----------------+--------------+
| Ubuntu 20.04 ARM SVE        | SKIPPED                      | SKIPPED                   | SKIPPED        | PASS         |
+-----------------------------+------------------------------+---------------------------+----------------+--------------+


Debian 12 (arm)
	Kernel: Container Host Kernel
	Compiler: gcc 12.2.0

CentOS Stream 9 (ARM)
	Kernel: Container Host Kernel
	Compiler: gcc 11.4.1

Debian 11 (Buster) (ARM)
	Kernel: Container Host Kernel
	Compiler: gcc 10.2.1

Fedora 37 (ARM)
	Kernel: Depends on container host
	Compiler: gcc 12.3.1

Fedora 38 (ARM)
	Kernel: Depends on container host
	Compiler: gcc 13.2.1

Fedora 39 (ARM)
	Kernel: Depends on container host
	Compiler: gcc 13.2.1

Ubuntu 20.04 (ARM)
	Kernel: Container Host Kernel
	Compiler: gcc 9.4.0

32-bit Ubuntu 20.04.4 (ARM)
	Kernel: 5.4.0-155-generic aarch64
	Compiler: gcc 9.4

Ubuntu 20.04 ARM SVE
	Kernel: 5.4.0-167-generic
	Compiler: gcc (Ubuntu 10.5.0-1ubuntu1~20.04) 10.5.0

To view detailed results, visit:
https://lab.dpdk.org/results/dashboard/patchsets/29862/

UNH-IOL DPDK Community Lab

To manage your email subscriptions, visit: 
https://lab.dpdk.org/results/dashboard/preferences/subscriptions/