From mboxrd@z Thu Jan  1 00:00:00 1970
Return-Path: <test-report-bounces@dpdk.org>
Received: from mails.dpdk.org (mails.dpdk.org [217.70.189.124])
	by inbox.dpdk.org (Postfix) with ESMTP id 99C9943F13
	for <public@inbox.dpdk.org>; Fri, 26 Apr 2024 11:29:25 +0200 (CEST)
Received: from mails.dpdk.org (localhost [127.0.0.1])
	by mails.dpdk.org (Postfix) with ESMTP id 9540343D04;
	Fri, 26 Apr 2024 11:29:25 +0200 (CEST)
Received: from mail-yb1-f228.google.com (mail-yb1-f228.google.com
 [209.85.219.228])
 by mails.dpdk.org (Postfix) with ESMTP id 5F2A443CEA
 for <test-report@dpdk.org>; Fri, 26 Apr 2024 11:29:24 +0200 (CEST)
Received: by mail-yb1-f228.google.com with SMTP id
 3f1490d57ef6-d9b9adaf291so2068613276.1
 for <test-report@dpdk.org>; Fri, 26 Apr 2024 02:29:24 -0700 (PDT)
DKIM-Signature: v=1; a=rsa-sha256; c=relaxed/relaxed;
 d=iol.unh.edu; s=unh-iol; t=1714123763; x=1714728563; darn=dpdk.org;
 h=references:in-reply-to:cc:to:from:subject:message-id:date:from:to
 :cc:subject:date:message-id:reply-to;
 bh=ldUTcL/Mni9I1sl2gkMVFqNWNGZKcz27+QyNkGI3grc=;
 b=U0Bi65ezI9U+iUCQRMS5nqMybWF/aG3vv5UOOVFdH54dqX4X2MaMgiAEjX1YSvEfj3
 SOa9QwP7D+vTaTpd+tP7DMOYotVCt0U16or4Y6xKNbHyez+cJWvdnhYQLEhYkwujPB9Y
 m+JDs9Lwb2QuNBwrgsrUfnDiy/A0PxWmfPs9U=
X-Google-DKIM-Signature: v=1; a=rsa-sha256; c=relaxed/relaxed;
 d=1e100.net; s=20230601; t=1714123763; x=1714728563;
 h=references:in-reply-to:cc:to:from:subject:message-id:date
 :x-gm-message-state:from:to:cc:subject:date:message-id:reply-to;
 bh=ldUTcL/Mni9I1sl2gkMVFqNWNGZKcz27+QyNkGI3grc=;
 b=nYpYFSg1TOzRZ4NcmjS1ciy1H3EK/2P+Yd0GhlYgTUAJ7O0k0gHpdAEmVq8se+tp90
 8FLifyLWAP0Ce79jh8lqbFO0og8nMNAUnoR0tEJFB+5O2Ql5HAtQ8pImghlCTMQld2na
 rYaeRFKkdYIQbqJFqOOQx9kwV0MJWPzNogkyboiQVHyMS1xUg+cdvoAr0stw7sjbhW70
 5uTsBKjNofzIu2G1m6UfQNy0EhSsK+iRREbGiCLLdey94b2l8Ei7FvWrxqxsdaGHIMKV
 sn1zXk9DVnDPIMXordhOqwVK2A0AMkm3s3+KDZcXJlsHMk5oNy+nQJ5vgZec8CRaIXUs
 zQSQ==
X-Gm-Message-State: AOJu0Yx5SCSfG7bsGOIdApZC65YY62j/VjseiZDgiNGTNmQFW742U0lJ
 Bi8y2gZ004Udys2RdFsGUBk3R2vzEUQFf8IaLNx6MZve05t3wilDz/Wu4KNo7gKLUssDxrqi2Ne
 HUHxMRF+ENvhacMEfrMOoz47Jp8DeJKAA/NidB7SpKPQam6/MfYpKbYTc
X-Google-Smtp-Source: AGHT+IHho4IBokLtfvgbu3Ii1tII5tn11IUlIn/bozsbojnp/HRjAwz1Uc9fimzxFrgefmwuBw/VcV/ybSGX
X-Received: by 2002:a25:3602:0:b0:de5:a249:2c5e with SMTP id
 d2-20020a253602000000b00de5a2492c5emr2353011yba.43.1714123763719; 
 Fri, 26 Apr 2024 02:29:23 -0700 (PDT)
Received: from postal.iol.unh.edu (postal.iol.unh.edu.
 [2606:4100:3880:1234::84]) by smtp-relay.gmail.com with ESMTPS id
 dt4-20020a056902250400b00dc64ba82c30sm939765ybb.0.2024.04.26.02.29.23
 (version=TLS1_2 cipher=ECDHE-ECDSA-AES128-GCM-SHA256 bits=128/128);
 Fri, 26 Apr 2024 02:29:23 -0700 (PDT)
X-Relaying-Domain: iol.unh.edu
Date: Fri, 26 Apr 2024 02:29:23 -0700 (PDT)
Message-ID: <662b73f3.050a0220.93b61.f253SMTPIN_ADDED_MISSING@mx.google.com>
Received: from [172.21.0.8] (unknown [172.18.0.240])
 by postal.iol.unh.edu (Postfix) with ESMTP id 5959C6052514;
 Fri, 26 Apr 2024 05:29:23 -0400 (EDT)
Subject: |SUCCESS| pw139689-139698 [PATCH] [10/10] doc: update nfp document
From: dpdklab@iol.unh.edu
To: Test Report <test-report@dpdk.org>
Cc: dpdk-test-reports@iol.unh.edu
In-Reply-To: <20240426074831.1729792-11-chaoyong.he@corigine.com>
References: <20240426074831.1729792-11-chaoyong.he@corigine.com>
Content-Type: text/plain
X-BeenThere: test-report@dpdk.org
X-Mailman-Version: 2.1.29
Precedence: list
List-Id: automatic DPDK test reports <test-report.dpdk.org>
List-Unsubscribe: <https://mails.dpdk.org/options/test-report>,
 <mailto:test-report-request@dpdk.org?subject=unsubscribe>
List-Archive: <http://mails.dpdk.org/archives/test-report/>
List-Post: <mailto:test-report@dpdk.org>
List-Help: <mailto:test-report-request@dpdk.org?subject=help>
List-Subscribe: <https://mails.dpdk.org/listinfo/test-report>,
 <mailto:test-report-request@dpdk.org?subject=subscribe>
Errors-To: test-report-bounces@dpdk.org

Test-Label: iol-unit-amd64-testing
Test-Status: SUCCESS
http://dpdk.org/patch/139698

_Testing PASS_

Submitter: Chaoyong He <chaoyong.he@corigine.com>
Date: Friday, April 26 2024 07:48:31 
DPDK git baseline: Repo:dpdk
  Branch: master
  CommitID:8841786ab4aa72d205f97528af8708a13a851f4f

139689-139698 --> testing pass

Test environment and result as below:

+---------------------+----------------+
|     Environment     | dpdk_unit_test |
+=====================+================+
| Windows Server 2019 | PASS           |
+---------------------+----------------+
| Debian Bullseye     | PASS           |
+---------------------+----------------+
| CentOS Stream 8     | PASS           |
+---------------------+----------------+
| CentOS Stream 9     | PASS           |
+---------------------+----------------+
| Debian 12           | PASS           |
+---------------------+----------------+
| Fedora 38           | PASS           |
+---------------------+----------------+
| Fedora 37           | PASS           |
+---------------------+----------------+
| Fedora 39           | PASS           |
+---------------------+----------------+
| Windows Server 2022 | PASS           |
+---------------------+----------------+
| openSUSE Leap 15    | PASS           |
+---------------------+----------------+
| Ubuntu 20.04        | PASS           |
+---------------------+----------------+


Windows Server 2019
	Kernel: 10.0.17763
	Compiler: clang 14.0 and gcc 8.1.0 (MinGW)

Debian Bullseye
	Kernel: 5.4.0-167-generic
	Compiler: gcc 10.2.1-6

CentOS Stream 8
	Kernel: 5.4.0-167-generic
	Compiler: gcc 8.5.0 20210514

CentOS Stream 9
	Kernel: 5.4.0-167-generic
	Compiler: gcc 11.4.1 20230605

Debian 12
	Kernel: Container Host Kernel
	Compiler: gcc 10.2.1

Fedora 38
	Kernel: Depends on container host
	Compiler: gcc 13.2.1

Fedora 37
	Kernel: Depends on container host system
	Compiler: gcc 12.3.1

Fedora 39
	Kernel: Depends on container host
	Compiler: gcc 13.2.1

Windows Server 2022
	Kernel: 10.0.20348.2031
	Compiler: clang 15.0.7, gcc 8.1.0 (MinGW), and MSVC VS 17.9

openSUSE Leap 15
	Kernel: 5.4.0-167-generic
	Compiler: gcc 7.5.0

Ubuntu 20.04
	Kernel: 5.4.0-167-generic
	Compiler: gcc 9.4.0-1ubuntu1~20.04.1

To view detailed results, visit:
https://lab.dpdk.org/results/dashboard/patchsets/29862/

UNH-IOL DPDK Community Lab

To manage your email subscriptions, visit: 
https://lab.dpdk.org/results/dashboard/preferences/subscriptions/