From mboxrd@z Thu Jan  1 00:00:00 1970
Return-Path: <test-report-bounces@dpdk.org>
Received: from mails.dpdk.org (mails.dpdk.org [217.70.189.124])
	by inbox.dpdk.org (Postfix) with ESMTP id 873B043F13
	for <public@inbox.dpdk.org>; Fri, 26 Apr 2024 11:29:25 +0200 (CEST)
Received: from mails.dpdk.org (localhost [127.0.0.1])
	by mails.dpdk.org (Postfix) with ESMTP id 82C4A43CEA;
	Fri, 26 Apr 2024 11:29:25 +0200 (CEST)
Received: from mail-qv1-f99.google.com (mail-qv1-f99.google.com
 [209.85.219.99]) by mails.dpdk.org (Postfix) with ESMTP id 4224740289
 for <test-report@dpdk.org>; Fri, 26 Apr 2024 11:29:24 +0200 (CEST)
Received: by mail-qv1-f99.google.com with SMTP id
 6a1803df08f44-69b137d09e3so12063706d6.1
 for <test-report@dpdk.org>; Fri, 26 Apr 2024 02:29:24 -0700 (PDT)
DKIM-Signature: v=1; a=rsa-sha256; c=relaxed/relaxed;
 d=iol.unh.edu; s=unh-iol; t=1714123763; x=1714728563; darn=dpdk.org;
 h=references:in-reply-to:cc:to:from:subject:message-id:date:from:to
 :cc:subject:date:message-id:reply-to;
 bh=ldUTcL/Mni9I1sl2gkMVFqNWNGZKcz27+QyNkGI3grc=;
 b=D7i2SLhSWcL6k/gXjxW5oSifPZaTcC31tSxlIh1+mNllsXNChNFBifkEeQc40x/nzj
 amtN8v6+9GSQrj29HVkgWffg3tnfwo+n3ZQq0IERwxtHBr9FTT+yIxH3/NOkhpt8g3nR
 rfvxTTAl41BcCzAchhfpNGCd766e2MjO7v1d8=
X-Google-DKIM-Signature: v=1; a=rsa-sha256; c=relaxed/relaxed;
 d=1e100.net; s=20230601; t=1714123763; x=1714728563;
 h=references:in-reply-to:cc:to:from:subject:message-id:date
 :x-gm-message-state:from:to:cc:subject:date:message-id:reply-to;
 bh=ldUTcL/Mni9I1sl2gkMVFqNWNGZKcz27+QyNkGI3grc=;
 b=QQ13tc7NjJr+c26ZxD6l52HLN7VQsgPFBhaRZHJRQExhRlXW4iQ+dz2rOWhzvPH+Ln
 lzD3kVMB5Piac9wgHuxu4/0vXlM9vQiPRBVutzpvU6suOsGCPyhCk2X6mxYmCE5kVa3F
 pdKXrIZjAJHBPquanEZ31Qm9VjAyhS2/XdzQkSJKFf6bh5Vg60PemrBWg7zO9UWjo9oS
 SMguxho/Qhz2gnyArA1/sAoMLljqHcub9MOOhkA9FRbE6u6eC2kRtvRtgU4L1Fx6S5qa
 /VXVKqz5GG9fg0lsWTz52J5TkJedW+SxxgRjaZMo++C254UdB2OYJsbdhe9ogNTh/Mxm
 4LCQ==
X-Gm-Message-State: AOJu0YyqrcwLSZU0SSFndJh0YNY3E4RIanUkw+o+fxlQs6glSAn7kVux
 4/CksK+i9EZlNzv64Y3lvt0KFjUpNp8Bd3ha2fctx6k8QojPKHmhbeY3e9DRCuKa7RKRSd79ZA2
 6H2AVFacxZv0mDX6QSnRPfRrYEmnu1Ksal7Nl4YPp
X-Google-Smtp-Source: AGHT+IGij49jHeg9FCx32DyR7GoTdRB+ya3QZcA6SixryVV2KWYvE5+w3GFMvKbrcU9U8wahv1afU1gbCTQv
X-Received: by 2002:ad4:5f48:0:b0:69b:64d4:4b11 with SMTP id
 p8-20020ad45f48000000b0069b64d44b11mr2412603qvg.22.1714123763667; 
 Fri, 26 Apr 2024 02:29:23 -0700 (PDT)
Received: from postal.iol.unh.edu (postal.iol.unh.edu. [132.177.123.84])
 by smtp-relay.gmail.com with ESMTPS id
 g5-20020ad45425000000b006a0659cc178sm1187239qvt.26.2024.04.26.02.29.23
 (version=TLS1_2 cipher=ECDHE-ECDSA-AES128-GCM-SHA256 bits=128/128);
 Fri, 26 Apr 2024 02:29:23 -0700 (PDT)
X-Relaying-Domain: iol.unh.edu
Date: Fri, 26 Apr 2024 02:29:23 -0700 (PDT)
Message-ID: <662b73f3.d40a0220.712b.d79fSMTPIN_ADDED_MISSING@mx.google.com>
Received: from [172.21.0.10] (unknown [172.18.0.240])
 by postal.iol.unh.edu (Postfix) with ESMTP id 5C21E6052522;
 Fri, 26 Apr 2024 05:29:23 -0400 (EDT)
Subject: |SUCCESS| pw139689-139698 [PATCH] [10/10] doc: update nfp document
From: dpdklab@iol.unh.edu
To: Test Report <test-report@dpdk.org>
Cc: dpdk-test-reports@iol.unh.edu
In-Reply-To: <20240426074831.1729792-11-chaoyong.he@corigine.com>
References: <20240426074831.1729792-11-chaoyong.he@corigine.com>
Content-Type: text/plain
X-BeenThere: test-report@dpdk.org
X-Mailman-Version: 2.1.29
Precedence: list
List-Id: automatic DPDK test reports <test-report.dpdk.org>
List-Unsubscribe: <https://mails.dpdk.org/options/test-report>,
 <mailto:test-report-request@dpdk.org?subject=unsubscribe>
List-Archive: <http://mails.dpdk.org/archives/test-report/>
List-Post: <mailto:test-report@dpdk.org>
List-Help: <mailto:test-report-request@dpdk.org?subject=help>
List-Subscribe: <https://mails.dpdk.org/listinfo/test-report>,
 <mailto:test-report-request@dpdk.org?subject=subscribe>
Errors-To: test-report-bounces@dpdk.org

Test-Label: iol-unit-amd64-testing
Test-Status: SUCCESS
http://dpdk.org/patch/139698

_Testing PASS_

Submitter: Chaoyong He <chaoyong.he@corigine.com>
Date: Friday, April 26 2024 07:48:31 
DPDK git baseline: Repo:dpdk
  Branch: master
  CommitID:8841786ab4aa72d205f97528af8708a13a851f4f

139689-139698 --> testing pass

Test environment and result as below:

+---------------------+----------------+
|     Environment     | dpdk_unit_test |
+=====================+================+
| Windows Server 2019 | PASS           |
+---------------------+----------------+
| Debian Bullseye     | PASS           |
+---------------------+----------------+
| CentOS Stream 8     | PASS           |
+---------------------+----------------+
| CentOS Stream 9     | PASS           |
+---------------------+----------------+
| Debian 12           | PASS           |
+---------------------+----------------+
| Fedora 38           | PASS           |
+---------------------+----------------+
| Fedora 37           | PASS           |
+---------------------+----------------+
| Fedora 39           | PASS           |
+---------------------+----------------+
| Windows Server 2022 | PASS           |
+---------------------+----------------+
| openSUSE Leap 15    | PASS           |
+---------------------+----------------+
| Ubuntu 20.04        | PASS           |
+---------------------+----------------+


Windows Server 2019
	Kernel: 10.0.17763
	Compiler: clang 14.0 and gcc 8.1.0 (MinGW)

Debian Bullseye
	Kernel: 5.4.0-167-generic
	Compiler: gcc 10.2.1-6

CentOS Stream 8
	Kernel: 5.4.0-167-generic
	Compiler: gcc 8.5.0 20210514

CentOS Stream 9
	Kernel: 5.4.0-167-generic
	Compiler: gcc 11.4.1 20230605

Debian 12
	Kernel: Container Host Kernel
	Compiler: gcc 10.2.1

Fedora 38
	Kernel: Depends on container host
	Compiler: gcc 13.2.1

Fedora 37
	Kernel: Depends on container host system
	Compiler: gcc 12.3.1

Fedora 39
	Kernel: Depends on container host
	Compiler: gcc 13.2.1

Windows Server 2022
	Kernel: 10.0.20348.2031
	Compiler: clang 15.0.7, gcc 8.1.0 (MinGW), and MSVC VS 17.9

openSUSE Leap 15
	Kernel: 5.4.0-167-generic
	Compiler: gcc 7.5.0

Ubuntu 20.04
	Kernel: 5.4.0-167-generic
	Compiler: gcc 9.4.0-1ubuntu1~20.04.1

To view detailed results, visit:
https://lab.dpdk.org/results/dashboard/patchsets/29862/

UNH-IOL DPDK Community Lab

To manage your email subscriptions, visit: 
https://lab.dpdk.org/results/dashboard/preferences/subscriptions/