From mboxrd@z Thu Jan  1 00:00:00 1970
Return-Path: <test-report-bounces@dpdk.org>
Received: from mails.dpdk.org (mails.dpdk.org [217.70.189.124])
	by inbox.dpdk.org (Postfix) with ESMTP id 2201943F14
	for <public@inbox.dpdk.org>; Fri, 26 Apr 2024 11:30:58 +0200 (CEST)
Received: from mails.dpdk.org (localhost [127.0.0.1])
	by mails.dpdk.org (Postfix) with ESMTP id 1BF1343D0B;
	Fri, 26 Apr 2024 11:30:58 +0200 (CEST)
Received: from mail-qk1-f228.google.com (mail-qk1-f228.google.com
 [209.85.222.228])
 by mails.dpdk.org (Postfix) with ESMTP id 33E3540289
 for <test-report@dpdk.org>; Fri, 26 Apr 2024 11:30:48 +0200 (CEST)
Received: by mail-qk1-f228.google.com with SMTP id
 af79cd13be357-78f031a4442so127853685a.2
 for <test-report@dpdk.org>; Fri, 26 Apr 2024 02:30:48 -0700 (PDT)
DKIM-Signature: v=1; a=rsa-sha256; c=relaxed/relaxed;
 d=iol.unh.edu; s=unh-iol; t=1714123847; x=1714728647; darn=dpdk.org;
 h=references:in-reply-to:cc:to:from:subject:message-id:date:from:to
 :cc:subject:date:message-id:reply-to;
 bh=KKLgJ6F/e7B2MJbGS8DRMnAr6H0zi8nAYicw9TIIIks=;
 b=TENaSsHL2Nn8vgJbgUtDaDsG9enPPqDGJfC4nn9r5+CaAoWU1V2fB/gLbHohXvlMV3
 nQO4OKO8QexMzxTFwbb7SQ+4FhInMWM0U+lCwdtY+4ersftZmj0bqd8kLWgb6OZSd+M4
 /pAXQYstTNPmxkA24KvIr7kWytLZDOdiOKPbk=
X-Google-DKIM-Signature: v=1; a=rsa-sha256; c=relaxed/relaxed;
 d=1e100.net; s=20230601; t=1714123847; x=1714728647;
 h=references:in-reply-to:cc:to:from:subject:message-id:date
 :x-gm-message-state:from:to:cc:subject:date:message-id:reply-to;
 bh=KKLgJ6F/e7B2MJbGS8DRMnAr6H0zi8nAYicw9TIIIks=;
 b=nbj4HBbOLvqi3XxVxMNcA7tFt29npCLOYQ1u83zMKIZi6LMTF9eEitf35VYWmcK1qM
 9PvBilZN+OrnyQ/XyjthRt1JbGfkv2SeQ1EpKZcb5uWXgRU5Adc/ZYgI09EA9oPathHH
 uf8DeBRBFW7dDF4mKLBXTUaNldIooxixR8jRIk5mvqFLkGIx3eTwrqi8RKYm9qLuEoPc
 xIJJsb/wn75O8ly2ADMlOZNVCBXT8v9zg7ZnBrrA7f4whZkEpo8kDisQRoNAN/K6pVfr
 5QsPcViYGfQLRsFv2G/p/f7e/LSHKJxfqpLLQm4pa76zsv7mAUF4zIELFdMmtPv7yB1/
 4JuQ==
X-Gm-Message-State: AOJu0Yzi4hvERyTlD8+jtRfBDwSh8Uot+B7k3oxUb+rzOynFkOtmp6gT
 3ipfs6aPFRvOKrqFRvIwMFLsaNrwU+hjOTD05aiRwK3CjsSOo4pgkhN80rU9QXv+tHYfHNGuUmO
 MoiIi65cwWH3TVfrCvNgvg6Rk7zBj2eqSTXv8nD4t
X-Google-Smtp-Source: AGHT+IHH7iyUbhz4dxD2QrDrWNY8M7QaUMW2dKIRnVQWMMT4cNULT0VcTz59qgnkrvApr/ZczoMhz1MGcPsD
X-Received: by 2002:a05:6214:250f:b0:6a0:5c80:71f5 with SMTP id
 gf15-20020a056214250f00b006a05c8071f5mr2190120qvb.4.1714123847582; 
 Fri, 26 Apr 2024 02:30:47 -0700 (PDT)
Received: from postal.iol.unh.edu (postal.iol.unh.edu. [132.177.123.84])
 by smtp-relay.gmail.com with ESMTPS id
 m19-20020ad44d53000000b006a08ca0acd5sm628832qvm.66.2024.04.26.02.30.47
 (version=TLS1_2 cipher=ECDHE-ECDSA-AES128-GCM-SHA256 bits=128/128);
 Fri, 26 Apr 2024 02:30:47 -0700 (PDT)
X-Relaying-Domain: iol.unh.edu
Date: Fri, 26 Apr 2024 02:30:47 -0700 (PDT)
Message-ID: <662b7447.d40a0220.cc67.e3b9SMTPIN_ADDED_MISSING@mx.google.com>
Received: from [172.21.0.12] (unknown [172.18.0.240])
 by postal.iol.unh.edu (Postfix) with ESMTP id 46A1D6052514;
 Fri, 26 Apr 2024 05:30:47 -0400 (EDT)
Subject: |SUCCESS| pw139688 [PATCH] net/af_packet: cache align Rx/Tx structs
From: dpdklab@iol.unh.edu
To: Test Report <test-report@dpdk.org>
Cc: dpdk-test-reports@iol.unh.edu
In-Reply-To: <20240426073824.100386-1-mattias.ronnblom@ericsson.com>
References: <20240426073824.100386-1-mattias.ronnblom@ericsson.com>
Content-Type: text/plain
X-BeenThere: test-report@dpdk.org
X-Mailman-Version: 2.1.29
Precedence: list
List-Id: automatic DPDK test reports <test-report.dpdk.org>
List-Unsubscribe: <https://mails.dpdk.org/options/test-report>,
 <mailto:test-report-request@dpdk.org?subject=unsubscribe>
List-Archive: <http://mails.dpdk.org/archives/test-report/>
List-Post: <mailto:test-report@dpdk.org>
List-Help: <mailto:test-report-request@dpdk.org?subject=help>
List-Subscribe: <https://mails.dpdk.org/listinfo/test-report>,
 <mailto:test-report-request@dpdk.org?subject=subscribe>
Errors-To: test-report-bounces@dpdk.org

Test-Label: iol-abi-testing
Test-Status: SUCCESS
http://dpdk.org/patch/139688

_Testing PASS_

Submitter: Mattias Ronnblom <mattias.ronnblom@ericsson.com>
Date: Friday, April 26 2024 07:38:24 
DPDK git baseline: Repo:dpdk
  Branch: master
  CommitID:8841786ab4aa72d205f97528af8708a13a851f4f

139688 --> testing pass

Test environment and result as below:

+-----------------+----------+
|   Environment   | abi_test |
+=================+==========+
| CentOS Stream 9 | PASS     |
+-----------------+----------+
| Fedora 39       | PASS     |
+-----------------+----------+
| Fedora 38       | PASS     |
+-----------------+----------+
| RHEL8           | PASS     |
+-----------------+----------+


CentOS Stream 9
	Kernel: 5.4.0-167-generic
	Compiler: gcc 11.4.1 20230605

Fedora 39
	Kernel: Depends on container host
	Compiler: gcc 13.2.1

Fedora 38
	Kernel: Depends on container host
	Compiler: gcc 13.2.1

RHEL8
	Kernel: 5.4.0-167-generic
	Compiler: gcc 8.5.0 20210514 (Red Hat 8.5.0-20)

To view detailed results, visit:
https://lab.dpdk.org/results/dashboard/patchsets/29861/

UNH-IOL DPDK Community Lab

To manage your email subscriptions, visit: 
https://lab.dpdk.org/results/dashboard/preferences/subscriptions/