From mboxrd@z Thu Jan  1 00:00:00 1970
Return-Path: <test-report-bounces@dpdk.org>
Received: from mails.dpdk.org (mails.dpdk.org [217.70.189.124])
	by inbox.dpdk.org (Postfix) with ESMTP id E8BD343F13
	for <public@inbox.dpdk.org>; Fri, 26 Apr 2024 11:36:38 +0200 (CEST)
Received: from mails.dpdk.org (localhost [127.0.0.1])
	by mails.dpdk.org (Postfix) with ESMTP id E232543CEA;
	Fri, 26 Apr 2024 11:36:38 +0200 (CEST)
Received: from mail-ua1-f100.google.com (mail-ua1-f100.google.com
 [209.85.222.100])
 by mails.dpdk.org (Postfix) with ESMTP id BEF8240289
 for <test-report@dpdk.org>; Fri, 26 Apr 2024 11:36:27 +0200 (CEST)
Received: by mail-ua1-f100.google.com with SMTP id
 a1e0cc1a2514c-7efcdb73992so70423241.0
 for <test-report@dpdk.org>; Fri, 26 Apr 2024 02:36:27 -0700 (PDT)
DKIM-Signature: v=1; a=rsa-sha256; c=relaxed/relaxed;
 d=iol.unh.edu; s=unh-iol; t=1714124187; x=1714728987; darn=dpdk.org;
 h=references:in-reply-to:cc:to:from:subject:message-id:date:from:to
 :cc:subject:date:message-id:reply-to;
 bh=uAsOUO9NHzr62rt5h6IeXuv83yEmpnOpJ75AZyYz7Wg=;
 b=eqywbN5DjUeQUGiQ+PvmlXgF8xYm8QssTzG7Ze2YVifSQ9EcZys2lyTXvHj9Jni3pL
 mxkduZyYW9yz7+EeZKH2w68p31vK0MIFR3MV75LfkQr/k7SD0r5eM+3czHYqswwyuDNW
 /hskTsQ2RPQnAew+kDL73LWG7M5VVO8YilwFY=
X-Google-DKIM-Signature: v=1; a=rsa-sha256; c=relaxed/relaxed;
 d=1e100.net; s=20230601; t=1714124187; x=1714728987;
 h=references:in-reply-to:cc:to:from:subject:message-id:date
 :x-gm-message-state:from:to:cc:subject:date:message-id:reply-to;
 bh=uAsOUO9NHzr62rt5h6IeXuv83yEmpnOpJ75AZyYz7Wg=;
 b=xTg1pJZ8cfoGh9RPR5AZzsZ59J1Xf8kuvn2dz48OQSSVum+OmtAduL3V0sgX2wzzaP
 gZnHazcPhAz9ncyPPLSIoiKKeMVaNLPAfoaRhn3eJ7wqUMGqquA3ZRvC67wlIxlquTxX
 oWqqzX8r+OksQAnjwCtYt9xcO2B9/5i8O07vae6VCuAo+dIMPEEtf3uIzKfcjN67pgk7
 OBoQnaW4uavbfOgzanAAw+hqu6/5EGJQn1nMmjK0lSoShvMOJlE6kwRiLTJ+W3B+4/ed
 oxIVr+HiXxSuERV2zAdR4ZhOuJu9UpxEYmFixHRHKcqsLzs5aUjgezdHYKV33ebprHKe
 lQuQ==
X-Gm-Message-State: AOJu0YxjxkvD3iArkeW+Kw1fKYDlVGHQduvPXPEM1uolRlOinTIKgXTD
 hRJ4nvW2RHqhDUPb6jz48oX1WWsNgMrjsRRSudfLz1E8K73z+SEq6MMu88waoAWVCuajM8hPbPS
 cC29kgRpFI1aWYzwTE5XjMPzPrW0n7kUut7eVItoYkc+UukMvE6EoNWZC
X-Google-Smtp-Source: AGHT+IFu3Z+37NWBJMc881li8wDhRGep8phM7ncfnmq+y+K59UgLLxzAAx9DXO/rTCVIuxArchig5I9ZpKYp
X-Received: by 2002:a67:e455:0:b0:475:ffc3:3b3e with SMTP id
 n21-20020a67e455000000b00475ffc33b3emr2028839vsm.29.1714124187072; 
 Fri, 26 Apr 2024 02:36:27 -0700 (PDT)
Received: from postal.iol.unh.edu (postal.iol.unh.edu.
 [2606:4100:3880:1234::84]) by smtp-relay.gmail.com with ESMTPS id
 o6-20020ab03b46000000b007de3072266bsm914560uaw.9.2024.04.26.02.36.27
 (version=TLS1_2 cipher=ECDHE-ECDSA-AES128-GCM-SHA256 bits=128/128);
 Fri, 26 Apr 2024 02:36:27 -0700 (PDT)
X-Relaying-Domain: iol.unh.edu
Date: Fri, 26 Apr 2024 02:36:27 -0700 (PDT)
Message-ID: <662b759b.b00a0220.3d616.d186SMTPIN_ADDED_MISSING@mx.google.com>
Received: from [172.21.0.9] (unknown [172.18.0.240])
 by postal.iol.unh.edu (Postfix) with ESMTP id B83876052514;
 Fri, 26 Apr 2024 05:36:26 -0400 (EDT)
Subject: |SUCCESS| pw139688 [PATCH] net/af_packet: cache align Rx/Tx structs
From: dpdklab@iol.unh.edu
To: Test Report <test-report@dpdk.org>
Cc: dpdk-test-reports@iol.unh.edu
In-Reply-To: <20240426073824.100386-1-mattias.ronnblom@ericsson.com>
References: <20240426073824.100386-1-mattias.ronnblom@ericsson.com>
Content-Type: text/plain
X-BeenThere: test-report@dpdk.org
X-Mailman-Version: 2.1.29
Precedence: list
List-Id: automatic DPDK test reports <test-report.dpdk.org>
List-Unsubscribe: <https://mails.dpdk.org/options/test-report>,
 <mailto:test-report-request@dpdk.org?subject=unsubscribe>
List-Archive: <http://mails.dpdk.org/archives/test-report/>
List-Post: <mailto:test-report@dpdk.org>
List-Help: <mailto:test-report-request@dpdk.org?subject=help>
List-Subscribe: <https://mails.dpdk.org/listinfo/test-report>,
 <mailto:test-report-request@dpdk.org?subject=subscribe>
Errors-To: test-report-bounces@dpdk.org

Test-Label: iol-compile-amd64-testing
Test-Status: SUCCESS
http://dpdk.org/patch/139688

_Testing PASS_

Submitter: Mattias Ronnblom <mattias.ronnblom@ericsson.com>
Date: Friday, April 26 2024 07:38:24 
DPDK git baseline: Repo:dpdk
  Branch: master
  CommitID:8841786ab4aa72d205f97528af8708a13a851f4f

139688 --> testing pass

Test environment and result as below:

+---------------------+--------------------+----------------------+-------------------+
|     Environment     | dpdk_meson_compile | dpdk_mingw64_compile | dpdk_msvc_compile |
+=====================+====================+======================+===================+
| FreeBSD 13.3        | PASS               | SKIPPED              | SKIPPED           |
+---------------------+--------------------+----------------------+-------------------+
| Windows Server 2019 | PASS               | PASS                 | SKIPPED           |
+---------------------+--------------------+----------------------+-------------------+
| Windows Server 2022 | PASS               | PASS                 | PASS              |
+---------------------+--------------------+----------------------+-------------------+
| Debian 12           | PASS               | SKIPPED              | SKIPPED           |
+---------------------+--------------------+----------------------+-------------------+
| CentOS Stream 8     | PASS               | SKIPPED              | SKIPPED           |
+---------------------+--------------------+----------------------+-------------------+
| Debian Bullseye     | PASS               | SKIPPED              | SKIPPED           |
+---------------------+--------------------+----------------------+-------------------+
| Fedora 37           | PASS               | SKIPPED              | SKIPPED           |
+---------------------+--------------------+----------------------+-------------------+
| Fedora 38           | PASS               | SKIPPED              | SKIPPED           |
+---------------------+--------------------+----------------------+-------------------+
| RHEL8               | PASS               | SKIPPED              | SKIPPED           |
+---------------------+--------------------+----------------------+-------------------+


FreeBSD 13.3
	Kernel: 13.3-RELEASE-p1
	Compiler: clang 17.0.6

Windows Server 2019
	Kernel: 10.0.17763
	Compiler: clang 14.0 and gcc 8.1.0 (MinGW)

Windows Server 2022
	Kernel: 10.0.20348.2031
	Compiler: clang 15.0.7, gcc 8.1.0 (MinGW), and MSVC VS 17.9

Debian 12
	Kernel: Container Host Kernel
	Compiler: gcc 10.2.1

CentOS Stream 8
	Kernel: 5.4.0-167-generic
	Compiler: gcc 8.5.0 20210514

Debian Bullseye
	Kernel: 5.4.0-167-generic
	Compiler: gcc 10.2.1-6

Fedora 37
	Kernel: Depends on container host system
	Compiler: gcc 12.3.1

Fedora 38
	Kernel: Depends on container host
	Compiler: gcc 13.2.1

RHEL8
	Kernel: 5.4.0-167-generic
	Compiler: gcc 8.5.0 20210514 (Red Hat 8.5.0-20)

To view detailed results, visit:
https://lab.dpdk.org/results/dashboard/patchsets/29861/

UNH-IOL DPDK Community Lab

To manage your email subscriptions, visit: 
https://lab.dpdk.org/results/dashboard/preferences/subscriptions/