From mboxrd@z Thu Jan  1 00:00:00 1970
Return-Path: <test-report-bounces@dpdk.org>
Received: from mails.dpdk.org (mails.dpdk.org [217.70.189.124])
	by inbox.dpdk.org (Postfix) with ESMTP id 3538E43F13
	for <public@inbox.dpdk.org>; Fri, 26 Apr 2024 11:36:50 +0200 (CEST)
Received: from mails.dpdk.org (localhost [127.0.0.1])
	by mails.dpdk.org (Postfix) with ESMTP id 14B7B43CEA;
	Fri, 26 Apr 2024 11:36:50 +0200 (CEST)
Received: from mail-qv1-f97.google.com (mail-qv1-f97.google.com
 [209.85.219.97]) by mails.dpdk.org (Postfix) with ESMTP id 8A5B140289
 for <test-report@dpdk.org>; Fri, 26 Apr 2024 11:36:45 +0200 (CEST)
Received: by mail-qv1-f97.google.com with SMTP id
 6a1803df08f44-69b10c9cdf4so7396936d6.1
 for <test-report@dpdk.org>; Fri, 26 Apr 2024 02:36:45 -0700 (PDT)
DKIM-Signature: v=1; a=rsa-sha256; c=relaxed/relaxed;
 d=iol.unh.edu; s=unh-iol; t=1714124205; x=1714729005; darn=dpdk.org;
 h=references:in-reply-to:cc:to:from:subject:message-id:date:from:to
 :cc:subject:date:message-id:reply-to;
 bh=uAsOUO9NHzr62rt5h6IeXuv83yEmpnOpJ75AZyYz7Wg=;
 b=QqZdbsk4NPpJGPKu9qB5NHZgJ9SNXpNj12O546Ju4Wg+0VMiMek/3E5gNW97/9IpN+
 9phawqvwgUS/bvm9W04zM+jQNQgs15JvPuzQ9BWtqAya3CRtDb0zKBAifi4vFgeVTb73
 qBOIveeaWKQBQYqMtcVFRvXTXWO9x/xRQoNjw=
X-Google-DKIM-Signature: v=1; a=rsa-sha256; c=relaxed/relaxed;
 d=1e100.net; s=20230601; t=1714124205; x=1714729005;
 h=references:in-reply-to:cc:to:from:subject:message-id:date
 :x-gm-message-state:from:to:cc:subject:date:message-id:reply-to;
 bh=uAsOUO9NHzr62rt5h6IeXuv83yEmpnOpJ75AZyYz7Wg=;
 b=hxH/lZOUZBGUZQ7bwIjHw3fe5KOGu1TtKObsMdOlAM6lWzwt44TzlXEIfTKpV9Z2o5
 5N+3x/hGizlEqdhM9y1rf9DIfXysQG37e0j234Mas5lUqKnMKwqvUvEU3Fr62h4htBa0
 5QgFkatlI8pX8ysclsKQvgvPrffv4IMC5EMfilDj3CVQbt3+KX8PpOI2LEYs8KB+g8AV
 mr82mkYrCCSVUcHApiS6zdT2f4LknmhRTJ0rrSD/0pShUjCX/FF38GjY1Tu6+qruSEB6
 yNvEbDEPHVrjcGwHY9HUaK3cuhOv6zE68ANucUg3Kob06Djr/YGJ0VoP/EnoTbpJsmW6
 GQDQ==
X-Gm-Message-State: AOJu0YyCPWEwvtR1DRGHfN1QzeJX/5PK7PRiDzWjJIFh1Ix3Nja6mPsT
 FsZ90bGuodQhZ9TY/MB/7Aa1T6NgDZp9EtMsXQ4t7r688oVJqR92ozfF52Vk/bdy+0HMox0RnEn
 qGwPeNAyPGL3cIip4V07Z9hIIRFV5TVndMPRZ0IJH
X-Google-Smtp-Source: AGHT+IFXoYv+f/3HVltT5Cxm0Nx/MalxK7p4GdzU1BKkh/SVi1dEr7JjX3fs2Z+MOPPqkd16TdhivBF5GzzN
X-Received: by 2002:a05:6214:2421:b0:69b:aca:4a1c with SMTP id
 gy1-20020a056214242100b0069b0aca4a1cmr2544886qvb.10.1714124205041; 
 Fri, 26 Apr 2024 02:36:45 -0700 (PDT)
Received: from postal.iol.unh.edu (postal.iol.unh.edu. [132.177.123.84])
 by smtp-relay.gmail.com with ESMTPS id
 o3-20020ad45c83000000b0069b4501f17asm1280291qvh.47.2024.04.26.02.36.44
 (version=TLS1_2 cipher=ECDHE-ECDSA-AES128-GCM-SHA256 bits=128/128);
 Fri, 26 Apr 2024 02:36:45 -0700 (PDT)
X-Relaying-Domain: iol.unh.edu
Date: Fri, 26 Apr 2024 02:36:45 -0700 (PDT)
Message-ID: <662b75ad.d40a0220.80865.069cSMTPIN_ADDED_MISSING@mx.google.com>
Received: from [172.21.0.8] (unknown [172.18.0.240])
 by postal.iol.unh.edu (Postfix) with ESMTP id B90D46052514;
 Fri, 26 Apr 2024 05:36:44 -0400 (EDT)
Subject: |SUCCESS| pw139688 [PATCH] net/af_packet: cache align Rx/Tx structs
From: dpdklab@iol.unh.edu
To: Test Report <test-report@dpdk.org>
Cc: dpdk-test-reports@iol.unh.edu
In-Reply-To: <20240426073824.100386-1-mattias.ronnblom@ericsson.com>
References: <20240426073824.100386-1-mattias.ronnblom@ericsson.com>
Content-Type: text/plain
X-BeenThere: test-report@dpdk.org
X-Mailman-Version: 2.1.29
Precedence: list
List-Id: automatic DPDK test reports <test-report.dpdk.org>
List-Unsubscribe: <https://mails.dpdk.org/options/test-report>,
 <mailto:test-report-request@dpdk.org?subject=unsubscribe>
List-Archive: <http://mails.dpdk.org/archives/test-report/>
List-Post: <mailto:test-report@dpdk.org>
List-Help: <mailto:test-report-request@dpdk.org?subject=help>
List-Subscribe: <https://mails.dpdk.org/listinfo/test-report>,
 <mailto:test-report-request@dpdk.org?subject=subscribe>
Errors-To: test-report-bounces@dpdk.org

Test-Label: iol-compile-amd64-testing
Test-Status: SUCCESS
http://dpdk.org/patch/139688

_Testing PASS_

Submitter: Mattias Ronnblom <mattias.ronnblom@ericsson.com>
Date: Friday, April 26 2024 07:38:24 
DPDK git baseline: Repo:dpdk
  Branch: master
  CommitID:8841786ab4aa72d205f97528af8708a13a851f4f

139688 --> testing pass

Test environment and result as below:

+---------------------+--------------------+----------------------+-------------------+
|     Environment     | dpdk_meson_compile | dpdk_mingw64_compile | dpdk_msvc_compile |
+=====================+====================+======================+===================+
| FreeBSD 13.3        | PASS               | SKIPPED              | SKIPPED           |
+---------------------+--------------------+----------------------+-------------------+
| Windows Server 2019 | PASS               | PASS                 | SKIPPED           |
+---------------------+--------------------+----------------------+-------------------+
| Windows Server 2022 | PASS               | PASS                 | PASS              |
+---------------------+--------------------+----------------------+-------------------+
| Debian 12           | PASS               | SKIPPED              | SKIPPED           |
+---------------------+--------------------+----------------------+-------------------+
| CentOS Stream 8     | PASS               | SKIPPED              | SKIPPED           |
+---------------------+--------------------+----------------------+-------------------+
| Debian Bullseye     | PASS               | SKIPPED              | SKIPPED           |
+---------------------+--------------------+----------------------+-------------------+
| Fedora 37           | PASS               | SKIPPED              | SKIPPED           |
+---------------------+--------------------+----------------------+-------------------+
| Fedora 38           | PASS               | SKIPPED              | SKIPPED           |
+---------------------+--------------------+----------------------+-------------------+
| RHEL8               | PASS               | SKIPPED              | SKIPPED           |
+---------------------+--------------------+----------------------+-------------------+


FreeBSD 13.3
	Kernel: 13.3-RELEASE-p1
	Compiler: clang 17.0.6

Windows Server 2019
	Kernel: 10.0.17763
	Compiler: clang 14.0 and gcc 8.1.0 (MinGW)

Windows Server 2022
	Kernel: 10.0.20348.2031
	Compiler: clang 15.0.7, gcc 8.1.0 (MinGW), and MSVC VS 17.9

Debian 12
	Kernel: Container Host Kernel
	Compiler: gcc 10.2.1

CentOS Stream 8
	Kernel: 5.4.0-167-generic
	Compiler: gcc 8.5.0 20210514

Debian Bullseye
	Kernel: 5.4.0-167-generic
	Compiler: gcc 10.2.1-6

Fedora 37
	Kernel: Depends on container host system
	Compiler: gcc 12.3.1

Fedora 38
	Kernel: Depends on container host
	Compiler: gcc 13.2.1

RHEL8
	Kernel: 5.4.0-167-generic
	Compiler: gcc 8.5.0 20210514 (Red Hat 8.5.0-20)

To view detailed results, visit:
https://lab.dpdk.org/results/dashboard/patchsets/29861/

UNH-IOL DPDK Community Lab

To manage your email subscriptions, visit: 
https://lab.dpdk.org/results/dashboard/preferences/subscriptions/