From mboxrd@z Thu Jan  1 00:00:00 1970
Return-Path: <test-report-bounces@dpdk.org>
Received: from mails.dpdk.org (mails.dpdk.org [217.70.189.124])
	by inbox.dpdk.org (Postfix) with ESMTP id 9E5A443F13
	for <public@inbox.dpdk.org>; Fri, 26 Apr 2024 11:46:09 +0200 (CEST)
Received: from mails.dpdk.org (localhost [127.0.0.1])
	by mails.dpdk.org (Postfix) with ESMTP id 95A5243CEA;
	Fri, 26 Apr 2024 11:46:09 +0200 (CEST)
Received: from mail-io1-f100.google.com (mail-io1-f100.google.com
 [209.85.166.100])
 by mails.dpdk.org (Postfix) with ESMTP id A934140289
 for <test-report@dpdk.org>; Fri, 26 Apr 2024 11:46:01 +0200 (CEST)
Received: by mail-io1-f100.google.com with SMTP id
 ca18e2360f4ac-7de95c7851dso85766039f.3
 for <test-report@dpdk.org>; Fri, 26 Apr 2024 02:46:01 -0700 (PDT)
DKIM-Signature: v=1; a=rsa-sha256; c=relaxed/relaxed;
 d=iol.unh.edu; s=unh-iol; t=1714124761; x=1714729561; darn=dpdk.org;
 h=references:in-reply-to:cc:to:from:subject:message-id:date:from:to
 :cc:subject:date:message-id:reply-to;
 bh=B0Gz4EeZxlpq7IpyslxRY84HW0LGc5G/gKoRuiBH3es=;
 b=OB58tndrRzYELyNbRvathStyOLv8Et87pIIeqYW5t/WFg6X8wvs7ylcASFPLjVLdMS
 8MQN6yjvITWVOY2Ca7mPmnQ7pUAUQ9ZBY4n6RP2MwasMIr0erDqtAPEpFOI+Zj9gQD5u
 HJ/23kc4d7L+HOsgJddrOYPCtSgcBq7Z4pHaY=
X-Google-DKIM-Signature: v=1; a=rsa-sha256; c=relaxed/relaxed;
 d=1e100.net; s=20230601; t=1714124761; x=1714729561;
 h=references:in-reply-to:cc:to:from:subject:message-id:date
 :x-gm-message-state:from:to:cc:subject:date:message-id:reply-to;
 bh=B0Gz4EeZxlpq7IpyslxRY84HW0LGc5G/gKoRuiBH3es=;
 b=gPGcaz4/xJ/DCZjtB8vL/Vlwvq2vaZxRpvzy48Uq0ffg426UYV14ymPOmVq7/vj6Ry
 uQgeHulttwDeyEDTpMTEwhaga3Dn9zT3C7GCyE0cjMXgyXYJJrSLedhxb1DC7PUnTY6o
 0akoDGbc43TfCaW0IV2aZ1GnGK8nDzm20aLGEbh847Nn2mc11g2URJKiPSDU90HKDOTi
 KSJIZZEUjgFzS/31VB/rA49Jp3XLci6e9jVg/7iXjf8lsTuNx9nt56i9WZnpEpoe1dj5
 Fsux9mV0vgDHPJdf3YQn+iXUWuebSnrCIaUrRJiI9fOgcHA/qcJrMDV306IzbLSgwcxO
 gmJQ==
X-Gm-Message-State: AOJu0YzQRA5PNZhmIW8GIJFSsuCmNoWY7EUX8TqWV7Uqg1gQU8Zl57TT
 nKzh7W91FYKCzftmtMqThAcmAH3WOhlNZkN3kuhmF7h3rCKvBp2z2AAxYajZdzDvhuvQO119Pd6
 Sh5ix30gqXd9N3fJpDBaepfSsVBrJFTgWwh8xQDS6mvnQ9nix8c7IjLjz
X-Google-Smtp-Source: AGHT+IESqiE4k61a2tfk6zvpvvB53SaoRZGHdM0ybVADRSNipGBj7rUMv0SASY/bfPdurNLZVikOhMEL/Qe/
X-Received: by 2002:a05:6602:1236:b0:7de:a9a4:be7a with SMTP id
 z22-20020a056602123600b007dea9a4be7amr2349260iot.3.1714124761100; 
 Fri, 26 Apr 2024 02:46:01 -0700 (PDT)
Received: from postal.iol.unh.edu (postal.iol.unh.edu.
 [2606:4100:3880:1234::84]) by smtp-relay.gmail.com with ESMTPS id
 n14-20020a05663831ce00b00482b0921252sm1279357jav.81.2024.04.26.02.46.01
 (version=TLS1_2 cipher=ECDHE-ECDSA-AES128-GCM-SHA256 bits=128/128);
 Fri, 26 Apr 2024 02:46:01 -0700 (PDT)
X-Relaying-Domain: iol.unh.edu
Date: Fri, 26 Apr 2024 02:46:01 -0700 (PDT)
Message-ID: <662b77d9.050a0220.1cbe0.61f1SMTPIN_ADDED_MISSING@mx.google.com>
Received: from [172.21.0.7] (unknown [172.18.0.240])
 by postal.iol.unh.edu (Postfix) with ESMTP id B15A36052514;
 Fri, 26 Apr 2024 05:46:00 -0400 (EDT)
Subject: |SUCCESS| pw139688 [PATCH] net/af_packet: cache align Rx/Tx structs
From: dpdklab@iol.unh.edu
To: Test Report <test-report@dpdk.org>
Cc: dpdk-test-reports@iol.unh.edu
In-Reply-To: <20240426073824.100386-1-mattias.ronnblom@ericsson.com>
References: <20240426073824.100386-1-mattias.ronnblom@ericsson.com>
Content-Type: text/plain
X-BeenThere: test-report@dpdk.org
X-Mailman-Version: 2.1.29
Precedence: list
List-Id: automatic DPDK test reports <test-report.dpdk.org>
List-Unsubscribe: <https://mails.dpdk.org/options/test-report>,
 <mailto:test-report-request@dpdk.org?subject=unsubscribe>
List-Archive: <http://mails.dpdk.org/archives/test-report/>
List-Post: <mailto:test-report@dpdk.org>
List-Help: <mailto:test-report-request@dpdk.org?subject=help>
List-Subscribe: <https://mails.dpdk.org/listinfo/test-report>,
 <mailto:test-report-request@dpdk.org?subject=subscribe>
Errors-To: test-report-bounces@dpdk.org

Test-Label: iol-compile-amd64-testing
Test-Status: SUCCESS
http://dpdk.org/patch/139688

_Testing PASS_

Submitter: Mattias Ronnblom <mattias.ronnblom@ericsson.com>
Date: Friday, April 26 2024 07:38:24 
DPDK git baseline: Repo:dpdk
  Branch: master
  CommitID:8841786ab4aa72d205f97528af8708a13a851f4f

139688 --> testing pass

Test environment and result as below:

+---------------------+--------------------+----------------------+-------------------+
|     Environment     | dpdk_meson_compile | dpdk_mingw64_compile | dpdk_msvc_compile |
+=====================+====================+======================+===================+
| FreeBSD 13.3        | PASS               | SKIPPED              | SKIPPED           |
+---------------------+--------------------+----------------------+-------------------+
| Windows Server 2019 | PASS               | PASS                 | SKIPPED           |
+---------------------+--------------------+----------------------+-------------------+
| Windows Server 2022 | PASS               | PASS                 | PASS              |
+---------------------+--------------------+----------------------+-------------------+
| Debian 12           | PASS               | SKIPPED              | SKIPPED           |
+---------------------+--------------------+----------------------+-------------------+
| CentOS Stream 8     | PASS               | SKIPPED              | SKIPPED           |
+---------------------+--------------------+----------------------+-------------------+
| Debian Bullseye     | PASS               | SKIPPED              | SKIPPED           |
+---------------------+--------------------+----------------------+-------------------+
| Fedora 37           | PASS               | SKIPPED              | SKIPPED           |
+---------------------+--------------------+----------------------+-------------------+
| Fedora 38           | PASS               | SKIPPED              | SKIPPED           |
+---------------------+--------------------+----------------------+-------------------+
| RHEL8               | PASS               | SKIPPED              | SKIPPED           |
+---------------------+--------------------+----------------------+-------------------+
| Fedora 39           | PASS               | SKIPPED              | SKIPPED           |
+---------------------+--------------------+----------------------+-------------------+
| Ubuntu 20.04        | PASS               | SKIPPED              | SKIPPED           |
+---------------------+--------------------+----------------------+-------------------+
| Ubuntu 22.04        | PASS               | SKIPPED              | SKIPPED           |
+---------------------+--------------------+----------------------+-------------------+
| CentOS Stream 9     | PASS               | SKIPPED              | SKIPPED           |
+---------------------+--------------------+----------------------+-------------------+


FreeBSD 13.3
	Kernel: 13.3-RELEASE-p1
	Compiler: clang 17.0.6

Windows Server 2019
	Kernel: 10.0.17763
	Compiler: clang 14.0 and gcc 8.1.0 (MinGW)

Windows Server 2022
	Kernel: 10.0.20348.2031
	Compiler: clang 15.0.7, gcc 8.1.0 (MinGW), and MSVC VS 17.9

Debian 12
	Kernel: Container Host Kernel
	Compiler: gcc 10.2.1

CentOS Stream 8
	Kernel: 5.4.0-167-generic
	Compiler: gcc 8.5.0 20210514

Debian Bullseye
	Kernel: 5.4.0-167-generic
	Compiler: gcc 10.2.1-6

Fedora 37
	Kernel: Depends on container host system
	Compiler: gcc 12.3.1

Fedora 38
	Kernel: Depends on container host
	Compiler: gcc 13.2.1

RHEL8
	Kernel: 5.4.0-167-generic
	Compiler: gcc 8.5.0 20210514 (Red Hat 8.5.0-20)

Fedora 39
	Kernel: Depends on container host
	Compiler: gcc 13.2.1

Ubuntu 20.04
	Kernel: 5.4.0-167-generic
	Compiler: gcc 9.4.0-1ubuntu1~20.04.1

Ubuntu 22.04
	Kernel: 5.4.0-167-generic
	Compiler: gcc 11.4.0

CentOS Stream 9
	Kernel: 5.4.0-167-generic
	Compiler: gcc 11.4.1 20230605

To view detailed results, visit:
https://lab.dpdk.org/results/dashboard/patchsets/29861/

UNH-IOL DPDK Community Lab

To manage your email subscriptions, visit: 
https://lab.dpdk.org/results/dashboard/preferences/subscriptions/