From mboxrd@z Thu Jan  1 00:00:00 1970
Return-Path: <test-report-bounces@dpdk.org>
Received: from mails.dpdk.org (mails.dpdk.org [217.70.189.124])
	by inbox.dpdk.org (Postfix) with ESMTP id 5F1A843F13
	for <public@inbox.dpdk.org>; Fri, 26 Apr 2024 11:57:01 +0200 (CEST)
Received: from mails.dpdk.org (localhost [127.0.0.1])
	by mails.dpdk.org (Postfix) with ESMTP id 5AC9943CEA;
	Fri, 26 Apr 2024 11:57:01 +0200 (CEST)
Received: from mail-ot1-f98.google.com (mail-ot1-f98.google.com
 [209.85.210.98]) by mails.dpdk.org (Postfix) with ESMTP id 8DA5D40289
 for <test-report@dpdk.org>; Fri, 26 Apr 2024 11:57:00 +0200 (CEST)
Received: by mail-ot1-f98.google.com with SMTP id
 46e09a7af769-6eb82af305dso1198185a34.1
 for <test-report@dpdk.org>; Fri, 26 Apr 2024 02:57:00 -0700 (PDT)
DKIM-Signature: v=1; a=rsa-sha256; c=relaxed/relaxed;
 d=iol.unh.edu; s=unh-iol; t=1714125420; x=1714730220; darn=dpdk.org;
 h=references:in-reply-to:cc:to:from:subject:message-id:date:from:to
 :cc:subject:date:message-id:reply-to;
 bh=DqTdpSkuKK43Tn0N07K3ofomWdaIgouKN168aeVlkvo=;
 b=FpojhnbivPsR0J6ZwnWtlHM7+N4FoWVQFGQTfv+1VAmFd6As0sKDb1xk+Qou2EXvZJ
 tU+xLai+ba8p3RI0S7UEYdbBJoapuWXG9yeFCk0YUQ0+dHYylZJjITZs7ItjWtbf4Zgn
 czMICq8LD10SExlQwPaw6PzE63YabOFYcUqJo=
X-Google-DKIM-Signature: v=1; a=rsa-sha256; c=relaxed/relaxed;
 d=1e100.net; s=20230601; t=1714125420; x=1714730220;
 h=references:in-reply-to:cc:to:from:subject:message-id:date
 :x-gm-message-state:from:to:cc:subject:date:message-id:reply-to;
 bh=DqTdpSkuKK43Tn0N07K3ofomWdaIgouKN168aeVlkvo=;
 b=fXk4Rfq4ey4vkZDrgyRfhPy8xvWqsgPmEQMKFyRcExzSIFwC/SZA1WppOIx2Sdz+lb
 FwRkVucPsvSARVQqsIkoDPeS4XHKCLOQcsouOFkKMnJf4FvDZnX+ohXCC9Yh7acHwpIw
 SnuGofWiAX/G3KmjHUcnU5pG8xeqf429XjmVGy0KIeIepgI8nAC6II+P7REUhi1V4lTF
 40M3YpX19S/YZxAxiCnqWWf1a+1rF8LTYizQovQxWBKxG+/8+ijh4cfaYQ8lieM5+AgV
 LmCG89tlx9xJFxM1UoYlMNE7lPZoSw0OBsXvrF7Qy33CQ4YL86SDwV3A/zuBsd2mKYmn
 gLtw==
X-Gm-Message-State: AOJu0Yx8HVl+GC6t50sPj+UX3u2wCFAcJw1lxu9+qECdE92WRbF0FjpO
 tgyl2TzEux61CmuMf1T2vYlUPM0SM9mNiTHAQ8HsmAFekWkvtKwqp7vFsB1LBC/QAX9E3DXCuD6
 y5+Jre7ofBm+miD7IfPN0NidcPRwn5SUrOw3MryU3
X-Google-Smtp-Source: AGHT+IFQ4pj3CmBxSCFDSCeFBa5psdTIEL/Y8GC3VrTbQMXsifrULN4jGiyW07Wvijs/HjVcJpQa60dU4W4+
X-Received: by 2002:a05:6830:920:b0:6ed:8b7a:25ed with SMTP id
 v32-20020a056830092000b006ed8b7a25edmr3011121ott.35.1714125419880; 
 Fri, 26 Apr 2024 02:56:59 -0700 (PDT)
Received: from postal.iol.unh.edu (postal.iol.unh.edu. [132.177.123.84])
 by smtp-relay.gmail.com with ESMTPS id
 s67-20020a637746000000b005f43c0dc78fsm1033031pgc.8.2024.04.26.02.56.59
 (version=TLS1_2 cipher=ECDHE-ECDSA-AES128-GCM-SHA256 bits=128/128);
 Fri, 26 Apr 2024 02:56:59 -0700 (PDT)
X-Relaying-Domain: iol.unh.edu
Date: Fri, 26 Apr 2024 02:56:59 -0700 (PDT)
Message-ID: <662b7a6b.630a0220.609ac.7ba3SMTPIN_ADDED_MISSING@mx.google.com>
Received: from [172.21.0.6] (unknown [172.18.0.240])
 by postal.iol.unh.edu (Postfix) with ESMTP id F20496052514;
 Fri, 26 Apr 2024 05:56:58 -0400 (EDT)
Subject: |SUCCESS| pw139688 [PATCH] net/af_packet: cache align Rx/Tx structs
From: dpdklab@iol.unh.edu
To: Test Report <test-report@dpdk.org>
Cc: dpdk-test-reports@iol.unh.edu
In-Reply-To: <20240426073824.100386-1-mattias.ronnblom@ericsson.com>
References: <20240426073824.100386-1-mattias.ronnblom@ericsson.com>
Content-Type: text/plain
X-BeenThere: test-report@dpdk.org
X-Mailman-Version: 2.1.29
Precedence: list
List-Id: automatic DPDK test reports <test-report.dpdk.org>
List-Unsubscribe: <https://mails.dpdk.org/options/test-report>,
 <mailto:test-report-request@dpdk.org?subject=unsubscribe>
List-Archive: <http://mails.dpdk.org/archives/test-report/>
List-Post: <mailto:test-report@dpdk.org>
List-Help: <mailto:test-report-request@dpdk.org?subject=help>
List-Subscribe: <https://mails.dpdk.org/listinfo/test-report>,
 <mailto:test-report-request@dpdk.org?subject=subscribe>
Errors-To: test-report-bounces@dpdk.org

Test-Label: iol-compile-arm64-testing
Test-Status: SUCCESS
http://dpdk.org/patch/139688

_Testing PASS_

Submitter: Mattias Ronnblom <mattias.ronnblom@ericsson.com>
Date: Friday, April 26 2024 07:38:24 
DPDK git baseline: Repo:dpdk
  Branch: master
  CommitID:8841786ab4aa72d205f97528af8708a13a851f4f

139688 --> testing pass

Test environment and result as below:

+----------------------------------------+--------------------+
|              Environment               | dpdk_meson_compile |
+========================================+====================+
| Ubuntu 20.04 ARM SVE                   | PASS               |
+----------------------------------------+--------------------+
| Debian 12 with MUSDK                   | PASS               |
+----------------------------------------+--------------------+
| Fedora 38 (ARM)                        | PASS               |
+----------------------------------------+--------------------+
| Fedora 37 (ARM)                        | PASS               |
+----------------------------------------+--------------------+
| Debian 12 (arm)                        | PASS               |
+----------------------------------------+--------------------+
| Fedora 39 (ARM)                        | PASS               |
+----------------------------------------+--------------------+
| CentOS Stream 9 (ARM)                  | PASS               |
+----------------------------------------+--------------------+
| Ubuntu 20.04 (ARM)                     | PASS               |
+----------------------------------------+--------------------+
| Debian 11 (Buster) (ARM)               | PASS               |
+----------------------------------------+--------------------+
| Ubuntu 20.04 ARM GCC Cross Compile     | PASS               |
+----------------------------------------+--------------------+
| Ubuntu 20.04 aarch32 GCC Cross Compile | PASS               |
+----------------------------------------+--------------------+


Ubuntu 20.04 ARM SVE
	Kernel: 5.4.0-167-generic
	Compiler: gcc (Ubuntu 10.5.0-1ubuntu1~20.04) 10.5.0

Debian 12 with MUSDK
	Kernel: Container Host Kernel
	Compiler: gcc 12.2.0

Fedora 38 (ARM)
	Kernel: Depends on container host
	Compiler: gcc 13.2.1

Fedora 37 (ARM)
	Kernel: Depends on container host
	Compiler: gcc 12.3.1

Debian 12 (arm)
	Kernel: Container Host Kernel
	Compiler: gcc 12.2.0

Fedora 39 (ARM)
	Kernel: Depends on container host
	Compiler: gcc 13.2.1

CentOS Stream 9 (ARM)
	Kernel: Container Host Kernel
	Compiler: gcc 11.4.1

Ubuntu 20.04 (ARM)
	Kernel: Container Host Kernel
	Compiler: gcc 9.4.0

Debian 11 (Buster) (ARM)
	Kernel: Container Host Kernel
	Compiler: gcc 10.2.1

Ubuntu 20.04 ARM GCC Cross Compile
	Kernel: 5.4.0-167-generic
	Compiler: aarch64-linux-gnu-gcc (Ubuntu 9.4.0-1ubuntu1~20.04.2) 9.4.0

Ubuntu 20.04 aarch32 GCC Cross Compile
	Kernel: 5.4.0-167-generic
	Compiler: gcc 9.4.0

To view detailed results, visit:
https://lab.dpdk.org/results/dashboard/patchsets/29861/

UNH-IOL DPDK Community Lab

To manage your email subscriptions, visit: 
https://lab.dpdk.org/results/dashboard/preferences/subscriptions/