From mboxrd@z Thu Jan  1 00:00:00 1970
Return-Path: <test-report-bounces@dpdk.org>
Received: from mails.dpdk.org (mails.dpdk.org [217.70.189.124])
	by inbox.dpdk.org (Postfix) with ESMTP id 6180543F06
	for <public@inbox.dpdk.org>; Fri, 26 Apr 2024 12:08:29 +0200 (CEST)
Received: from mails.dpdk.org (localhost [127.0.0.1])
	by mails.dpdk.org (Postfix) with ESMTP id 4852943CEA;
	Fri, 26 Apr 2024 12:08:29 +0200 (CEST)
Received: from mail-yb1-f228.google.com (mail-yb1-f228.google.com
 [209.85.219.228])
 by mails.dpdk.org (Postfix) with ESMTP id CA38B40289
 for <test-report@dpdk.org>; Fri, 26 Apr 2024 12:08:27 +0200 (CEST)
Received: by mail-yb1-f228.google.com with SMTP id
 3f1490d57ef6-de46b113a5dso2079847276.3
 for <test-report@dpdk.org>; Fri, 26 Apr 2024 03:08:27 -0700 (PDT)
DKIM-Signature: v=1; a=rsa-sha256; c=relaxed/relaxed;
 d=iol.unh.edu; s=unh-iol; t=1714126107; x=1714730907; darn=dpdk.org;
 h=references:in-reply-to:cc:to:from:subject:message-id:date:from:to
 :cc:subject:date:message-id:reply-to;
 bh=78M2mSVZsQ7erKjeITD35IFnIA+OgmJhPbriNfNra/Q=;
 b=c77U7r1qegW4OAwFj2uO+VC/iNqlu13FPJWVaB0OmFPIegLhRyKjpcRbYJwNKIQqc6
 JODrDZPEzq4oKHsqhYamS3jwzFy3tj6fZd0R9eg8MLwEJgKt4VKkXBc8oF0CLRaxmH58
 bda9dcYQTW64pzh2N3jyWHLyli1+/BOV9HDDA=
X-Google-DKIM-Signature: v=1; a=rsa-sha256; c=relaxed/relaxed;
 d=1e100.net; s=20230601; t=1714126107; x=1714730907;
 h=references:in-reply-to:cc:to:from:subject:message-id:date
 :x-gm-message-state:from:to:cc:subject:date:message-id:reply-to;
 bh=78M2mSVZsQ7erKjeITD35IFnIA+OgmJhPbriNfNra/Q=;
 b=M+4ZtDOC5d2B+WXZaOaGpZYqZ06WgWojY7ZlCAhbRyX0xpbqFL0og/5oO7ykCbycQY
 GC9VKHmKKWmNm1oagbnFMy2YXigL5fz5MM8bF2u4Kr+elJjLQscrTwF3idKsTVpftNff
 4pkaooDuL7wrSYfMTkoaOxOd/vcVUzMIj+8R/VB6cWokC7xhZZ3VNfT9sQl++YGWitk3
 bg/Mu3ryEnOX4YtcSu6aNIEwuEceEvxts1/sJ7Ze6dQ/kHbzWQi3rjZhu5IYKF/aFPmM
 AeyAO1DVc1ISmV69xUpZE7schmhpYOBN4PQQEFi2GhLas9Nvxsrnvs7V3XaQ+v6yqMm9
 BO6w==
X-Gm-Message-State: AOJu0Yy8S6ytXp9XD73q2ecHrBrGn+zMCwvmL7vLSl2qCl3At5hbBt8v
 I1JRC6wrtqHjoY6GSKX14VI8p5BNFFlhLl/21+NrXVUU4wUU3qkLmUW2UDeTan569h7iNpTTSy4
 qtgQqk0e/hQTUjio4zv59Z7/GagnsYH+yNgEStBla9C8fJ6zoPUI7F6Lr
X-Google-Smtp-Source: AGHT+IHwD5Nh70Ur3jgejYjlBvwOHWgQnpCgIp4xf2QEiVhbMU+nk7NVwHOAj5kz6RiKtCnrPDBZ65gNPEPV
X-Received: by 2002:a05:6902:c08:b0:dc7:464c:e979 with SMTP id
 fs8-20020a0569020c0800b00dc7464ce979mr2250050ybb.28.1714126107172; 
 Fri, 26 Apr 2024 03:08:27 -0700 (PDT)
Received: from postal.iol.unh.edu (postal.iol.unh.edu.
 [2606:4100:3880:1234::84]) by smtp-relay.gmail.com with ESMTPS id
 dl16-20020a056902219000b00dcbb5d1443bsm946941ybb.32.2024.04.26.03.08.27
 (version=TLS1_2 cipher=ECDHE-ECDSA-AES128-GCM-SHA256 bits=128/128);
 Fri, 26 Apr 2024 03:08:27 -0700 (PDT)
X-Relaying-Domain: iol.unh.edu
Date: Fri, 26 Apr 2024 03:08:27 -0700 (PDT)
Message-ID: <662b7d1b.050a0220.4075f.1fd0SMTPIN_ADDED_MISSING@mx.google.com>
Received: from [172.17.0.2] (unknown [172.18.0.217])
 by postal.iol.unh.edu (Postfix) with ESMTP id C63756052514;
 Fri, 26 Apr 2024 06:08:26 -0400 (EDT)
Subject: |SUCCESS| pw139688 [PATCH] net/af_packet: cache align Rx/Tx structs
From: dpdklab@iol.unh.edu
To: Test Report <test-report@dpdk.org>
Cc: dpdk-test-reports@iol.unh.edu
In-Reply-To: <20240426073824.100386-1-mattias.ronnblom@ericsson.com>
References: <20240426073824.100386-1-mattias.ronnblom@ericsson.com>
Content-Type: text/plain
X-BeenThere: test-report@dpdk.org
X-Mailman-Version: 2.1.29
Precedence: list
List-Id: automatic DPDK test reports <test-report.dpdk.org>
List-Unsubscribe: <https://mails.dpdk.org/options/test-report>,
 <mailto:test-report-request@dpdk.org?subject=unsubscribe>
List-Archive: <http://mails.dpdk.org/archives/test-report/>
List-Post: <mailto:test-report@dpdk.org>
List-Help: <mailto:test-report-request@dpdk.org?subject=help>
List-Subscribe: <https://mails.dpdk.org/listinfo/test-report>,
 <mailto:test-report-request@dpdk.org?subject=subscribe>
Errors-To: test-report-bounces@dpdk.org

Test-Label: iol-abi-testing
Test-Status: SUCCESS
http://dpdk.org/patch/139688

_Testing PASS_

Submitter: Mattias Ronnblom <mattias.ronnblom@ericsson.com>
Date: Friday, April 26 2024 07:38:24 
DPDK git baseline: Repo:dpdk
  Branch: master
  CommitID:8841786ab4aa72d205f97528af8708a13a851f4f

139688 --> testing pass

Test environment and result as below:

+------------------+----------+
|   Environment    | abi_test |
+==================+==========+
| CentOS Stream 9  | PASS     |
+------------------+----------+
| Fedora 39        | PASS     |
+------------------+----------+
| Fedora 38        | PASS     |
+------------------+----------+
| RHEL8            | PASS     |
+------------------+----------+
| Debian Bullseye  | PASS     |
+------------------+----------+
| Fedora 37        | PASS     |
+------------------+----------+
| Debian 12        | PASS     |
+------------------+----------+
| CentOS Stream 8  | PASS     |
+------------------+----------+
| openSUSE Leap 15 | PASS     |
+------------------+----------+
| Ubuntu 22.04     | PASS     |
+------------------+----------+


CentOS Stream 9
	Kernel: 5.4.0-167-generic
	Compiler: gcc 11.4.1 20230605

Fedora 39
	Kernel: Depends on container host
	Compiler: gcc 13.2.1

Fedora 38
	Kernel: Depends on container host
	Compiler: gcc 13.2.1

RHEL8
	Kernel: 5.4.0-167-generic
	Compiler: gcc 8.5.0 20210514 (Red Hat 8.5.0-20)

Debian Bullseye
	Kernel: 5.4.0-167-generic
	Compiler: gcc 10.2.1-6

Fedora 37
	Kernel: Depends on container host system
	Compiler: gcc 12.3.1

Debian 12
	Kernel: Container Host Kernel
	Compiler: gcc 10.2.1

CentOS Stream 8
	Kernel: 5.4.0-167-generic
	Compiler: gcc 8.5.0 20210514

openSUSE Leap 15
	Kernel: 5.4.0-167-generic
	Compiler: gcc 7.5.0

Ubuntu 22.04
	Kernel: 5.4.0-167-generic
	Compiler: gcc 11.4.0

To view detailed results, visit:
https://lab.dpdk.org/results/dashboard/patchsets/29861/

UNH-IOL DPDK Community Lab

To manage your email subscriptions, visit: 
https://lab.dpdk.org/results/dashboard/preferences/subscriptions/