From mboxrd@z Thu Jan  1 00:00:00 1970
Return-Path: <test-report-bounces@dpdk.org>
Received: from mails.dpdk.org (mails.dpdk.org [217.70.189.124])
	by inbox.dpdk.org (Postfix) with ESMTP id D7ECE43F15
	for <public@inbox.dpdk.org>; Fri, 26 Apr 2024 14:08:13 +0200 (CEST)
Received: from mails.dpdk.org (localhost [127.0.0.1])
	by mails.dpdk.org (Postfix) with ESMTP id D302543CE3;
	Fri, 26 Apr 2024 14:08:13 +0200 (CEST)
Received: from mail-yw1-f228.google.com (mail-yw1-f228.google.com
 [209.85.128.228])
 by mails.dpdk.org (Postfix) with ESMTP id BAA7D4064A
 for <test-report@dpdk.org>; Fri, 26 Apr 2024 14:08:12 +0200 (CEST)
Received: by mail-yw1-f228.google.com with SMTP id
 00721157ae682-61ac183ee82so26788607b3.1
 for <test-report@dpdk.org>; Fri, 26 Apr 2024 05:08:12 -0700 (PDT)
DKIM-Signature: v=1; a=rsa-sha256; c=relaxed/relaxed;
 d=iol.unh.edu; s=unh-iol; t=1714133292; x=1714738092; darn=dpdk.org;
 h=references:in-reply-to:cc:to:from:subject:message-id:date:from:to
 :cc:subject:date:message-id:reply-to;
 bh=28AbB3TCOPc6trZ1iFDfLXEM27TNQW0Zugd7dTgjQ0w=;
 b=M4i9UK73ZtZfX4VQVoqDGiHFGYKXEBqZXaZ4Di0HlXUM1EXQV+eHXRGrYYtR0phwxk
 XBWZnNfKC4CJfJO68ChNRu6jvl2Ko6XpB0ZYVxbgszI0qEupDt/28OQEcMa4dl0SV0KO
 8lSpGaajPoiiIbC3rOQgYLcVtSDDF6YhqWQeg=
X-Google-DKIM-Signature: v=1; a=rsa-sha256; c=relaxed/relaxed;
 d=1e100.net; s=20230601; t=1714133292; x=1714738092;
 h=references:in-reply-to:cc:to:from:subject:message-id:date
 :x-gm-message-state:from:to:cc:subject:date:message-id:reply-to;
 bh=28AbB3TCOPc6trZ1iFDfLXEM27TNQW0Zugd7dTgjQ0w=;
 b=eKnKBOQ0WQ5/1ICEjLMiUh8VCQv/zvnUD6kyGby9Z/bQwkSMvhSJn1iSYrjR5MrYx0
 vB5LETCEEw0BSb8//tFjBLe16iKx018AtRkW1jnhP65wt/YLvqmThYgaH40aZiQ6077w
 8xO2dH1Z75m5NT0HL6tEkYSk9T5ODdims6B/TY1U+RN0oYs+Hvcvi0sB6amjVfvtvZVm
 PtELu5iNobcSk6VIsifkdKhMe/HnZmIO4bLAPGsUbUQfNAIyKlcy/Rb6vR2v28UeTC2L
 ar2+1pfZW/LLVGDysmpnRWUOFi5mhqPJ5wy4c0z1m6lmXHR+w0/QLJB4DFbi0TM011iP
 m0eQ==
X-Gm-Message-State: AOJu0YwPDUsJaXyk744JsurtKTWsSbPCinRZdNknypZNXov+GDLB2kKo
 3d1cJ0uv5ONzsD9/tMbpKnhVKaOJ2jC88lLNv6rsbOcis6tR0A7yW2iBUF5LtE8cPzPKXAM9Bqn
 kEbsRlW6Ymg4DjYfjEcvVRCxFGEb1hLQRhlaCq5RDuF1aKeSJojKv4um2
X-Google-Smtp-Source: AGHT+IEKSXA3YZMLfF1GTPaHZeiT8JbiarUqEhbhTYOdNafM96LnzJp7njOXrM0T4ZHRa8GTAeRuGPlUYQRo
X-Received: by 2002:a05:690c:f8f:b0:61a:e323:46e9 with SMTP id
 df15-20020a05690c0f8f00b0061ae32346e9mr1718987ywb.25.1714133292178; 
 Fri, 26 Apr 2024 05:08:12 -0700 (PDT)
Received: from postal.iol.unh.edu (postal.iol.unh.edu.
 [2606:4100:3880:1234::84]) by smtp-relay.gmail.com with ESMTPS id
 i84-20020a816d57000000b0061ae2f5ef9asm1321331ywc.1.2024.04.26.05.08.12
 (version=TLS1_2 cipher=ECDHE-ECDSA-AES128-GCM-SHA256 bits=128/128);
 Fri, 26 Apr 2024 05:08:12 -0700 (PDT)
X-Relaying-Domain: iol.unh.edu
Date: Fri, 26 Apr 2024 05:08:12 -0700 (PDT)
Message-ID: <662b992c.810a0220.98c4d.60b9SMTPIN_ADDED_MISSING@mx.google.com>
Received: from [172.21.0.10] (unknown [172.18.0.240])
 by postal.iol.unh.edu (Postfix) with ESMTP id D0BC26052514;
 Fri, 26 Apr 2024 08:08:11 -0400 (EDT)
Subject: |SUCCESS| pw139702 [PATCH] [v2] vhost: cleanup resubmit info before 
From: dpdklab@iol.unh.edu
To: Test Report <test-report@dpdk.org>
Cc: dpdk-test-reports@iol.unh.edu
In-Reply-To: <20240426110947.881407-1-haoqian.he@smartx.com>
References: <20240426110947.881407-1-haoqian.he@smartx.com>
Content-Type: text/plain
X-BeenThere: test-report@dpdk.org
X-Mailman-Version: 2.1.29
Precedence: list
List-Id: automatic DPDK test reports <test-report.dpdk.org>
List-Unsubscribe: <https://mails.dpdk.org/options/test-report>,
 <mailto:test-report-request@dpdk.org?subject=unsubscribe>
List-Archive: <http://mails.dpdk.org/archives/test-report/>
List-Post: <mailto:test-report@dpdk.org>
List-Help: <mailto:test-report-request@dpdk.org?subject=help>
List-Subscribe: <https://mails.dpdk.org/listinfo/test-report>,
 <mailto:test-report-request@dpdk.org?subject=subscribe>
Errors-To: test-report-bounces@dpdk.org

Test-Label: iol-compile-amd64-testing
Test-Status: SUCCESS
http://dpdk.org/patch/139702

_Testing PASS_

Submitter: Haoqian He <haoqian.he@smartx.com>
Date: Friday, April 26 2024 11:09:46 
DPDK git baseline: Repo:dpdk
  Branch: master
  CommitID:deedfb86a7a6e10064d3cccd593f62072de96e36

139702 --> testing pass

Test environment and result as below:

+---------------------+--------------------+-------------------+----------------------+
|     Environment     | dpdk_meson_compile | dpdk_msvc_compile | dpdk_mingw64_compile |
+=====================+====================+===================+======================+
| FreeBSD 13.3        | PASS               | SKIPPED           | SKIPPED              |
+---------------------+--------------------+-------------------+----------------------+
| Windows Server 2022 | PASS               | PASS              | PASS                 |
+---------------------+--------------------+-------------------+----------------------+
| Windows Server 2019 | PASS               | SKIPPED           | PASS                 |
+---------------------+--------------------+-------------------+----------------------+
| Debian Bullseye     | PASS               | SKIPPED           | SKIPPED              |
+---------------------+--------------------+-------------------+----------------------+


FreeBSD 13.3
	Kernel: 13.3-RELEASE-p1
	Compiler: clang 17.0.6

Windows Server 2022
	Kernel: 10.0.20348.2031
	Compiler: clang 15.0.7, gcc 8.1.0 (MinGW), and MSVC VS 17.9

Windows Server 2019
	Kernel: 10.0.17763
	Compiler: clang 14.0 and gcc 8.1.0 (MinGW)

Debian Bullseye
	Kernel: 5.4.0-167-generic
	Compiler: gcc 10.2.1-6

To view detailed results, visit:
https://lab.dpdk.org/results/dashboard/patchsets/29866/

UNH-IOL DPDK Community Lab

To manage your email subscriptions, visit: 
https://lab.dpdk.org/results/dashboard/preferences/subscriptions/