From mboxrd@z Thu Jan  1 00:00:00 1970
Return-Path: <test-report-bounces@dpdk.org>
Received: from mails.dpdk.org (mails.dpdk.org [217.70.189.124])
	by inbox.dpdk.org (Postfix) with ESMTP id 477E643F15
	for <public@inbox.dpdk.org>; Fri, 26 Apr 2024 14:10:05 +0200 (CEST)
Received: from mails.dpdk.org (localhost [127.0.0.1])
	by mails.dpdk.org (Postfix) with ESMTP id 4360243CE3;
	Fri, 26 Apr 2024 14:10:05 +0200 (CEST)
Received: from mail-pl1-f225.google.com (mail-pl1-f225.google.com
 [209.85.214.225])
 by mails.dpdk.org (Postfix) with ESMTP id B4B4E4064A
 for <test-report@dpdk.org>; Fri, 26 Apr 2024 14:10:03 +0200 (CEST)
Received: by mail-pl1-f225.google.com with SMTP id
 d9443c01a7336-1e3f17c6491so16848985ad.2
 for <test-report@dpdk.org>; Fri, 26 Apr 2024 05:10:03 -0700 (PDT)
DKIM-Signature: v=1; a=rsa-sha256; c=relaxed/relaxed;
 d=iol.unh.edu; s=unh-iol; t=1714133403; x=1714738203; darn=dpdk.org;
 h=references:in-reply-to:cc:to:from:subject:message-id:date:from:to
 :cc:subject:date:message-id:reply-to;
 bh=u5ViiBpuMmYShqtSfvf3CS8gT/gx7Iat2wMewKeZDAg=;
 b=X9LWad2cuG9wNSsAYeFNSI6kd9IJmJI8TVK2lKbL8kYUbfgd+EQk6mgyxP47umDpyc
 2ARgMzNmdoPnfNNu4SKf9Ufy2MgOeUZWVLamJW9K1wzk9UuplSR5LX5yt1IQbSnZPrbd
 tKplytvnqhKBShwmFV/NDUDKOQy1nPMjJIWs8=
X-Google-DKIM-Signature: v=1; a=rsa-sha256; c=relaxed/relaxed;
 d=1e100.net; s=20230601; t=1714133403; x=1714738203;
 h=references:in-reply-to:cc:to:from:subject:message-id:date
 :x-gm-message-state:from:to:cc:subject:date:message-id:reply-to;
 bh=u5ViiBpuMmYShqtSfvf3CS8gT/gx7Iat2wMewKeZDAg=;
 b=nza6LkXlwCJ0AsJtRnTu1n8EeNPj4zqa1P6GsuZ/mZmgGMwIc8rG3nVlHvhLeYbBhW
 8DYZoHeWtxmy2CPQwRqzo+IV5yHHH7UzxpY/4hDzVr77PTplblXJd7MKLIZLYiO/PNG7
 WQMqNQhWkS0PIPdLvMsKPIsk+t/mI7RscWCPKlOTJ6Wbsn6VyITyNrXGaIp+2JmeRWD6
 gEl/zpR288v6fSjIcQRq5lx8WpzfJUmrwKAgDtXJzJ1sqn2kz72+5o/ppwcADvk7ziLf
 gp+mj+/NmA9DnISFVItR8dbUjJ7zsqqPFuiZyISbKIPILmu1j3i+hNbyrSnCWGHcxmIT
 Y6yw==
X-Gm-Message-State: AOJu0Yxn4Ia5PmDqoUhLusU3uGhvwCkWQTE4xt3aiUGlaDVMyHvzJgMA
 woAww6bm/vukgFkH8XjBxLTL2uEpkogaKp/k7r019S5/35RfQiSz65jLkutKeB9fKqGIyt6g3M4
 ye3w2FD4HyoTkA3I/qJMQMUgKpD9AgHCmYfq7NjUl
X-Google-Smtp-Source: AGHT+IEVnMil9d18MWTlKI4bY6sP+BNnpxQ/IHby+gL4n/FXB8aNVzn4OlvuNipDhqhPhTrkiY0Xf/RaynLG
X-Received: by 2002:a17:902:ced1:b0:1eb:16c9:ba34 with SMTP id
 d17-20020a170902ced100b001eb16c9ba34mr1336061plg.40.1714133403045; 
 Fri, 26 Apr 2024 05:10:03 -0700 (PDT)
Received: from postal.iol.unh.edu (postal.iol.unh.edu. [132.177.123.84])
 by smtp-relay.gmail.com with ESMTPS id
 jb21-20020a170903259500b001e2925dccb2sm526513plb.89.2024.04.26.05.10.02
 (version=TLS1_2 cipher=ECDHE-ECDSA-AES128-GCM-SHA256 bits=128/128);
 Fri, 26 Apr 2024 05:10:03 -0700 (PDT)
X-Relaying-Domain: iol.unh.edu
Date: Fri, 26 Apr 2024 05:10:03 -0700 (PDT)
Message-ID: <662b999b.170a0220.3cc2e.bd8dSMTPIN_ADDED_MISSING@mx.google.com>
Received: from [172.21.0.10] (unknown [172.18.0.240])
 by postal.iol.unh.edu (Postfix) with ESMTP id 3ED066052514;
 Fri, 26 Apr 2024 08:10:02 -0400 (EDT)
Subject: |SUCCESS| pw139702 [PATCH] [v2] vhost: cleanup resubmit info before 
From: dpdklab@iol.unh.edu
To: Test Report <test-report@dpdk.org>
Cc: dpdk-test-reports@iol.unh.edu
In-Reply-To: <20240426110947.881407-1-haoqian.he@smartx.com>
References: <20240426110947.881407-1-haoqian.he@smartx.com>
Content-Type: text/plain
X-BeenThere: test-report@dpdk.org
X-Mailman-Version: 2.1.29
Precedence: list
List-Id: automatic DPDK test reports <test-report.dpdk.org>
List-Unsubscribe: <https://mails.dpdk.org/options/test-report>,
 <mailto:test-report-request@dpdk.org?subject=unsubscribe>
List-Archive: <http://mails.dpdk.org/archives/test-report/>
List-Post: <mailto:test-report@dpdk.org>
List-Help: <mailto:test-report-request@dpdk.org?subject=help>
List-Subscribe: <https://mails.dpdk.org/listinfo/test-report>,
 <mailto:test-report-request@dpdk.org?subject=subscribe>
Errors-To: test-report-bounces@dpdk.org

Test-Label: iol-abi-testing
Test-Status: SUCCESS
http://dpdk.org/patch/139702

_Testing PASS_

Submitter: Haoqian He <haoqian.he@smartx.com>
Date: Friday, April 26 2024 11:09:46 
DPDK git baseline: Repo:dpdk
  Branch: master
  CommitID:deedfb86a7a6e10064d3cccd593f62072de96e36

139702 --> testing pass

Test environment and result as below:

+-----------------+----------+
|   Environment   | abi_test |
+=================+==========+
| Fedora 38       | PASS     |
+-----------------+----------+
| Debian Bullseye | PASS     |
+-----------------+----------+
| Fedora 37       | PASS     |
+-----------------+----------+
| Debian 12       | PASS     |
+-----------------+----------+
| Fedora 39       | PASS     |
+-----------------+----------+
| CentOS Stream 8 | PASS     |
+-----------------+----------+


Fedora 38
	Kernel: Depends on container host
	Compiler: clang 16.0.6

Debian Bullseye
	Kernel: 5.4.0-167-generic
	Compiler: gcc 10.2.1-6

Fedora 37
	Kernel: Depends on container host system
	Compiler: gcc 12.3.1

Debian 12
	Kernel: Container Host Kernel
	Compiler: gcc 10.2.1

Fedora 39
	Kernel: Depends on container host
	Compiler: clang 17.0.6

CentOS Stream 8
	Kernel: 5.4.0-167-generic
	Compiler: gcc 8.5.0 20210514

To view detailed results, visit:
https://lab.dpdk.org/results/dashboard/patchsets/29866/

UNH-IOL DPDK Community Lab

To manage your email subscriptions, visit: 
https://lab.dpdk.org/results/dashboard/preferences/subscriptions/