From mboxrd@z Thu Jan  1 00:00:00 1970
Return-Path: <test-report-bounces@dpdk.org>
Received: from mails.dpdk.org (mails.dpdk.org [217.70.189.124])
	by inbox.dpdk.org (Postfix) with ESMTP id E75CE43F15
	for <public@inbox.dpdk.org>; Fri, 26 Apr 2024 14:12:46 +0200 (CEST)
Received: from mails.dpdk.org (localhost [127.0.0.1])
	by mails.dpdk.org (Postfix) with ESMTP id E33BF43CE3;
	Fri, 26 Apr 2024 14:12:46 +0200 (CEST)
Received: from mail-qv1-f100.google.com (mail-qv1-f100.google.com
 [209.85.219.100])
 by mails.dpdk.org (Postfix) with ESMTP id 3402243CE3
 for <test-report@dpdk.org>; Fri, 26 Apr 2024 14:12:44 +0200 (CEST)
Received: by mail-qv1-f100.google.com with SMTP id
 6a1803df08f44-69b50b8239fso20575456d6.0
 for <test-report@dpdk.org>; Fri, 26 Apr 2024 05:12:44 -0700 (PDT)
DKIM-Signature: v=1; a=rsa-sha256; c=relaxed/relaxed;
 d=iol.unh.edu; s=unh-iol; t=1714133563; x=1714738363; darn=dpdk.org;
 h=references:in-reply-to:cc:to:from:subject:message-id:date:from:to
 :cc:subject:date:message-id:reply-to;
 bh=28AbB3TCOPc6trZ1iFDfLXEM27TNQW0Zugd7dTgjQ0w=;
 b=hyQqjG4yTrNgIPEwPrOKxLDoiPz2siLo4Xr+R2yT+pvb4KewLEDHcGZM4+mT3EZF+s
 mWalpCxNLSqf406jhFcw0yiCSnqjsb54PFAxA2UkMffev19if9Q4PhE0wVxLLjMGwHuQ
 uCgpNL1btGJJq2sglo7HPgc5yhvJQrSTDA8fI=
X-Google-DKIM-Signature: v=1; a=rsa-sha256; c=relaxed/relaxed;
 d=1e100.net; s=20230601; t=1714133563; x=1714738363;
 h=references:in-reply-to:cc:to:from:subject:message-id:date
 :x-gm-message-state:from:to:cc:subject:date:message-id:reply-to;
 bh=28AbB3TCOPc6trZ1iFDfLXEM27TNQW0Zugd7dTgjQ0w=;
 b=ohlAAOT3qZtb/lk7NDhmkdLneaqUtu3DhcHcCtCm/rnrgjTrfXIKYN5gyYoENEKE3u
 5NTBlEbRG6us+vQAJMlRYllVC8WDXE88PX8u0uxORwZy8elIcsqZKXpb/F0cMMoPhPM/
 ZNTcLsDYSzkHZKzLB9iuW2pR1oJTbhIwp5GDEzi/0T6XgbKlcQ0l0KCIjGWvYa1d7FSr
 axFmDgFFuLFZFFFD7hXr2s28xK1vYIxo+HBaahxe7IcYIiGEodykLAonotuv9wBNe1Do
 4lGffXlthw9Nq3R2U4L3eM9uNLVM/D1VGAGzzU1ea4ScnozJ3sxrHLkUKvL79pY8RqNk
 q08A==
X-Gm-Message-State: AOJu0YwXtjp3tMGdx9sUZWXXsbD+BJPKl8Sx3Bv5sJrEGymq9r3jSxG/
 CgrhuUJPtcr+ctRcu1Dg0ckjI8hN4rmK7FaATAg4ga8urv8VwCYNZjsyqXAEda/TiaMPh0K0ZxA
 kFBHRHLqDAbkXIFBZ/C4YGI1x8Jg6P6wkfKn8AXYmHss+D0wDlUFeluny
X-Google-Smtp-Source: AGHT+IFMg1r/xWvPj1N3h0S1SF7MsIfzr8u9KwndTS2d6gWtJ5NOnZAdzyTQ7bvd2t0EstWK/PwTgR7lv6Li
X-Received: by 2002:a05:6214:c28:b0:6a0:9645:526e with SMTP id
 a8-20020a0562140c2800b006a09645526emr4460969qvd.15.1714133563540; 
 Fri, 26 Apr 2024 05:12:43 -0700 (PDT)
Received: from postal.iol.unh.edu (postal.iol.unh.edu.
 [2606:4100:3880:1234::84]) by smtp-relay.gmail.com with ESMTPS id
 jm12-20020ad45ecc000000b00699217414bbsm1404781qvb.28.2024.04.26.05.12.43
 (version=TLS1_2 cipher=ECDHE-ECDSA-AES128-GCM-SHA256 bits=128/128);
 Fri, 26 Apr 2024 05:12:43 -0700 (PDT)
X-Relaying-Domain: iol.unh.edu
Date: Fri, 26 Apr 2024 05:12:43 -0700 (PDT)
Message-ID: <662b9a3b.d40a0220.4ecfc.c860SMTPIN_ADDED_MISSING@mx.google.com>
Received: from [172.21.0.10] (unknown [172.18.0.240])
 by postal.iol.unh.edu (Postfix) with ESMTP id 3F3CF6052514;
 Fri, 26 Apr 2024 08:12:43 -0400 (EDT)
Subject: |SUCCESS| pw139702 [PATCH] [v2] vhost: cleanup resubmit info before 
From: dpdklab@iol.unh.edu
To: Test Report <test-report@dpdk.org>
Cc: dpdk-test-reports@iol.unh.edu
In-Reply-To: <20240426110947.881407-1-haoqian.he@smartx.com>
References: <20240426110947.881407-1-haoqian.he@smartx.com>
Content-Type: text/plain
X-BeenThere: test-report@dpdk.org
X-Mailman-Version: 2.1.29
Precedence: list
List-Id: automatic DPDK test reports <test-report.dpdk.org>
List-Unsubscribe: <https://mails.dpdk.org/options/test-report>,
 <mailto:test-report-request@dpdk.org?subject=unsubscribe>
List-Archive: <http://mails.dpdk.org/archives/test-report/>
List-Post: <mailto:test-report@dpdk.org>
List-Help: <mailto:test-report-request@dpdk.org?subject=help>
List-Subscribe: <https://mails.dpdk.org/listinfo/test-report>,
 <mailto:test-report-request@dpdk.org?subject=subscribe>
Errors-To: test-report-bounces@dpdk.org

Test-Label: iol-compile-amd64-testing
Test-Status: SUCCESS
http://dpdk.org/patch/139702

_Testing PASS_

Submitter: Haoqian He <haoqian.he@smartx.com>
Date: Friday, April 26 2024 11:09:46 
DPDK git baseline: Repo:dpdk
  Branch: master
  CommitID:deedfb86a7a6e10064d3cccd593f62072de96e36

139702 --> testing pass

Test environment and result as below:

+---------------------+--------------------+-------------------+----------------------+
|     Environment     | dpdk_meson_compile | dpdk_msvc_compile | dpdk_mingw64_compile |
+=====================+====================+===================+======================+
| FreeBSD 13.3        | PASS               | SKIPPED           | SKIPPED              |
+---------------------+--------------------+-------------------+----------------------+
| Windows Server 2022 | PASS               | PASS              | PASS                 |
+---------------------+--------------------+-------------------+----------------------+
| Windows Server 2019 | PASS               | SKIPPED           | PASS                 |
+---------------------+--------------------+-------------------+----------------------+
| Debian Bullseye     | PASS               | SKIPPED           | SKIPPED              |
+---------------------+--------------------+-------------------+----------------------+


FreeBSD 13.3
	Kernel: 13.3-RELEASE-p1
	Compiler: clang 17.0.6

Windows Server 2022
	Kernel: 10.0.20348.2031
	Compiler: clang 15.0.7, gcc 8.1.0 (MinGW), and MSVC VS 17.9

Windows Server 2019
	Kernel: 10.0.17763
	Compiler: clang 14.0 and gcc 8.1.0 (MinGW)

Debian Bullseye
	Kernel: 5.4.0-167-generic
	Compiler: gcc 10.2.1-6

To view detailed results, visit:
https://lab.dpdk.org/results/dashboard/patchsets/29866/

UNH-IOL DPDK Community Lab

To manage your email subscriptions, visit: 
https://lab.dpdk.org/results/dashboard/preferences/subscriptions/