From mboxrd@z Thu Jan  1 00:00:00 1970
Return-Path: <test-report-bounces@dpdk.org>
Received: from mails.dpdk.org (mails.dpdk.org [217.70.189.124])
	by inbox.dpdk.org (Postfix) with ESMTP id 77E4343F15
	for <public@inbox.dpdk.org>; Fri, 26 Apr 2024 14:25:05 +0200 (CEST)
Received: from mails.dpdk.org (localhost [127.0.0.1])
	by mails.dpdk.org (Postfix) with ESMTP id 73F3F43DB6;
	Fri, 26 Apr 2024 14:25:05 +0200 (CEST)
Received: from mail-qv1-f100.google.com (mail-qv1-f100.google.com
 [209.85.219.100])
 by mails.dpdk.org (Postfix) with ESMTP id 3358243DB0
 for <test-report@dpdk.org>; Fri, 26 Apr 2024 14:25:04 +0200 (CEST)
Received: by mail-qv1-f100.google.com with SMTP id
 6a1803df08f44-69b9365e584so24895766d6.1
 for <test-report@dpdk.org>; Fri, 26 Apr 2024 05:25:04 -0700 (PDT)
DKIM-Signature: v=1; a=rsa-sha256; c=relaxed/relaxed;
 d=iol.unh.edu; s=unh-iol; t=1714134303; x=1714739103; darn=dpdk.org;
 h=references:in-reply-to:cc:to:from:subject:message-id:date:from:to
 :cc:subject:date:message-id:reply-to;
 bh=GyneEH0lybGgKoTC1dQVbzfZR8o5i8rKG2B7F2xYFxI=;
 b=bBlFzF/k/d1qXUr+grfvs5KR/A2xtlLCv1Ymf/LUtOkKrS1UcCfzIe+oriyWEHWgiw
 DbWARF8ooh1U3DewyyZ1gSVv1eZA6EH65lckJfqW9bCpnEQbkGeA+yFfdLOW4SXMFGrn
 zB/Y9GXtmlrYRwwIEV4IEPyafWxDYtPGWdfv8=
X-Google-DKIM-Signature: v=1; a=rsa-sha256; c=relaxed/relaxed;
 d=1e100.net; s=20230601; t=1714134303; x=1714739103;
 h=references:in-reply-to:cc:to:from:subject:message-id:date
 :x-gm-message-state:from:to:cc:subject:date:message-id:reply-to;
 bh=GyneEH0lybGgKoTC1dQVbzfZR8o5i8rKG2B7F2xYFxI=;
 b=eJwu4fbIWIGWDCXG/uPNripDprynNZLohW+onS0l8IxXQ9Jyjjl+X/iAMmP+MlHNso
 YpmsDE5B0HuvL55XI9w56N61/UBgQFbN+0NUqJSNLe4VZazro/cSoFdyheEHqG1k6yk2
 95E1dWdbS6OQSy0sV2kRlkdlthHyPZTcujejN10iZUBDEhDSZZTJVzVo/2iggT6kfX/x
 XuGu1u5F0GD9pWx8IFGqPN7AC7I4etNqCPerJbPLeeUQmc8Ffps0j0yP2rxAHGKwlG0T
 f15y1RgG6qXsJ6tsLKj/MDKY+AsCrEbj52AglO2cApdBsNGihF4t2wO/0jrZuSvMc9/0
 Qs5Q==
X-Gm-Message-State: AOJu0Yz00tgOFgcFttPg/eJjuozEgK7vefKl3DCJBd/oeRVV2wiXiJsB
 G7TuMH8mNFv7MhazdpDRf/62eiyGnLphmIcauWmiCOArPIYjJf+BANhQdr8o0fIZOQLCGzvdaA3
 TjZbLaoULuD6fZXFiqDZ11N3ESH6iHTLwHrA7Hk2w
X-Google-Smtp-Source: AGHT+IGNP0N2JUEVbxQkmHtFAoZNcEcKoX3XD0tQ5mFADJM9QgWiw3UsqpSxm68buQXi35uakf4Wn8YmNcqY
X-Received: by 2002:a05:6214:c2f:b0:6a0:419f:51f0 with SMTP id
 a15-20020a0562140c2f00b006a0419f51f0mr9087415qvd.23.1714134303604; 
 Fri, 26 Apr 2024 05:25:03 -0700 (PDT)
Received: from postal.iol.unh.edu (postal.iol.unh.edu. [132.177.123.84])
 by smtp-relay.gmail.com with ESMTPS id
 i12-20020ad45c6c000000b0069b1ca5e74esm1403973qvh.38.2024.04.26.05.25.03
 (version=TLS1_2 cipher=ECDHE-ECDSA-AES128-GCM-SHA256 bits=128/128);
 Fri, 26 Apr 2024 05:25:03 -0700 (PDT)
X-Relaying-Domain: iol.unh.edu
Date: Fri, 26 Apr 2024 05:25:03 -0700 (PDT)
Message-ID: <662b9d1f.d40a0220.d3391.b6e5SMTPIN_ADDED_MISSING@mx.google.com>
Received: from [172.21.0.6] (unknown [172.18.0.240])
 by postal.iol.unh.edu (Postfix) with ESMTP id 49A916052514;
 Fri, 26 Apr 2024 08:25:03 -0400 (EDT)
Subject: |SUCCESS| pw139702 [PATCH] [v2] vhost: cleanup resubmit info before 
From: dpdklab@iol.unh.edu
To: Test Report <test-report@dpdk.org>
Cc: dpdk-test-reports@iol.unh.edu
In-Reply-To: <20240426110947.881407-1-haoqian.he@smartx.com>
References: <20240426110947.881407-1-haoqian.he@smartx.com>
Content-Type: text/plain
X-BeenThere: test-report@dpdk.org
X-Mailman-Version: 2.1.29
Precedence: list
List-Id: automatic DPDK test reports <test-report.dpdk.org>
List-Unsubscribe: <https://mails.dpdk.org/options/test-report>,
 <mailto:test-report-request@dpdk.org?subject=unsubscribe>
List-Archive: <http://mails.dpdk.org/archives/test-report/>
List-Post: <mailto:test-report@dpdk.org>
List-Help: <mailto:test-report-request@dpdk.org?subject=help>
List-Subscribe: <https://mails.dpdk.org/listinfo/test-report>,
 <mailto:test-report-request@dpdk.org?subject=subscribe>
Errors-To: test-report-bounces@dpdk.org

Test-Label: iol-abi-testing
Test-Status: SUCCESS
http://dpdk.org/patch/139702

_Testing PASS_

Submitter: Haoqian He <haoqian.he@smartx.com>
Date: Friday, April 26 2024 11:09:46 
DPDK git baseline: Repo:dpdk
  Branch: master
  CommitID:deedfb86a7a6e10064d3cccd593f62072de96e36

139702 --> testing pass

Test environment and result as below:

+------------------+----------+
|   Environment    | abi_test |
+==================+==========+
| Fedora 38        | PASS     |
+------------------+----------+
| Debian Bullseye  | PASS     |
+------------------+----------+
| Fedora 37        | PASS     |
+------------------+----------+
| Debian 12        | PASS     |
+------------------+----------+
| Fedora 39        | PASS     |
+------------------+----------+
| CentOS Stream 8  | PASS     |
+------------------+----------+
| CentOS Stream 9  | PASS     |
+------------------+----------+
| Ubuntu 22.04     | PASS     |
+------------------+----------+
| openSUSE Leap 15 | PASS     |
+------------------+----------+
| RHEL8            | PASS     |
+------------------+----------+


Fedora 38
	Kernel: Depends on container host
	Compiler: clang 16.0.6

Debian Bullseye
	Kernel: 5.4.0-167-generic
	Compiler: gcc 10.2.1-6

Fedora 37
	Kernel: Depends on container host system
	Compiler: gcc 12.3.1

Debian 12
	Kernel: Container Host Kernel
	Compiler: gcc 10.2.1

Fedora 39
	Kernel: Depends on container host
	Compiler: clang 17.0.6

CentOS Stream 8
	Kernel: 5.4.0-167-generic
	Compiler: gcc 8.5.0 20210514

CentOS Stream 9
	Kernel: 5.4.0-167-generic
	Compiler: gcc 11.4.1 20230605

Ubuntu 22.04
	Kernel: 5.4.0-167-generic
	Compiler: gcc 11.4.0

openSUSE Leap 15
	Kernel: 5.4.0-167-generic
	Compiler: gcc 7.5.0

RHEL8
	Kernel: 5.4.0-167-generic
	Compiler: gcc 8.5.0 20210514 (Red Hat 8.5.0-20)

To view detailed results, visit:
https://lab.dpdk.org/results/dashboard/patchsets/29866/

UNH-IOL DPDK Community Lab

To manage your email subscriptions, visit: 
https://lab.dpdk.org/results/dashboard/preferences/subscriptions/