From mboxrd@z Thu Jan  1 00:00:00 1970
Return-Path: <test-report-bounces@dpdk.org>
Received: from mails.dpdk.org (mails.dpdk.org [217.70.189.124])
	by inbox.dpdk.org (Postfix) with ESMTP id E55DD43F15
	for <public@inbox.dpdk.org>; Fri, 26 Apr 2024 15:12:02 +0200 (CEST)
Received: from mails.dpdk.org (localhost [127.0.0.1])
	by mails.dpdk.org (Postfix) with ESMTP id C3D5243DB6;
	Fri, 26 Apr 2024 15:12:02 +0200 (CEST)
Received: from mail-qv1-f97.google.com (mail-qv1-f97.google.com
 [209.85.219.97]) by mails.dpdk.org (Postfix) with ESMTP id 889FF43DB0
 for <test-report@dpdk.org>; Fri, 26 Apr 2024 15:12:01 +0200 (CEST)
Received: by mail-qv1-f97.google.com with SMTP id
 6a1803df08f44-69b44071a07so22579566d6.3
 for <test-report@dpdk.org>; Fri, 26 Apr 2024 06:12:01 -0700 (PDT)
DKIM-Signature: v=1; a=rsa-sha256; c=relaxed/relaxed;
 d=iol.unh.edu; s=unh-iol; t=1714137121; x=1714741921; darn=dpdk.org;
 h=references:in-reply-to:cc:to:from:subject:message-id:date:from:to
 :cc:subject:date:message-id:reply-to;
 bh=lYgteCChrZEyzP59LBQOEewyexRpr6HznTa+swU9W3s=;
 b=jU6HZsALTsaevWwzvz1CGk8YK5zGF1yFb3kz+XJakv0choY6Tpb//pKmkou9Eanvwe
 ZMeLK3t9eaVKcoBWbCcO7OpYLLjS09ZXvs1lGPfrgVVUG0fTylrlIQqSUsFpOL0eM3Bv
 O18DrbmEfabg9YH7ustAsHP3ZrlWWluGk4y/Y=
X-Google-DKIM-Signature: v=1; a=rsa-sha256; c=relaxed/relaxed;
 d=1e100.net; s=20230601; t=1714137121; x=1714741921;
 h=references:in-reply-to:cc:to:from:subject:message-id:date
 :x-gm-message-state:from:to:cc:subject:date:message-id:reply-to;
 bh=lYgteCChrZEyzP59LBQOEewyexRpr6HznTa+swU9W3s=;
 b=GJONjJifK/UT+6Q/Ta5Y7fjQox6Rpf+8gqvuWFMnfB0dR40CPxt2Oq+8doHpnTLEhg
 iRL9KpaLWEYijduHSo8Kdj6cDKwDy04aYLKC/2+JsCR2pqCwyCJatlX91AqqySHno4O8
 29oGp1eSjhFD0bnxvYAC3DjQsIM5q5kXU9pwBsIYVUqPYs1Z+KmINgwHJG/QYr9T+B46
 lwL+RqNy+hBqt06N+EckRC+B8MWc4vwo0SPsqJGwMCuFG/WwhsJmSuLZqmt4dm5sQo/y
 /WXWy5EExjmXwAZ+Fl6scE7yLCrzNjKSLPNptXxu6fTW7hNlvH3UT7Dyytl/6zaw6rwf
 +u1g==
X-Gm-Message-State: AOJu0Yz4Btv2vgOaJk65AQToOph2HxJbml4koNo6vy2g3Rrn4GbUrSi6
 zm/Py5jU/X3pJ4jlIajeq3RukmrbAkLBdTO+rxsgeHR+uVcCbk0wVWUKeSgziw0aKnlV0HE4fjU
 Xfw1DNAEVvKZIA7idbqLwQuXDCyYb5nVNz8Bv/Wx0cknONQjUUte1Kw41
X-Google-Smtp-Source: AGHT+IGMp3IJDCQATA0XCxwx4kxBU487qWzouHg0tZZ2DMAhU1R+EpJ4MIRT/CcaxtYwzF9+YPeZKK7TarWi
X-Received: by 2002:a05:6214:500d:b0:6a0:805c:c260 with SMTP id
 jo13-20020a056214500d00b006a0805cc260mr3134078qvb.10.1714137120900; 
 Fri, 26 Apr 2024 06:12:00 -0700 (PDT)
Received: from postal.iol.unh.edu (postal.iol.unh.edu.
 [2606:4100:3880:1234::84]) by smtp-relay.gmail.com with ESMTPS id
 ib13-20020a0562141c8d00b0069b1859a87csm1395472qvb.77.2024.04.26.06.12.00
 (version=TLS1_2 cipher=ECDHE-ECDSA-AES128-GCM-SHA256 bits=128/128);
 Fri, 26 Apr 2024 06:12:00 -0700 (PDT)
X-Relaying-Domain: iol.unh.edu
Date: Fri, 26 Apr 2024 06:12:00 -0700 (PDT)
Message-ID: <662ba820.050a0220.5645c.cce6SMTPIN_ADDED_MISSING@mx.google.com>
Received: from [172.21.0.6] (unknown [172.18.0.240])
 by postal.iol.unh.edu (Postfix) with ESMTP id 9621E6052514;
 Fri, 26 Apr 2024 09:12:00 -0400 (EDT)
Subject: |SUCCESS| pw139700 [PATCH] [v4] lib/vhost: add flag for async connec
From: dpdklab@iol.unh.edu
To: Test Report <test-report@dpdk.org>
Cc: dpdk-test-reports@iol.unh.edu
In-Reply-To: <20240426084706.709653-1-daniil.ushkov@yandex.ru>
References: <20240426084706.709653-1-daniil.ushkov@yandex.ru>
Content-Type: text/plain
X-BeenThere: test-report@dpdk.org
X-Mailman-Version: 2.1.29
Precedence: list
List-Id: automatic DPDK test reports <test-report.dpdk.org>
List-Unsubscribe: <https://mails.dpdk.org/options/test-report>,
 <mailto:test-report-request@dpdk.org?subject=unsubscribe>
List-Archive: <http://mails.dpdk.org/archives/test-report/>
List-Post: <mailto:test-report@dpdk.org>
List-Help: <mailto:test-report-request@dpdk.org?subject=help>
List-Subscribe: <https://mails.dpdk.org/listinfo/test-report>,
 <mailto:test-report-request@dpdk.org?subject=subscribe>
Errors-To: test-report-bounces@dpdk.org

Test-Label: iol-compile-amd64-testing
Test-Status: SUCCESS
http://dpdk.org/patch/139700

_Testing PASS_

Submitter: Daniil Ushkov <daniil.ushkov@yandex.ru>
Date: Friday, April 26 2024 08:47:06 
DPDK git baseline: Repo:dpdk
  Branch: master
  CommitID:deedfb86a7a6e10064d3cccd593f62072de96e36

139700 --> testing pass

Test environment and result as below:

+---------------------+-------------------+--------------------+----------------------+
|     Environment     | dpdk_msvc_compile | dpdk_meson_compile | dpdk_mingw64_compile |
+=====================+===================+====================+======================+
| Windows Server 2022 | PASS              | PASS               | PASS                 |
+---------------------+-------------------+--------------------+----------------------+
| FreeBSD 13.3        | SKIPPED           | PASS               | SKIPPED              |
+---------------------+-------------------+--------------------+----------------------+
| Windows Server 2019 | SKIPPED           | PASS               | PASS                 |
+---------------------+-------------------+--------------------+----------------------+


Windows Server 2022
	Kernel: 10.0.20348.2031
	Compiler: clang 15.0.7, gcc 8.1.0 (MinGW), and MSVC VS 17.9

FreeBSD 13.3
	Kernel: 13.3-RELEASE-p1
	Compiler: clang 17.0.6

Windows Server 2019
	Kernel: 10.0.17763
	Compiler: clang 14.0 and gcc 8.1.0 (MinGW)

To view detailed results, visit:
https://lab.dpdk.org/results/dashboard/patchsets/29864/

UNH-IOL DPDK Community Lab

To manage your email subscriptions, visit: 
https://lab.dpdk.org/results/dashboard/preferences/subscriptions/