From mboxrd@z Thu Jan  1 00:00:00 1970
Return-Path: <test-report-bounces@dpdk.org>
Received: from mails.dpdk.org (mails.dpdk.org [217.70.189.124])
	by inbox.dpdk.org (Postfix) with ESMTP id 0C4E443F15
	for <public@inbox.dpdk.org>; Fri, 26 Apr 2024 15:58:44 +0200 (CEST)
Received: from mails.dpdk.org (localhost [127.0.0.1])
	by mails.dpdk.org (Postfix) with ESMTP id 0681F43E57;
	Fri, 26 Apr 2024 15:58:44 +0200 (CEST)
Received: from mail-ua1-f98.google.com (mail-ua1-f98.google.com
 [209.85.222.98]) by mails.dpdk.org (Postfix) with ESMTP id C6CF443E53
 for <test-report@dpdk.org>; Fri, 26 Apr 2024 15:58:33 +0200 (CEST)
Received: by mail-ua1-f98.google.com with SMTP id
 a1e0cc1a2514c-7e7af556183so632277241.2
 for <test-report@dpdk.org>; Fri, 26 Apr 2024 06:58:33 -0700 (PDT)
DKIM-Signature: v=1; a=rsa-sha256; c=relaxed/relaxed;
 d=iol.unh.edu; s=unh-iol; t=1714139913; x=1714744713; darn=dpdk.org;
 h=references:in-reply-to:cc:to:from:subject:message-id:date:from:to
 :cc:subject:date:message-id:reply-to;
 bh=UedM0CFYL1QA1+NSSqBbn/8/qqkfWJb8pQsGTvzRdDc=;
 b=KShXHJVYKbDT7VY0PWrINDu3J9wpNW0ZV9GMVFOiHMUOx6xDNVfYaRXd+JOdC8GzS1
 jiPIRKQb6OFevqJBAV6zkUrZwMiLlGruiBozy3vgi08N/E0WpVCiJb86AmNB4RH8yH+d
 YhhvJGLiWRHRNmkPWbtf0E8AgK01W8PmTNyHM=
X-Google-DKIM-Signature: v=1; a=rsa-sha256; c=relaxed/relaxed;
 d=1e100.net; s=20230601; t=1714139913; x=1714744713;
 h=references:in-reply-to:cc:to:from:subject:message-id:date
 :x-gm-message-state:from:to:cc:subject:date:message-id:reply-to;
 bh=UedM0CFYL1QA1+NSSqBbn/8/qqkfWJb8pQsGTvzRdDc=;
 b=m/8Ow+BEEEMdd/g6fHbdIyS1NlR1XKJ80bkY9S/6OKlFFll3l2vNPkt+RRbAnou0NJ
 D9t17NIw73TCi672l3FtExUgTRrOIhrrHS2LRP2k2kTLxjVBmuaYdkRsDkWV7BDq1oiO
 kUgqJSq/m715TRdoJ77SZK5W7srpuR12VePtbUyhKnQ4DDN5F0XhYQRO3bTsdMnsyHX4
 +Cm57Sd8bDbBZbngeUcRUqETOY9+f4Qqdq67pb3mz5cozZBq37GnzAFAtrKAFBYqN1Ck
 /y4ph8CvgsjqU1emRTC5fqaD7STa6E3iprTeUEnV9/hXTKmOQYrkn98OK5GRzogkXEF7
 O0uQ==
X-Gm-Message-State: AOJu0Yy91aosNUxFZSWO9xHZ0ZkpXmjybUxfvPucC7OnsDqh5uxlPS4B
 LKJwF157qSaVGWWgMlv/7S7ARb+HTBsOODwgOU2RCXSNikGkNe8PRS3cqnCHM2s92UHTg/iXS9N
 TL4NW7fg4P0ZzlJmVfs/42n/baSx6LrxsiDQGpJmtg987SD0CYjrgGPSR
X-Google-Smtp-Source: AGHT+IFPBv3P7OVYXCMOluI3kt+jARPIsC3lYtaxYwJ4B7EbKr2AHry6BwLJpoq2EuFH2QKVndVQhQ4lezQL
X-Received: by 2002:a05:6102:3583:b0:47b:b014:9fff with SMTP id
 h3-20020a056102358300b0047bb0149fffmr3109310vsu.5.1714139912859; 
 Fri, 26 Apr 2024 06:58:32 -0700 (PDT)
Received: from postal.iol.unh.edu (postal.iol.unh.edu.
 [2606:4100:3880:1234::84]) by smtp-relay.gmail.com with ESMTPS id
 b15-20020ab0238f000000b007efe43f1d40sm14724uan.19.2024.04.26.06.58.32
 (version=TLS1_2 cipher=ECDHE-ECDSA-AES128-GCM-SHA256 bits=128/128);
 Fri, 26 Apr 2024 06:58:32 -0700 (PDT)
X-Relaying-Domain: iol.unh.edu
Date: Fri, 26 Apr 2024 06:58:32 -0700 (PDT)
Message-ID: <662bb308.b00a0220.fc27.12d2SMTPIN_ADDED_MISSING@mx.google.com>
Received: from [172.21.0.6] (unknown [172.18.0.240])
 by postal.iol.unh.edu (Postfix) with ESMTP id 7BF9B6052514;
 Fri, 26 Apr 2024 09:58:32 -0400 (EDT)
Subject: |SUCCESS| pw139700 [PATCH] [v4] lib/vhost: add flag for async connec
From: dpdklab@iol.unh.edu
To: Test Report <test-report@dpdk.org>
Cc: dpdk-test-reports@iol.unh.edu
In-Reply-To: <20240426084706.709653-1-daniil.ushkov@yandex.ru>
References: <20240426084706.709653-1-daniil.ushkov@yandex.ru>
Content-Type: text/plain
X-BeenThere: test-report@dpdk.org
X-Mailman-Version: 2.1.29
Precedence: list
List-Id: automatic DPDK test reports <test-report.dpdk.org>
List-Unsubscribe: <https://mails.dpdk.org/options/test-report>,
 <mailto:test-report-request@dpdk.org?subject=unsubscribe>
List-Archive: <http://mails.dpdk.org/archives/test-report/>
List-Post: <mailto:test-report@dpdk.org>
List-Help: <mailto:test-report-request@dpdk.org?subject=help>
List-Subscribe: <https://mails.dpdk.org/listinfo/test-report>,
 <mailto:test-report-request@dpdk.org?subject=subscribe>
Errors-To: test-report-bounces@dpdk.org

Test-Label: iol-compile-arm64-testing
Test-Status: SUCCESS
http://dpdk.org/patch/139700

_Testing PASS_

Submitter: Daniil Ushkov <daniil.ushkov@yandex.ru>
Date: Friday, April 26 2024 08:47:06 
DPDK git baseline: Repo:dpdk
  Branch: master
  CommitID:deedfb86a7a6e10064d3cccd593f62072de96e36

139700 --> testing pass

Test environment and result as below:

+--------------------------+--------------------+
|       Environment        | dpdk_meson_compile |
+==========================+====================+
| Ubuntu 20.04 ARM SVE     | PASS               |
+--------------------------+--------------------+
| Fedora 38 (ARM)          | PASS               |
+--------------------------+--------------------+
| Ubuntu 20.04 (ARM)       | PASS               |
+--------------------------+--------------------+
| Debian 12 with MUSDK     | PASS               |
+--------------------------+--------------------+
| Fedora 39 (ARM)          | PASS               |
+--------------------------+--------------------+
| Debian 11 (Buster) (ARM) | PASS               |
+--------------------------+--------------------+
| Debian 12 (arm)          | PASS               |
+--------------------------+--------------------+


Ubuntu 20.04 ARM SVE
	Kernel: 5.4.0-167-generic
	Compiler: gcc (Ubuntu 10.5.0-1ubuntu1~20.04) 10.5.0

Fedora 38 (ARM)
	Kernel: Depends on container host
	Compiler: gcc 13.2.1

Ubuntu 20.04 (ARM)
	Kernel: Container Host Kernel
	Compiler: gcc 9.4.0

Debian 12 with MUSDK
	Kernel: Container Host Kernel
	Compiler: gcc 12.2.0

Fedora 39 (ARM)
	Kernel: Depends on container host
	Compiler: gcc 13.2.1

Debian 11 (Buster) (ARM)
	Kernel: Container Host Kernel
	Compiler: gcc 10.2.1

Debian 12 (arm)
	Kernel: Container Host Kernel
	Compiler: gcc 12.2.0

To view detailed results, visit:
https://lab.dpdk.org/results/dashboard/patchsets/29864/

UNH-IOL DPDK Community Lab

To manage your email subscriptions, visit: 
https://lab.dpdk.org/results/dashboard/preferences/subscriptions/