From mboxrd@z Thu Jan  1 00:00:00 1970
Return-Path: <test-report-bounces@dpdk.org>
Received: from mails.dpdk.org (mails.dpdk.org [217.70.189.124])
	by inbox.dpdk.org (Postfix) with ESMTP id BABDE43F17
	for <public@inbox.dpdk.org>; Fri, 26 Apr 2024 16:00:08 +0200 (CEST)
Received: from mails.dpdk.org (localhost [127.0.0.1])
	by mails.dpdk.org (Postfix) with ESMTP id B49D043E66;
	Fri, 26 Apr 2024 16:00:08 +0200 (CEST)
Received: from mail-io1-f99.google.com (mail-io1-f99.google.com
 [209.85.166.99]) by mails.dpdk.org (Postfix) with ESMTP id C749D43E53
 for <test-report@dpdk.org>; Fri, 26 Apr 2024 16:00:06 +0200 (CEST)
Received: by mail-io1-f99.google.com with SMTP id
 ca18e2360f4ac-7dad81110cfso83305939f.1
 for <test-report@dpdk.org>; Fri, 26 Apr 2024 07:00:06 -0700 (PDT)
DKIM-Signature: v=1; a=rsa-sha256; c=relaxed/relaxed;
 d=iol.unh.edu; s=unh-iol; t=1714140006; x=1714744806; darn=dpdk.org;
 h=references:in-reply-to:cc:to:from:subject:message-id:date:from:to
 :cc:subject:date:message-id:reply-to;
 bh=JxUvWCJdqtuTbUN+y10W0eX3z39wjaLpZWBRmD4IfW0=;
 b=H+itcMF9cZuraW6XDhkG63UxvasXCqaPPItY+AZunccaAB8IGVpmijtnjZsNO0HG5E
 Xc2gp9/X0RiO/xBlhQalhZroMZl838DHVr0MC06Snjh0rWdt1sOa7aObnnX9BGVQgZe5
 bF+r06vRl2VVJZPl3+VjcTqf+CNJSaILJhvlw=
X-Google-DKIM-Signature: v=1; a=rsa-sha256; c=relaxed/relaxed;
 d=1e100.net; s=20230601; t=1714140006; x=1714744806;
 h=references:in-reply-to:cc:to:from:subject:message-id:date
 :x-gm-message-state:from:to:cc:subject:date:message-id:reply-to;
 bh=JxUvWCJdqtuTbUN+y10W0eX3z39wjaLpZWBRmD4IfW0=;
 b=dtyflLuwI8hILUJiWQZdGfHR2+oIKE97VUcNJVrriunk+5CRkgwlKyp50KaWXJE/RO
 94BgyyaivGERjvEOXYxO6+c7Ifbvafm2Bf6Vs3Q4+fGzt7bUbgRQtHdj3wQ7eOeAIQAy
 hcH4ij+A1uhiFlmrQRIr8CBGEQI/GuXPTU2209fFt8oV1CucMjiomKxlMdYtD6IBYI0t
 ODKPDXnRyFwrE3Hj34FeJ1FMoi/1ZS8jCVOMLUV5XHp6+xHGppD7Zna7PS2w9bGqvYsK
 YoFcxx5YIpMGjeatsYOZGaO8zeCYw+aSK6+8OU+LHZCObFhBKl/MjOZptlB3xq5bMadA
 rT6g==
X-Gm-Message-State: AOJu0Yx2BjdgaIIB0q+EtaSmkmI4dra9AZgoMQBrYS7v4+ZML2+wfmdu
 2VWE2+2Yq1MLb6IuJIZmPBFzFaZYSx1vsUuus2vnuu28GBd3g1xJI5hMbE1lEYMYcLqRzsa2hvY
 AY+InYvPhbydaMvDfgPP6bE3+X2+5D6pb+TWLvFx5
X-Google-Smtp-Source: AGHT+IGFeN43b27F9gBbB4x+PrqC6waAtXkMohP1fSuYrouBOxDEjFcCfPVxIqp6eo9FtoER3vnXzSe4yFGe
X-Received: by 2002:a05:6e02:158a:b0:36a:fa56:b0d5 with SMTP id
 m10-20020a056e02158a00b0036afa56b0d5mr3330157ilu.7.1714140006148; 
 Fri, 26 Apr 2024 07:00:06 -0700 (PDT)
Received: from postal.iol.unh.edu (postal.iol.unh.edu. [132.177.123.84])
 by smtp-relay.gmail.com with ESMTPS id
 y13-20020a056e02178d00b0036b30a21edesm971578ilu.22.2024.04.26.07.00.05
 (version=TLS1_2 cipher=ECDHE-ECDSA-AES128-GCM-SHA256 bits=128/128);
 Fri, 26 Apr 2024 07:00:06 -0700 (PDT)
X-Relaying-Domain: iol.unh.edu
Date: Fri, 26 Apr 2024 07:00:06 -0700 (PDT)
Message-ID: <662bb366.050a0220.7e47f.29bbSMTPIN_ADDED_MISSING@mx.google.com>
Received: from [172.21.0.8] (unknown [172.18.0.240])
 by postal.iol.unh.edu (Postfix) with ESMTP id 7EF566052514;
 Fri, 26 Apr 2024 10:00:05 -0400 (EDT)
Subject: |SUCCESS| pw139700 [PATCH] [v4] lib/vhost: add flag for async connec
From: dpdklab@iol.unh.edu
To: Test Report <test-report@dpdk.org>
Cc: dpdk-test-reports@iol.unh.edu
In-Reply-To: <20240426084706.709653-1-daniil.ushkov@yandex.ru>
References: <20240426084706.709653-1-daniil.ushkov@yandex.ru>
Content-Type: text/plain
X-BeenThere: test-report@dpdk.org
X-Mailman-Version: 2.1.29
Precedence: list
List-Id: automatic DPDK test reports <test-report.dpdk.org>
List-Unsubscribe: <https://mails.dpdk.org/options/test-report>,
 <mailto:test-report-request@dpdk.org?subject=unsubscribe>
List-Archive: <http://mails.dpdk.org/archives/test-report/>
List-Post: <mailto:test-report@dpdk.org>
List-Help: <mailto:test-report-request@dpdk.org?subject=help>
List-Subscribe: <https://mails.dpdk.org/listinfo/test-report>,
 <mailto:test-report-request@dpdk.org?subject=subscribe>
Errors-To: test-report-bounces@dpdk.org

Test-Label: iol-unit-amd64-testing
Test-Status: SUCCESS
http://dpdk.org/patch/139700

_Testing PASS_

Submitter: Daniil Ushkov <daniil.ushkov@yandex.ru>
Date: Friday, April 26 2024 08:47:06 
DPDK git baseline: Repo:dpdk
  Branch: master
  CommitID:deedfb86a7a6e10064d3cccd593f62072de96e36

139700 --> testing pass

Test environment and result as below:

+---------------------+----------------+
|     Environment     | dpdk_unit_test |
+=====================+================+
| CentOS Stream 8     | PASS           |
+---------------------+----------------+
| CentOS Stream 9     | PASS           |
+---------------------+----------------+
| Windows Server 2019 | PASS           |
+---------------------+----------------+


CentOS Stream 8
	Kernel: 5.4.0-167-generic
	Compiler: gcc 8.5.0 20210514

CentOS Stream 9
	Kernel: 5.4.0-167-generic
	Compiler: gcc 11.4.1 20230605

Windows Server 2019
	Kernel: 10.0.17763
	Compiler: clang 14.0 and gcc 8.1.0 (MinGW)

To view detailed results, visit:
https://lab.dpdk.org/results/dashboard/patchsets/29864/

UNH-IOL DPDK Community Lab

To manage your email subscriptions, visit: 
https://lab.dpdk.org/results/dashboard/preferences/subscriptions/