From mboxrd@z Thu Jan  1 00:00:00 1970
Return-Path: <test-report-bounces@dpdk.org>
Received: from mails.dpdk.org (mails.dpdk.org [217.70.189.124])
	by inbox.dpdk.org (Postfix) with ESMTP id 6F65C43F17
	for <public@inbox.dpdk.org>; Fri, 26 Apr 2024 16:01:53 +0200 (CEST)
Received: from mails.dpdk.org (localhost [127.0.0.1])
	by mails.dpdk.org (Postfix) with ESMTP id 6A33643E57;
	Fri, 26 Apr 2024 16:01:53 +0200 (CEST)
Received: from mail-yb1-f226.google.com (mail-yb1-f226.google.com
 [209.85.219.226])
 by mails.dpdk.org (Postfix) with ESMTP id 529C443E53
 for <test-report@dpdk.org>; Fri, 26 Apr 2024 16:01:52 +0200 (CEST)
Received: by mail-yb1-f226.google.com with SMTP id
 3f1490d57ef6-de5a4d737f1so995373276.2
 for <test-report@dpdk.org>; Fri, 26 Apr 2024 07:01:52 -0700 (PDT)
DKIM-Signature: v=1; a=rsa-sha256; c=relaxed/relaxed;
 d=iol.unh.edu; s=unh-iol; t=1714140111; x=1714744911; darn=dpdk.org;
 h=references:in-reply-to:cc:to:from:subject:message-id:date:from:to
 :cc:subject:date:message-id:reply-to;
 bh=e/IhXWigPTI0KVs+ZUDxVVuO9WAVxSpFDKRP3CbgOMI=;
 b=FCd1TD58D/HusPsxDlzTfnLw7v2LWHCtSPaWp4rX6+0XN7VJNDFEgAUVUI0uO3Q8dz
 cTC05UAhi+F9TgWQ4XtUHbl859kJB8riLpqUjnPUG9/eEwOsLIS/U+8UoQtVTS19dCtL
 ZgRz7n3VvcQYRCHn3irJKU+Ox4ndUYJH8q5/4=
X-Google-DKIM-Signature: v=1; a=rsa-sha256; c=relaxed/relaxed;
 d=1e100.net; s=20230601; t=1714140111; x=1714744911;
 h=references:in-reply-to:cc:to:from:subject:message-id:date
 :x-gm-message-state:from:to:cc:subject:date:message-id:reply-to;
 bh=e/IhXWigPTI0KVs+ZUDxVVuO9WAVxSpFDKRP3CbgOMI=;
 b=ZCqVLeeQEILEdPAyyLPq6pDZv0xjG3EUvhLA8+ZEVxKSKVShFptP9DteTLNL8pE69t
 mST0mjdVrzRxufHTCt43krbkf4+tqIHDZlQXYxf4N7SMeO4F2S1AWNpOjmOG3Ks5eUhO
 f2hvfo/UcF68WBrSvsI6kOhQkrmQ/akPpltEef0d8jkyT1HO7cqUqoOJWn2fsbQuqd/R
 GG0v9Knii7Xsb3lZwO51lM/lNAEqegQPvoqknBjhVD92UamO9CBcjg4v8keYz6ZoCaCG
 F5oNcd9U/eaVzmG6a9X1OhAePNQK9ZCGU5HJU7RWT8WbqiZAnmrnQx+/Xl8au/kPxzbg
 +QIg==
X-Gm-Message-State: AOJu0YzM0sTK1Zue71tv2a2uE/817MiZTg3WLBAGVRYZRmME5puFHsVB
 uUExGHkKenVGwJjh+m5bgsplsl0oGd9NzywmvnaW+ZRVUrglYSUGZHHj/PH6FWNxY86k9RfDdIG
 O/M/tLpuEoMTys/nEeN+T138KnhtjsgIZi9VqD0Jh3/ldrIWSZpQC37Ab
X-Google-Smtp-Source: AGHT+IGW1iB0uN8H9yMZzd3H7WuNEgw0BKlgVZOxXmnsgkRJhKRwErMjNaR165iTwu0kkgQYC6prAGGqLFvG
X-Received: by 2002:a25:904:0:b0:de4:70e7:1024 with SMTP id
 4-20020a250904000000b00de470e71024mr2892950ybj.28.1714140111633; 
 Fri, 26 Apr 2024 07:01:51 -0700 (PDT)
Received: from postal.iol.unh.edu (postal.iol.unh.edu.
 [2606:4100:3880:1234::84]) by smtp-relay.gmail.com with ESMTPS id
 t3-20020a056902124300b00de4c30f4f8dsm766837ybu.7.2024.04.26.07.01.51
 (version=TLS1_2 cipher=ECDHE-ECDSA-AES128-GCM-SHA256 bits=128/128);
 Fri, 26 Apr 2024 07:01:51 -0700 (PDT)
X-Relaying-Domain: iol.unh.edu
Date: Fri, 26 Apr 2024 07:01:51 -0700 (PDT)
Message-ID: <662bb3cf.050a0220.3022.58bdSMTPIN_ADDED_MISSING@mx.google.com>
Received: from [172.21.0.8] (unknown [172.18.0.240])
 by postal.iol.unh.edu (Postfix) with ESMTP id 40FB06052514;
 Fri, 26 Apr 2024 10:01:51 -0400 (EDT)
Subject: |SUCCESS| pw139700 [PATCH] [v4] lib/vhost: add flag for async connec
From: dpdklab@iol.unh.edu
To: Test Report <test-report@dpdk.org>
Cc: dpdk-test-reports@iol.unh.edu
In-Reply-To: <20240426084706.709653-1-daniil.ushkov@yandex.ru>
References: <20240426084706.709653-1-daniil.ushkov@yandex.ru>
Content-Type: text/plain
X-BeenThere: test-report@dpdk.org
X-Mailman-Version: 2.1.29
Precedence: list
List-Id: automatic DPDK test reports <test-report.dpdk.org>
List-Unsubscribe: <https://mails.dpdk.org/options/test-report>,
 <mailto:test-report-request@dpdk.org?subject=unsubscribe>
List-Archive: <http://mails.dpdk.org/archives/test-report/>
List-Post: <mailto:test-report@dpdk.org>
List-Help: <mailto:test-report-request@dpdk.org?subject=help>
List-Subscribe: <https://mails.dpdk.org/listinfo/test-report>,
 <mailto:test-report-request@dpdk.org?subject=subscribe>
Errors-To: test-report-bounces@dpdk.org

Test-Label: iol-abi-testing
Test-Status: SUCCESS
http://dpdk.org/patch/139700

_Testing PASS_

Submitter: Daniil Ushkov <daniil.ushkov@yandex.ru>
Date: Friday, April 26 2024 08:47:06 
DPDK git baseline: Repo:dpdk
  Branch: master
  CommitID:deedfb86a7a6e10064d3cccd593f62072de96e36

139700 --> testing pass

Test environment and result as below:

+-----------------+----------+
|   Environment   | abi_test |
+=================+==========+
| CentOS Stream 8 | PASS     |
+-----------------+----------+
| Ubuntu 22.04    | PASS     |
+-----------------+----------+
| CentOS Stream 9 | PASS     |
+-----------------+----------+


CentOS Stream 8
	Kernel: 5.4.0-167-generic
	Compiler: gcc 8.5.0 20210514

Ubuntu 22.04
	Kernel: 5.4.0-167-generic
	Compiler: gcc 11.4.0

CentOS Stream 9
	Kernel: 5.4.0-167-generic
	Compiler: gcc 11.4.1 20230605

To view detailed results, visit:
https://lab.dpdk.org/results/dashboard/patchsets/29864/

UNH-IOL DPDK Community Lab

To manage your email subscriptions, visit: 
https://lab.dpdk.org/results/dashboard/preferences/subscriptions/