From mboxrd@z Thu Jan  1 00:00:00 1970
Return-Path: <test-report-bounces@dpdk.org>
Received: from mails.dpdk.org (mails.dpdk.org [217.70.189.124])
	by inbox.dpdk.org (Postfix) with ESMTP id 48BDF43F17
	for <public@inbox.dpdk.org>; Fri, 26 Apr 2024 16:11:57 +0200 (CEST)
Received: from mails.dpdk.org (localhost [127.0.0.1])
	by mails.dpdk.org (Postfix) with ESMTP id 42AB143E57;
	Fri, 26 Apr 2024 16:11:57 +0200 (CEST)
Received: from mail-qv1-f100.google.com (mail-qv1-f100.google.com
 [209.85.219.100])
 by mails.dpdk.org (Postfix) with ESMTP id 1F15543E53
 for <test-report@dpdk.org>; Fri, 26 Apr 2024 16:11:56 +0200 (CEST)
Received: by mail-qv1-f100.google.com with SMTP id
 6a1803df08f44-6a04bae513cso10197226d6.1
 for <test-report@dpdk.org>; Fri, 26 Apr 2024 07:11:56 -0700 (PDT)
DKIM-Signature: v=1; a=rsa-sha256; c=relaxed/relaxed;
 d=iol.unh.edu; s=unh-iol; t=1714140715; x=1714745515; darn=dpdk.org;
 h=references:in-reply-to:cc:to:from:subject:message-id:date:from:to
 :cc:subject:date:message-id:reply-to;
 bh=M0OxZ+XS152aS2Y/oImzEg7hVTcfwZVg2JNryQDetF8=;
 b=L6Jm7LxzIv/lM9B/tMLeiWMBSNdQ3Gix14QMU3cN4p90ra49qfnCPjVmsC3Aavv/OA
 e1CvtNXAegZlSx09pS7NH0hyo4SYLRPCvHsKpgBSkRrCXBJVX41RufuyZf8B7NVX61xr
 YxU6JtPbZeQcilJhNVzN6wepoY8l2IjgmDgWo=
X-Google-DKIM-Signature: v=1; a=rsa-sha256; c=relaxed/relaxed;
 d=1e100.net; s=20230601; t=1714140715; x=1714745515;
 h=references:in-reply-to:cc:to:from:subject:message-id:date
 :x-gm-message-state:from:to:cc:subject:date:message-id:reply-to;
 bh=M0OxZ+XS152aS2Y/oImzEg7hVTcfwZVg2JNryQDetF8=;
 b=cyUlOvWOZhhog1AFOJcYox5q3Rq7DsFGZF2HYd39cRQSFr7SW75Tbjdl1r6a2CSNnT
 YQ+j52t1qQwo7rBAzfM6ihy54PmtmpDYvqKQY5dKRjnF/UPRp7zFsQcFPFSGrjVBxsEF
 YEsEtGnRWkBmgc5F8nRYsfPVoqiPSRSMStZvUs6O9Aa2xbfun8zn/xyFJt/m2Bd79yFw
 d94J/mxzBzjSTXESA9Nd/MAmyhF3f9Q6Xy2vBFxIFnjt+aHj6T/vAdjvMeMR5/EMY1jW
 KctJ7+3MPCpQ1jvHyqPoGUBZRLkRvXAyZG3S2s58DpV4eRhNj5EbPetzWNpyqFQj97bD
 g4wQ==
X-Gm-Message-State: AOJu0Yz9nTcQdp0ETnPQG6XEJOh4gVckkRIeDDsZCJJZQoZUh7PP66WR
 54klECj2czagU/VZO5BdjdPiQ3hGLTzusvDBRnrA/1lOtp4IHybCrdvjmggXZPvQ76cXwMcIo+O
 VS0teQN77InMv4pWeVvChhT0A0QK686XzoXlJIDbj
X-Google-Smtp-Source: AGHT+IFJG88qT9cnbzVfvIklFaT6cS+lFXsI5oOx2bvL2e6qsrd5ihBstr4l6oTsbo8n1pqJhSFkQXrLDt8P
X-Received: by 2002:ad4:5d41:0:b0:6a0:83a5:deaf with SMTP id
 jk1-20020ad45d41000000b006a083a5deafmr4261330qvb.29.1714140715525; 
 Fri, 26 Apr 2024 07:11:55 -0700 (PDT)
Received: from postal.iol.unh.edu (postal.iol.unh.edu. [132.177.123.84])
 by smtp-relay.gmail.com with ESMTPS id
 a9-20020ad45c49000000b0069c5d4aef0bsm1437091qva.20.2024.04.26.07.11.55
 (version=TLS1_2 cipher=ECDHE-ECDSA-AES128-GCM-SHA256 bits=128/128);
 Fri, 26 Apr 2024 07:11:55 -0700 (PDT)
X-Relaying-Domain: iol.unh.edu
Date: Fri, 26 Apr 2024 07:11:55 -0700 (PDT)
Message-ID: <662bb62b.d40a0220.68bfd.e0ddSMTPIN_ADDED_MISSING@mx.google.com>
Received: from [172.21.0.7] (unknown [172.18.0.240])
 by postal.iol.unh.edu (Postfix) with ESMTP id 3E8A5604D420;
 Fri, 26 Apr 2024 10:11:55 -0400 (EDT)
Subject: |SUCCESS| pw139700 [PATCH] [v4] lib/vhost: add flag for async connec
From: dpdklab@iol.unh.edu
To: Test Report <test-report@dpdk.org>
Cc: dpdk-test-reports@iol.unh.edu
In-Reply-To: <20240426084706.709653-1-daniil.ushkov@yandex.ru>
References: <20240426084706.709653-1-daniil.ushkov@yandex.ru>
Content-Type: text/plain
X-BeenThere: test-report@dpdk.org
X-Mailman-Version: 2.1.29
Precedence: list
List-Id: automatic DPDK test reports <test-report.dpdk.org>
List-Unsubscribe: <https://mails.dpdk.org/options/test-report>,
 <mailto:test-report-request@dpdk.org?subject=unsubscribe>
List-Archive: <http://mails.dpdk.org/archives/test-report/>
List-Post: <mailto:test-report@dpdk.org>
List-Help: <mailto:test-report-request@dpdk.org?subject=help>
List-Subscribe: <https://mails.dpdk.org/listinfo/test-report>,
 <mailto:test-report-request@dpdk.org?subject=subscribe>
Errors-To: test-report-bounces@dpdk.org

Test-Label: iol-unit-amd64-testing
Test-Status: SUCCESS
http://dpdk.org/patch/139700

_Testing PASS_

Submitter: Daniil Ushkov <daniil.ushkov@yandex.ru>
Date: Friday, April 26 2024 08:47:06 
DPDK git baseline: Repo:dpdk
  Branch: master
  CommitID:deedfb86a7a6e10064d3cccd593f62072de96e36

139700 --> testing pass

Test environment and result as below:

+---------------------+----------------+
|     Environment     | dpdk_unit_test |
+=====================+================+
| CentOS Stream 8     | PASS           |
+---------------------+----------------+
| CentOS Stream 9     | PASS           |
+---------------------+----------------+
| Windows Server 2019 | PASS           |
+---------------------+----------------+
| Debian Bullseye     | PASS           |
+---------------------+----------------+
| Debian 12           | PASS           |
+---------------------+----------------+
| Fedora 37           | PASS           |
+---------------------+----------------+
| openSUSE Leap 15    | PASS           |
+---------------------+----------------+


CentOS Stream 8
	Kernel: 5.4.0-167-generic
	Compiler: gcc 8.5.0 20210514

CentOS Stream 9
	Kernel: 5.4.0-167-generic
	Compiler: gcc 11.4.1 20230605

Windows Server 2019
	Kernel: 10.0.17763
	Compiler: clang 14.0 and gcc 8.1.0 (MinGW)

Debian Bullseye
	Kernel: 5.4.0-167-generic
	Compiler: gcc 10.2.1-6

Debian 12
	Kernel: Container Host Kernel
	Compiler: gcc 10.2.1

Fedora 37
	Kernel: Depends on container host system
	Compiler: gcc 12.3.1

openSUSE Leap 15
	Kernel: 5.4.0-167-generic
	Compiler: gcc 7.5.0

To view detailed results, visit:
https://lab.dpdk.org/results/dashboard/patchsets/29864/

UNH-IOL DPDK Community Lab

To manage your email subscriptions, visit: 
https://lab.dpdk.org/results/dashboard/preferences/subscriptions/