From mboxrd@z Thu Jan  1 00:00:00 1970
Return-Path: <test-report-bounces@dpdk.org>
Received: from mails.dpdk.org (mails.dpdk.org [217.70.189.124])
	by inbox.dpdk.org (Postfix) with ESMTP id 3F24243F17
	for <public@inbox.dpdk.org>; Fri, 26 Apr 2024 16:26:01 +0200 (CEST)
Received: from mails.dpdk.org (localhost [127.0.0.1])
	by mails.dpdk.org (Postfix) with ESMTP id 3881643E57;
	Fri, 26 Apr 2024 16:26:01 +0200 (CEST)
Received: from mail-io1-f98.google.com (mail-io1-f98.google.com
 [209.85.166.98]) by mails.dpdk.org (Postfix) with ESMTP id A89ED43E53
 for <test-report@dpdk.org>; Fri, 26 Apr 2024 16:25:59 +0200 (CEST)
Received: by mail-io1-f98.google.com with SMTP id
 ca18e2360f4ac-7dddba0f02fso91537239f.3
 for <test-report@dpdk.org>; Fri, 26 Apr 2024 07:25:59 -0700 (PDT)
DKIM-Signature: v=1; a=rsa-sha256; c=relaxed/relaxed;
 d=iol.unh.edu; s=unh-iol; t=1714141559; x=1714746359; darn=dpdk.org;
 h=references:in-reply-to:cc:to:from:subject:message-id:date:from:to
 :cc:subject:date:message-id:reply-to;
 bh=aIfZ95H54vAX0oUELAy5eASq//sawMLywQqFmQoYLBo=;
 b=Qzhj9fUIA6RVQLH6+98ZnQiAdVxaWad6e43bDqtWxoTlQ++WMRM05eFlsoc30epb6D
 BQ40NDpSTdVXypnFgY1WgPPYZ4WM+eVhDSkdolqunqvAQK7UI+BAbEo98kY7kBs0BiEe
 BV+qoaVWmqzSUgpOh0g6/+DevNDvsh2Itn7TA=
X-Google-DKIM-Signature: v=1; a=rsa-sha256; c=relaxed/relaxed;
 d=1e100.net; s=20230601; t=1714141559; x=1714746359;
 h=references:in-reply-to:cc:to:from:subject:message-id:date
 :x-gm-message-state:from:to:cc:subject:date:message-id:reply-to;
 bh=aIfZ95H54vAX0oUELAy5eASq//sawMLywQqFmQoYLBo=;
 b=VfqRBHKX+QcAzJfKs/vCK9aGI98RoEXyb+3gZph/PvUlLUAjwEmfzmGHkdIzcEP0ml
 ZMl6qYFtYQd3cd8RlXeQ82WCZkn6dl7L6gkAjTvY1ZkVsmoL+ESzaghaQPNBs+t8VObO
 aF0kIK2jTKhyHOoCSRY3hf4zK+nW45ZFTr3Fyr3F6aQi+qawD6c8uWP3gRPuuA9FUlHn
 zsmhbv+Y3xL5IqM3VBhKypumkGitqgMEbOiMTG7669z/nlSLMB1OIyePYElzwZxo98xR
 BXwqQYv3AULt0nQ/z/0GVjx3lw025sw2ftoOdrW/TXWF1Fka8iaMXhgEBAxVAPL2g5+M
 UyTg==
X-Gm-Message-State: AOJu0Ywzx/x/pON6AZ6YK6oxr/UHRQNm4/SYjLtFU2uIDYs7gr0AVQ6H
 RmPDRp2p2o3Mi8obfC8kH6L3jEnGhtq8YPScYhnmc0a/5X21lLVvCCurCIctR43c98f+ZUo1j4B
 6c31ujQgtjJ3YuvI9mq+3MHMTsUPZr8HCNGfMjZBSiLYKb6WD5PZLZL3u
X-Google-Smtp-Source: AGHT+IFq24PGIaafUs8Z2jl7/9IshQkkUqXxV1/4o6B7pja6ps8baCEFjMSh1Z3kos1s9GqYEy0MYCr3L65A
X-Received: by 2002:a6b:6417:0:b0:7d0:8cff:cff3 with SMTP id
 t23-20020a6b6417000000b007d08cffcff3mr3315100iog.8.1714141559037; 
 Fri, 26 Apr 2024 07:25:59 -0700 (PDT)
Received: from postal.iol.unh.edu (postal.iol.unh.edu.
 [2606:4100:3880:1234::84]) by smtp-relay.gmail.com with ESMTPS id
 i22-20020a05663813d600b004829ab8170asm1269873jaj.9.2024.04.26.07.25.58
 (version=TLS1_2 cipher=ECDHE-ECDSA-AES128-GCM-SHA256 bits=128/128);
 Fri, 26 Apr 2024 07:25:59 -0700 (PDT)
X-Relaying-Domain: iol.unh.edu
Date: Fri, 26 Apr 2024 07:25:59 -0700 (PDT)
Message-ID: <662bb977.050a0220.8336.3d69SMTPIN_ADDED_MISSING@mx.google.com>
Received: from [172.21.0.6] (unknown [172.18.0.240])
 by postal.iol.unh.edu (Postfix) with ESMTP id A81DB604D420;
 Fri, 26 Apr 2024 10:25:58 -0400 (EDT)
Subject: |SUCCESS| pw139700 [PATCH] [v4] lib/vhost: add flag for async connec
From: dpdklab@iol.unh.edu
To: Test Report <test-report@dpdk.org>
Cc: dpdk-test-reports@iol.unh.edu
In-Reply-To: <20240426084706.709653-1-daniil.ushkov@yandex.ru>
References: <20240426084706.709653-1-daniil.ushkov@yandex.ru>
Content-Type: text/plain
X-BeenThere: test-report@dpdk.org
X-Mailman-Version: 2.1.29
Precedence: list
List-Id: automatic DPDK test reports <test-report.dpdk.org>
List-Unsubscribe: <https://mails.dpdk.org/options/test-report>,
 <mailto:test-report-request@dpdk.org?subject=unsubscribe>
List-Archive: <http://mails.dpdk.org/archives/test-report/>
List-Post: <mailto:test-report@dpdk.org>
List-Help: <mailto:test-report-request@dpdk.org?subject=help>
List-Subscribe: <https://mails.dpdk.org/listinfo/test-report>,
 <mailto:test-report-request@dpdk.org?subject=subscribe>
Errors-To: test-report-bounces@dpdk.org

Test-Label: iol-unit-arm64-testing
Test-Status: SUCCESS
http://dpdk.org/patch/139700

_Testing PASS_

Submitter: Daniil Ushkov <daniil.ushkov@yandex.ru>
Date: Friday, April 26 2024 08:47:06 
DPDK git baseline: Repo:dpdk
  Branch: master
  CommitID:deedfb86a7a6e10064d3cccd593f62072de96e36

139700 --> testing pass

Test environment and result as below:

+-----------------------------+----------------+---------------------------+------------------------------+--------------+
|         Environment         | dpdk_unit_test | cryptodev_sw_zuc_autotest | cryptodev_sw_snow3g_autotest | lpm_autotest |
+=============================+================+===========================+==============================+==============+
| 32-bit Ubuntu 20.04.4 (ARM) | PASS           | SKIPPED                   | SKIPPED                      | SKIPPED      |
+-----------------------------+----------------+---------------------------+------------------------------+--------------+
| Debian 12 (arm)             | PASS           | PASS                      | PASS                         | SKIPPED      |
+-----------------------------+----------------+---------------------------+------------------------------+--------------+
| Debian 11 (Buster) (ARM)    | PASS           | SKIPPED                   | SKIPPED                      | SKIPPED      |
+-----------------------------+----------------+---------------------------+------------------------------+--------------+
| Fedora 38 (ARM)             | PASS           | SKIPPED                   | SKIPPED                      | SKIPPED      |
+-----------------------------+----------------+---------------------------+------------------------------+--------------+
| CentOS Stream 9 (ARM)       | PASS           | SKIPPED                   | SKIPPED                      | SKIPPED      |
+-----------------------------+----------------+---------------------------+------------------------------+--------------+
| Fedora 37 (ARM)             | PASS           | SKIPPED                   | SKIPPED                      | SKIPPED      |
+-----------------------------+----------------+---------------------------+------------------------------+--------------+
| Fedora 39 (ARM)             | PASS           | SKIPPED                   | SKIPPED                      | SKIPPED      |
+-----------------------------+----------------+---------------------------+------------------------------+--------------+
| Fedora 39 (ARM Clang)       | PASS           | SKIPPED                   | SKIPPED                      | SKIPPED      |
+-----------------------------+----------------+---------------------------+------------------------------+--------------+
| Ubuntu 20.04 ARM SVE        | SKIPPED        | SKIPPED                   | SKIPPED                      | PASS         |
+-----------------------------+----------------+---------------------------+------------------------------+--------------+


32-bit Ubuntu 20.04.4 (ARM)
	Kernel: 5.4.0-155-generic aarch64
	Compiler: gcc 9.4

Debian 12 (arm)
	Kernel: Container Host Kernel
	Compiler: gcc 12.2.0

Debian 11 (Buster) (ARM)
	Kernel: Container Host Kernel
	Compiler: gcc 10.2.1

Fedora 38 (ARM)
	Kernel: Depends on container host
	Compiler: gcc 13.2.1

CentOS Stream 9 (ARM)
	Kernel: Container Host Kernel
	Compiler: gcc 11.4.1

Fedora 37 (ARM)
	Kernel: Depends on container host
	Compiler: gcc 12.3.1

Fedora 39 (ARM)
	Kernel: Depends on container host
	Compiler: gcc 13.2.1

Fedora 39 (ARM Clang)
	Kernel: Depends on container host
	Compiler: clang 17.0.6

Ubuntu 20.04 ARM SVE
	Kernel: 5.4.0-167-generic
	Compiler: gcc (Ubuntu 10.5.0-1ubuntu1~20.04) 10.5.0

To view detailed results, visit:
https://lab.dpdk.org/results/dashboard/patchsets/29864/

UNH-IOL DPDK Community Lab

To manage your email subscriptions, visit: 
https://lab.dpdk.org/results/dashboard/preferences/subscriptions/